BEGIN:VCALENDAR
VERSION:2.0
PRODID:-//Normanton All Saints CE (A) Infant School - ECPv6.15.20//NONSGML v1.0//EN
CALSCALE:GREGORIAN
METHOD:PUBLISH
X-WR-CALNAME:Normanton All Saints CE (A) Infant School
X-ORIGINAL-URL:https://allsaintsinfantsnormanton.co.uk
X-WR-CALDESC:Events for Normanton All Saints CE (A) Infant School
REFRESH-INTERVAL;VALUE=DURATION:PT1H
X-Robots-Tag:noindex
X-PUBLISHED-TTL:PT1H
BEGIN:VTIMEZONE
TZID:Europe/London
BEGIN:DAYLIGHT
TZOFFSETFROM:+0000
TZOFFSETTO:+0100
TZNAME:BST
DTSTART:20250330T010000
END:DAYLIGHT
BEGIN:STANDARD
TZOFFSETFROM:+0100
TZOFFSETTO:+0000
TZNAME:GMT
DTSTART:20251026T010000
END:STANDARD
BEGIN:DAYLIGHT
TZOFFSETFROM:+0000
TZOFFSETTO:+0100
TZNAME:BST
DTSTART:20260329T010000
END:DAYLIGHT
BEGIN:STANDARD
TZOFFSETFROM:+0100
TZOFFSETTO:+0000
TZNAME:GMT
DTSTART:20261025T010000
END:STANDARD
BEGIN:DAYLIGHT
TZOFFSETFROM:+0000
TZOFFSETTO:+0100
TZNAME:BST
DTSTART:20270328T010000
END:DAYLIGHT
BEGIN:STANDARD
TZOFFSETFROM:+0100
TZOFFSETTO:+0000
TZNAME:GMT
DTSTART:20271031T010000
END:STANDARD
END:VTIMEZONE
BEGIN:VEVENT
DTSTART;VALUE=DATE:20260423
DTEND;VALUE=DATE:20260424
DTSTAMP:20260423T100244
CREATED:20260414T083352Z
LAST-MODIFIED:20260414T083352Z
UID:14875-1776902400-1776988799@allsaintsinfantsnormanton.co.uk
SUMMARY:Upper Foundation Stage visit to Normanton Library
DESCRIPTION:
URL:https://allsaintsinfantsnormanton.co.uk/event/upper-foundation-stage-visit-to-normanton-library/
CATEGORIES:EYFS
END:VEVENT
BEGIN:VEVENT
DTSTART;VALUE=DATE:20260429
DTEND;VALUE=DATE:20260430
DTSTAMP:20260423T100244
CREATED:20260416T104115Z
LAST-MODIFIED:20260416T104115Z
UID:14908-1777420800-1777507199@allsaintsinfantsnormanton.co.uk
SUMMARY:Class Photographs - Main school
DESCRIPTION:Tempest Photography will be visiting main school to take group class photographs. All children to be in full uniform please.
URL:https://allsaintsinfantsnormanton.co.uk/event/class-photographs-main-school/
CATEGORIES:EYFS,Key stage 1
END:VEVENT
BEGIN:VEVENT
DTSTART;TZID=Europe/London:20260429T151500
DTEND;TZID=Europe/London:20260429T161500
DTSTAMP:20260423T100244
CREATED:20260416T101441Z
LAST-MODIFIED:20260416T101441Z
UID:14880-1777475700-1777479300@allsaintsinfantsnormanton.co.uk
SUMMARY:UFS Outdoor after school club with Miss Ballance
DESCRIPTION:
URL:https://allsaintsinfantsnormanton.co.uk/event/ufs-outdoor-after-school-club-with-miss-ballance-2/
CATEGORIES:EYFS
END:VEVENT
BEGIN:VEVENT
DTSTART;TZID=Europe/London:20260430T090000
DTEND;TZID=Europe/London:20260430T093000
DTSTAMP:20260423T100244
CREATED:20260413T124327Z
LAST-MODIFIED:20260413T124327Z
UID:14759-1777539600-1777541400@allsaintsinfantsnormanton.co.uk
SUMMARY:Mrs Carroll's (Bees) class worship
DESCRIPTION:9am in the school hall. All parents and family members are welcome to join us.
URL:https://allsaintsinfantsnormanton.co.uk/event/mrs-carrolls-bees-class-worship-2/
CATEGORIES:EYFS,Parents & Carers
END:VEVENT
BEGIN:VEVENT
DTSTART;TZID=Europe/London:20260513T151500
DTEND;TZID=Europe/London:20260513T161500
DTSTAMP:20260423T100244
CREATED:20260416T101642Z
LAST-MODIFIED:20260416T101642Z
UID:14884-1778685300-1778688900@allsaintsinfantsnormanton.co.uk
SUMMARY:UFS Outdoor after school club with Miss Ballance
DESCRIPTION:
URL:https://allsaintsinfantsnormanton.co.uk/event/ufs-outdoor-after-school-club-with-miss-ballance-4/
CATEGORIES:EYFS
END:VEVENT
BEGIN:VEVENT
DTSTART;TZID=Europe/London:20260519T090000
DTEND;TZID=Europe/London:20260519T093000
DTSTAMP:20260423T100244
CREATED:20260413T133428Z
LAST-MODIFIED:20260413T133428Z
UID:14785-1779181200-1779183000@allsaintsinfantsnormanton.co.uk
SUMMARY:Mrs Burton's (Giraffes) class worship
DESCRIPTION:9am in the school hall. All parents and family members are welcome to join us.
URL:https://allsaintsinfantsnormanton.co.uk/event/mrs-burtons-giraffes-class-worship-2/
CATEGORIES:EYFS,Parents & Carers
END:VEVENT
BEGIN:VEVENT
DTSTART;TZID=Europe/London:20260625T090000
DTEND;TZID=Europe/London:20260625T093000
DTSTAMP:20260423T100244
CREATED:20260413T141822Z
LAST-MODIFIED:20260413T141822Z
UID:14823-1782378000-1782379800@allsaintsinfantsnormanton.co.uk
SUMMARY:Mrs Anderson and Miss Ballance's (Turtles) class worship
DESCRIPTION:9am in the school hall. All parents and family members are welcome to join us.
URL:https://allsaintsinfantsnormanton.co.uk/event/mrs-anderson-and-miss-ballances-turtles-class-worship/
CATEGORIES:EYFS,Parents & Carers
END:VEVENT
BEGIN:VEVENT
DTSTART;TZID=Europe/London:20260625T133000
DTEND;TZID=Europe/London:20260625T151500
DTSTAMP:20260423T100244
CREATED:20260413T135919Z
LAST-MODIFIED:20260413T135919Z
UID:14808-1782394200-1782400500@allsaintsinfantsnormanton.co.uk
SUMMARY:Upper Foundation Stage sports day - Parents and family members welcome to attend
DESCRIPTION:The sports day will be held at 1:30pm on the sports field. We would love to see as many parents and family members come along to watch and cheer the children on. \nThis event will be held outside\, parents will be informed if the date needs to change to to weather conditions.
URL:https://allsaintsinfantsnormanton.co.uk/event/upper-foundation-stage-sports-day-parents-and-family-members-welcome-to-attend/
CATEGORIES:EYFS,Parents & Carers
END:VEVENT
BEGIN:VEVENT
DTSTART;VALUE=DATE:20260630
DTEND;VALUE=DATE:20260701
DTSTAMP:20260423T100244
CREATED:20260413T142944Z
LAST-MODIFIED:20260413T142944Z
UID:14832-1782777600-1782863999@allsaintsinfantsnormanton.co.uk
SUMMARY:UFS School Trip to M&S Archives in Leeds
DESCRIPTION:The three UFS classes will be visiting the M&S Archives in Leeds. More information and consent forms will be sent out nearer the time.
URL:https://allsaintsinfantsnormanton.co.uk/event/ufs-school-trip-to-ms-archives-in-leeds/
CATEGORIES:EYFS,Parents & Carers
END:VEVENT
BEGIN:VEVENT
DTSTART;VALUE=DATE:20260713
DTEND;VALUE=DATE:20260714
DTSTAMP:20260423T100244
CREATED:20260413T145123Z
LAST-MODIFIED:20260413T145123Z
UID:14857-1783900800-1783987199@allsaintsinfantsnormanton.co.uk
SUMMARY:Upper Foundation Stage Cinema and Celebrate event
DESCRIPTION:Parents and carers of children about to leave our UFS classes will be invited to spend time with their children in the school hall\, to watch a presentation showing all they have achieved in their first year at school.  We advise you to bring the tissues! \nTimes to be confirmed closer to the date.
URL:https://allsaintsinfantsnormanton.co.uk/event/upper-foundation-stage-cinema-and-celebrate-event/
CATEGORIES:EYFS,Parents & Carers
END:VEVENT
BEGIN:VEVENT
DTSTART;VALUE=DATE:20260715
DTEND;VALUE=DATE:20260717
DTSTAMP:20260423T100244
CREATED:20260413T145912Z
LAST-MODIFIED:20260413T145912Z
UID:14863-1784073600-1784246399@allsaintsinfantsnormanton.co.uk
SUMMARY:Upper Foundation Stage trip to Skelton Grange
DESCRIPTION:UFS children will be visiting Skelton Grange eco centre and nature area in Leeds. Half of the year group will go on Weds 15th\, the remainder on Thurs 16th. More information and consent forms will be sent closer to the time
URL:https://allsaintsinfantsnormanton.co.uk/event/upper-foundation-stage-trip-to-skelton-grange/
CATEGORIES:EYFS
END:VEVENT
END:VCALENDAR