BEGIN:VCALENDAR
VERSION:2.0
PRODID:-//Normanton All Saints CE (A) Infant School - ECPv6.15.20//NONSGML v1.0//EN
CALSCALE:GREGORIAN
METHOD:PUBLISH
X-ORIGINAL-URL:https://allsaintsinfantsnormanton.co.uk
X-WR-CALDESC:Events for Normanton All Saints CE (A) Infant School
REFRESH-INTERVAL;VALUE=DURATION:PT1H
X-Robots-Tag:noindex
X-PUBLISHED-TTL:PT1H
BEGIN:VTIMEZONE
TZID:Europe/London
BEGIN:DAYLIGHT
TZOFFSETFROM:+0000
TZOFFSETTO:+0100
TZNAME:BST
DTSTART:20240331T010000
END:DAYLIGHT
BEGIN:STANDARD
TZOFFSETFROM:+0100
TZOFFSETTO:+0000
TZNAME:GMT
DTSTART:20241027T010000
END:STANDARD
BEGIN:DAYLIGHT
TZOFFSETFROM:+0000
TZOFFSETTO:+0100
TZNAME:BST
DTSTART:20250330T010000
END:DAYLIGHT
BEGIN:STANDARD
TZOFFSETFROM:+0100
TZOFFSETTO:+0000
TZNAME:GMT
DTSTART:20251026T010000
END:STANDARD
BEGIN:DAYLIGHT
TZOFFSETFROM:+0000
TZOFFSETTO:+0100
TZNAME:BST
DTSTART:20260329T010000
END:DAYLIGHT
BEGIN:STANDARD
TZOFFSETFROM:+0100
TZOFFSETTO:+0000
TZNAME:GMT
DTSTART:20261025T010000
END:STANDARD
BEGIN:DAYLIGHT
TZOFFSETFROM:+0000
TZOFFSETTO:+0100
TZNAME:BST
DTSTART:20270328T010000
END:DAYLIGHT
BEGIN:STANDARD
TZOFFSETFROM:+0100
TZOFFSETTO:+0000
TZNAME:GMT
DTSTART:20271031T010000
END:STANDARD
END:VTIMEZONE
BEGIN:VEVENT
DTSTART;TZID=Europe/London:20250714T140000
DTEND;TZID=Europe/London:20250714T150000
DTSTAMP:20260419T190508
CREATED:20250514T194518Z
LAST-MODIFIED:20250514T194518Z
UID:14030-1752501600-1752505200@allsaintsinfantsnormanton.co.uk
SUMMARY:Cinema and celebrate event for our Upper Foundation Stage children and parents
DESCRIPTION:We will be celebrating with parents all the wonderful achievements of our youngest children with a cinema event.
URL:https://allsaintsinfantsnormanton.co.uk/event/cinema-and-celebrate-event-for-our-upper-foundation-stage-children-and-parents/
CATEGORIES:EYFS,Parents & Carers
END:VEVENT
BEGIN:VEVENT
DTSTART;TZID=Europe/London:20250715T180000
DTEND;TZID=Europe/London:20250715T190000
DTSTAMP:20260419T190508
CREATED:20250514T195722Z
LAST-MODIFIED:20250514T195722Z
UID:14041-1752602400-1752606000@allsaintsinfantsnormanton.co.uk
SUMMARY:Year 2 end of year show
DESCRIPTION:Doors open at 5.45pm for a 6pm start.
URL:https://allsaintsinfantsnormanton.co.uk/event/year-2-end-of-year-show/
CATEGORIES:Parents & Carers,Year 2
END:VEVENT
BEGIN:VEVENT
DTSTART;TZID=Europe/London:20250718T090000
DTEND;TZID=Europe/London:20250718T103000
DTSTAMP:20260419T190508
CREATED:20250519T161610Z
LAST-MODIFIED:20250519T161610Z
UID:14050-1752829200-1752834600@allsaintsinfantsnormanton.co.uk
SUMMARY:Year 2 leavers service in church at 9.15am
DESCRIPTION:We will be celebrating our Year 2 children and their achievements during their time in our school before we say goodbye to them.
URL:https://allsaintsinfantsnormanton.co.uk/event/year-2-leavers-service-in-church-at-9-15am/
CATEGORIES:Parents & Carers,Year 2
END:VEVENT
BEGIN:VEVENT
DTSTART;TZID=Europe/London:20250916T090000
DTEND;TZID=Europe/London:20250916T100000
DTSTAMP:20260419T190508
CREATED:20250904T103209Z
LAST-MODIFIED:20250904T103209Z
UID:14101-1758013200-1758016800@allsaintsinfantsnormanton.co.uk
SUMMARY:New to Year 2 meeting
DESCRIPTION:Year 2 parents are invited to the ‘New to Year 2’ meeting at 9am in the school hall.
URL:https://allsaintsinfantsnormanton.co.uk/event/new-to-year-2-meeting/
CATEGORIES:Parents & Carers,Year 2
END:VEVENT
BEGIN:VEVENT
DTSTART;TZID=Europe/London:20250918T090000
DTEND;TZID=Europe/London:20250918T100000
DTSTAMP:20260419T190508
CREATED:20250904T103353Z
LAST-MODIFIED:20250904T103353Z
UID:14103-1758186000-1758189600@allsaintsinfantsnormanton.co.uk
SUMMARY:New to Year 1 meeting
DESCRIPTION:Year 1 parents are invited to the ‘New to Year 1’ parent meeting. 9am in the school hall.
URL:https://allsaintsinfantsnormanton.co.uk/event/new-to-year-1-meeting/
CATEGORIES:Parents & Carers,Year 1
END:VEVENT
BEGIN:VEVENT
DTSTART;TZID=Europe/London:20250919T090000
DTEND;TZID=Europe/London:20250919T100000
DTSTAMP:20260419T190508
CREATED:20250904T103703Z
LAST-MODIFIED:20250904T103703Z
UID:14106-1758272400-1758276000@allsaintsinfantsnormanton.co.uk
SUMMARY:New to Upper Foundation Stage meeting
DESCRIPTION:Parents of children in ‘Upper Foundation Stage’ are invited to the parent meeting at 9am in the school hall.
URL:https://allsaintsinfantsnormanton.co.uk/event/new-to-upper-foundation-stage-meeting/
CATEGORIES:EYFS,Parents & Carers
END:VEVENT
BEGIN:VEVENT
DTSTART;VALUE=DATE:20250926
DTEND;VALUE=DATE:20250927
DTSTAMP:20260419T190508
CREATED:20250904T104138Z
LAST-MODIFIED:20250904T104138Z
UID:14114-1758844800-1758931199@allsaintsinfantsnormanton.co.uk
SUMMARY:MacMillan Coffee Morning
DESCRIPTION:Parents and family members welcome to join us for a cuppa and cake from 8.45am in the school hall. All money raised will go to the amazing work of MacMillan.
URL:https://allsaintsinfantsnormanton.co.uk/event/macmillan-coffee-morning-3/
CATEGORIES:Parents & Carers,Whole School
END:VEVENT
BEGIN:VEVENT
DTSTART;TZID=Europe/London:20251007T084500
DTEND;TZID=Europe/London:20251007T094500
DTSTAMP:20260419T190508
CREATED:20250924T092039Z
LAST-MODIFIED:20250924T092039Z
UID:14323-1759826700-1759830300@allsaintsinfantsnormanton.co.uk
SUMMARY:SEND Coffee Morning
DESCRIPTION:8.45am. Please feel free to come along for a cuppa and to meet other parents.
URL:https://allsaintsinfantsnormanton.co.uk/event/send-coffee-morning-5/
CATEGORIES:Parents & Carers,Whole School
END:VEVENT
BEGIN:VEVENT
DTSTART;VALUE=DATE:20251022
DTEND;VALUE=DATE:20251023
DTSTAMP:20260419T190508
CREATED:20250904T113216Z
LAST-MODIFIED:20250904T113216Z
UID:14154-1761091200-1761177599@allsaintsinfantsnormanton.co.uk
SUMMARY:Pupil progress meetings for Year 1 parents
DESCRIPTION:All Year 1 parents can make an appointment to discuss with their child’s progress with their class teacher. Booking arrangements will be sent nearer the time.
URL:https://allsaintsinfantsnormanton.co.uk/event/pupil-progress-meetings-for-year-1-parents/
CATEGORIES:Parents & Carers,Year 1
END:VEVENT
BEGIN:VEVENT
DTSTART;TZID=Europe/London:20251023T090000
DTEND;TZID=Europe/London:20251023T093000
DTSTAMP:20260419T190508
CREATED:20250904T113428Z
LAST-MODIFIED:20250904T113428Z
UID:14160-1761210000-1761211800@allsaintsinfantsnormanton.co.uk
SUMMARY:Pandas (Miss McDermott) class worship
DESCRIPTION:9am in the school hall. Parents and families welcome to join us.
URL:https://allsaintsinfantsnormanton.co.uk/event/pandas-miss-mcdermott-class-worship/
CATEGORIES:Parents & Carers,Year 2
END:VEVENT
BEGIN:VEVENT
DTSTART;TZID=Europe/London:20251104T090000
DTEND;TZID=Europe/London:20251104T093000
DTSTAMP:20260419T190508
CREATED:20250904T113737Z
LAST-MODIFIED:20250904T113737Z
UID:14168-1762246800-1762248600@allsaintsinfantsnormanton.co.uk
SUMMARY:The Flamingos (Miss Dutton) class worship
DESCRIPTION:9am in the school hall. Parents and families welcome to join us.
URL:https://allsaintsinfantsnormanton.co.uk/event/the-flamingos-miss-dutton-class-worship/
CATEGORIES:Parents & Carers,Year 1
END:VEVENT
BEGIN:VEVENT
DTSTART;TZID=Europe/London:20251111T090000
DTEND;TZID=Europe/London:20251111T093000
DTSTAMP:20260419T190508
CREATED:20250904T114641Z
LAST-MODIFIED:20250904T114641Z
UID:14178-1762851600-1762853400@allsaintsinfantsnormanton.co.uk
SUMMARY:The Polar Bears (Mrs Dixon) class worship
DESCRIPTION:9am in the school hall. Parents and family members welcome. This worship will be to mark Remembrance Day.
URL:https://allsaintsinfantsnormanton.co.uk/event/the-polar-bears-mrs-dixon-class-worship/
CATEGORIES:Parents & Carers,Year 2
END:VEVENT
BEGIN:VEVENT
DTSTART;TZID=Europe/London:20251112T084500
DTEND;TZID=Europe/London:20251112T091500
DTSTAMP:20260419T190508
CREATED:20250904T114945Z
LAST-MODIFIED:20250904T114945Z
UID:14181-1762937100-1762938900@allsaintsinfantsnormanton.co.uk
SUMMARY:Year 1 Phonics Drop in Session
DESCRIPTION:Year 1 parents are invited to come along to our phonics session to watch how this is delivered in Year 1. This will be at 8.45am in the Year 1 classrooms.
URL:https://allsaintsinfantsnormanton.co.uk/event/year-1-phonics-drop-in-session/
CATEGORIES:Parents & Carers,Year 1
END:VEVENT
BEGIN:VEVENT
DTSTART;TZID=Europe/London:20251113T090000
DTEND;TZID=Europe/London:20251113T093000
DTSTAMP:20260419T190508
CREATED:20250904T115607Z
LAST-MODIFIED:20250904T115607Z
UID:14187-1763024400-1763026200@allsaintsinfantsnormanton.co.uk
SUMMARY:The Koalas (Mrs Bond) class worship
DESCRIPTION:9am in the school hall. Parents and families welcome to join us.
URL:https://allsaintsinfantsnormanton.co.uk/event/the-koalas-mrs-bond-class-worship/
CATEGORIES:Parents & Carers,Year 1
END:VEVENT
BEGIN:VEVENT
DTSTART;TZID=Europe/London:20251204T090000
DTEND;TZID=Europe/London:20251204T093000
DTSTAMP:20260419T190508
CREATED:20250904T135931Z
LAST-MODIFIED:20250904T135931Z
UID:14203-1764838800-1764840600@allsaintsinfantsnormanton.co.uk
SUMMARY:The Bees (Mrs Carroll) class worship
DESCRIPTION:9am in the school hall. Parents and families welcome. This will be linked to Christingle.
URL:https://allsaintsinfantsnormanton.co.uk/event/the-bees-mrs-carroll-class-worship/
CATEGORIES:EYFS,Parents & Carers
END:VEVENT
BEGIN:VEVENT
DTSTART;VALUE=DATE:20251205
DTEND;VALUE=DATE:20251206
DTSTAMP:20260419T190508
CREATED:20250904T140102Z
LAST-MODIFIED:20250904T140102Z
UID:14206-1764892800-1764979199@allsaintsinfantsnormanton.co.uk
SUMMARY:Nursery Nativity
DESCRIPTION:10.30am for morning children \n2.30pm for afternoon children \nThis will take place in All Saints Church. Parents and families welcome to join us.
URL:https://allsaintsinfantsnormanton.co.uk/event/nursery-nativity-2/
CATEGORIES:Nursery,Parents & Carers
END:VEVENT
BEGIN:VEVENT
DTSTART;VALUE=DATE:20251205
DTEND;VALUE=DATE:20251206
DTSTAMP:20260419T190508
CREATED:20250904T140245Z
LAST-MODIFIED:20250904T140245Z
UID:14209-1764892800-1764979199@allsaintsinfantsnormanton.co.uk
SUMMARY:Hygge family event
DESCRIPTION:Families are invited to join in with our Hygge Christmas event. We hope you enjoy spending time with your child through the outdoors\, including toasting marshmallows around the fire pit.
URL:https://allsaintsinfantsnormanton.co.uk/event/hygge-family-event/
CATEGORIES:Parents & Carers,Whole School
END:VEVENT
BEGIN:VEVENT
DTSTART;TZID=Europe/London:20251211T100000
DTEND;TZID=Europe/London:20251211T110000
DTSTAMP:20260419T190508
CREATED:20250904T140357Z
LAST-MODIFIED:20250904T140357Z
UID:14211-1765447200-1765450800@allsaintsinfantsnormanton.co.uk
SUMMARY:Year 1 Nativity
DESCRIPTION:This will take place at 10am in All Saints Church. Parents and families welcome to join us.
URL:https://allsaintsinfantsnormanton.co.uk/event/year-1-nativity-3/
CATEGORIES:Parents & Carers,Year 1
END:VEVENT
BEGIN:VEVENT
DTSTART;TZID=Europe/London:20251212T100000
DTEND;TZID=Europe/London:20251212T110000
DTSTAMP:20260419T190508
CREATED:20250904T140517Z
LAST-MODIFIED:20250904T140517Z
UID:14214-1765533600-1765537200@allsaintsinfantsnormanton.co.uk
SUMMARY:Upper Foundation Stage Nativity
DESCRIPTION:This will take place at 10am in All Saints Church. Parents and families welcome to join us.
URL:https://allsaintsinfantsnormanton.co.uk/event/upper-foundation-stage-nativity-2/
CATEGORIES:EYFS,Parents & Carers
END:VEVENT
BEGIN:VEVENT
DTSTART;TZID=Europe/London:20251216T100000
DTEND;TZID=Europe/London:20251216T110000
DTSTAMP:20260419T190508
CREATED:20250904T140755Z
LAST-MODIFIED:20250904T140755Z
UID:14221-1765879200-1765882800@allsaintsinfantsnormanton.co.uk
SUMMARY:Year 2 Nativity
DESCRIPTION:This will take place at 10am in All Saints Church. Parents and families are welcome to join us.
URL:https://allsaintsinfantsnormanton.co.uk/event/year-2-nativity-2/
CATEGORIES:Parents & Carers,Year 2
END:VEVENT
BEGIN:VEVENT
DTSTART;TZID=Europe/London:20251219T091500
DTEND;TZID=Europe/London:20251219T100000
DTSTAMP:20260419T190508
CREATED:20250904T141235Z
LAST-MODIFIED:20250904T141235Z
UID:14235-1766135700-1766138400@allsaintsinfantsnormanton.co.uk
SUMMARY:Spanish nativity
DESCRIPTION:Our Spanish club will be leading a nativity in All Saints Church in Spanish! Parents and families welcome. This will be at 9.15am in church.
URL:https://allsaintsinfantsnormanton.co.uk/event/spanish-nativity-2/
CATEGORIES:Parents & Carers,Whole School
END:VEVENT
BEGIN:VEVENT
DTSTART;TZID=Europe/London:20260106T080000
DTEND;TZID=Europe/London:20260106T170000
DTSTAMP:20260419T190508
CREATED:20260106T153430Z
LAST-MODIFIED:20260106T153430Z
UID:14623-1767686400-1767718800@allsaintsinfantsnormanton.co.uk
SUMMARY:Year 1 phonics parent meeting
DESCRIPTION:Year 1 parents are invited to attend a phonics meeting about the Phonics Screening Check and how they can best help support their child at home. 5pm in the school hall on Monday 23rd March.
URL:https://allsaintsinfantsnormanton.co.uk/event/year-1-phonics-parent-meeting/
CATEGORIES:Parents & Carers,Year 1
END:VEVENT
BEGIN:VEVENT
DTSTART;TZID=Europe/London:20260123T090000
DTEND;TZID=Europe/London:20260123T100000
DTSTAMP:20260419T190508
CREATED:20260104T111005Z
LAST-MODIFIED:20260104T111005Z
UID:14558-1769158800-1769162400@allsaintsinfantsnormanton.co.uk
SUMMARY:Managing Big Emotions workshop for parents
DESCRIPTION:Team Around the School will be hosting a workshop for parents to come along to about managing big emotions in young children. We will look forward to seeing you there. This will be at 9am in the staffroom.
URL:https://allsaintsinfantsnormanton.co.uk/event/managing-big-emotions-workshop-for-parents/
CATEGORIES:Parents & Carers,Whole School
END:VEVENT
BEGIN:VEVENT
DTSTART;TZID=Europe/London:20260203T090000
DTEND;TZID=Europe/London:20260203T093000
DTSTAMP:20260419T190508
CREATED:20260104T111337Z
LAST-MODIFIED:20260104T111337Z
UID:14564-1770109200-1770111000@allsaintsinfantsnormanton.co.uk
SUMMARY:Mrs Burton's (Giraffes) class worship
DESCRIPTION:Mrs Burton’s class will be leading a class worship for parents and family members to attend. 9am in the school hall.
URL:https://allsaintsinfantsnormanton.co.uk/event/mrs-burtons-giraffes-class-worship/
CATEGORIES:EYFS,Parents & Carers
END:VEVENT
BEGIN:VEVENT
DTSTART;TZID=Europe/London:20260205T090000
DTEND;TZID=Europe/London:20260205T093000
DTSTAMP:20260419T190508
CREATED:20260104T111516Z
LAST-MODIFIED:20260104T111516Z
UID:14567-1770282000-1770283800@allsaintsinfantsnormanton.co.uk
SUMMARY:Mrs Bond's class (Koalas) worship
DESCRIPTION:Mrs Bond’s class will be leading a class worship for parents and family members to attend. 9am in the school hall.
URL:https://allsaintsinfantsnormanton.co.uk/event/mrs-bonds-class-koalas-worship/
CATEGORIES:EYFS,Parents & Carers
END:VEVENT
BEGIN:VEVENT
DTSTART;VALUE=DATE:20260209
DTEND;VALUE=DATE:20260210
DTSTAMP:20260419T190508
CREATED:20260106T153307Z
LAST-MODIFIED:20260106T153307Z
UID:14621-1770595200-1770681599@allsaintsinfantsnormanton.co.uk
SUMMARY:Parent phonics drop in sessions for Year 1 invited parents
DESCRIPTION:Parents will be invited in to work with their child and Mrs Bond to help develop their phonics and reading skills.
URL:https://allsaintsinfantsnormanton.co.uk/event/parent-phonics-drop-in-sessions-for-year-1-invited-parents/
CATEGORIES:Parents & Carers,Year 1
END:VEVENT
BEGIN:VEVENT
DTSTART;TZID=Europe/London:20260212T090000
DTEND;TZID=Europe/London:20260212T093000
DTSTAMP:20260419T190508
CREATED:20260104T111802Z
LAST-MODIFIED:20260104T111802Z
UID:14572-1770886800-1770888600@allsaintsinfantsnormanton.co.uk
SUMMARY:Mrs Carroll's (Bees) class worship
DESCRIPTION:Mrs Carroll’s class will be leading a class worship for parents and families to attend. 9am in the school hall.
URL:https://allsaintsinfantsnormanton.co.uk/event/mrs-carrolls-bees-class-worship/
CATEGORIES:EYFS,Parents & Carers
END:VEVENT
BEGIN:VEVENT
DTSTART;VALUE=DATE:20260213
DTEND;VALUE=DATE:20260214
DTSTAMP:20260419T190508
CREATED:20260104T111902Z
LAST-MODIFIED:20260104T111902Z
UID:14575-1770940800-1771027199@allsaintsinfantsnormanton.co.uk
SUMMARY:Inset day. School closed for all pupils.
DESCRIPTION:School will be closed to all nursery and main school children for staff training.
URL:https://allsaintsinfantsnormanton.co.uk/event/inset-day-school-closed-for-all-pupils-2/
CATEGORIES:Parents & Carers,Whole School
END:VEVENT
BEGIN:VEVENT
DTSTART;VALUE=DATE:20260302
DTEND;VALUE=DATE:20260303
DTSTAMP:20260419T190508
CREATED:20260106T153607Z
LAST-MODIFIED:20260106T153607Z
UID:14626-1772409600-1772495999@allsaintsinfantsnormanton.co.uk
SUMMARY:Phonics drop in sessions for invited Upper Foundation Stage parents
DESCRIPTION:Mrs Anderson (EYFS Lead) will be inviting parents in to work alongside their child in their phonics. Mrs Anderson will show parents how they can best support their child at home. These sessions are for invited parents.
URL:https://allsaintsinfantsnormanton.co.uk/event/phonics-drop-in-sessions-for-invited-upper-foundation-stage-parents/
CATEGORIES:EYFS,Parents & Carers
END:VEVENT
BEGIN:VEVENT
DTSTART;TZID=Europe/London:20260310T090000
DTEND;TZID=Europe/London:20260310T093000
DTSTAMP:20260419T190508
CREATED:20260105T125450Z
LAST-MODIFIED:20260105T125450Z
UID:14593-1773133200-1773135000@allsaintsinfantsnormanton.co.uk
SUMMARY:Miss McDermott's class (Pandas) worship
DESCRIPTION:Miss McDermott’s class will be leading worship. Parents and family members welcome. 9am in the school hall.
URL:https://allsaintsinfantsnormanton.co.uk/event/miss-mcdermotts-class-pandas-worship-2/
CATEGORIES:Parents & Carers,Year 2
END:VEVENT
END:VCALENDAR