BEGIN:VCALENDAR
VERSION:2.0
PRODID:-//Normanton All Saints CE (A) Infant School - ECPv6.15.20//NONSGML v1.0//EN
CALSCALE:GREGORIAN
METHOD:PUBLISH
X-ORIGINAL-URL:https://allsaintsinfantsnormanton.co.uk
X-WR-CALDESC:Events for Normanton All Saints CE (A) Infant School
REFRESH-INTERVAL;VALUE=DURATION:PT1H
X-Robots-Tag:noindex
X-PUBLISHED-TTL:PT1H
BEGIN:VTIMEZONE
TZID:Europe/London
BEGIN:DAYLIGHT
TZOFFSETFROM:+0000
TZOFFSETTO:+0100
TZNAME:BST
DTSTART:20220327T010000
END:DAYLIGHT
BEGIN:STANDARD
TZOFFSETFROM:+0100
TZOFFSETTO:+0000
TZNAME:GMT
DTSTART:20221030T010000
END:STANDARD
BEGIN:DAYLIGHT
TZOFFSETFROM:+0000
TZOFFSETTO:+0100
TZNAME:BST
DTSTART:20230326T010000
END:DAYLIGHT
BEGIN:STANDARD
TZOFFSETFROM:+0100
TZOFFSETTO:+0000
TZNAME:GMT
DTSTART:20231029T010000
END:STANDARD
BEGIN:DAYLIGHT
TZOFFSETFROM:+0000
TZOFFSETTO:+0100
TZNAME:BST
DTSTART:20240331T010000
END:DAYLIGHT
BEGIN:STANDARD
TZOFFSETFROM:+0100
TZOFFSETTO:+0000
TZNAME:GMT
DTSTART:20241027T010000
END:STANDARD
BEGIN:DAYLIGHT
TZOFFSETFROM:+0000
TZOFFSETTO:+0100
TZNAME:BST
DTSTART:20250330T010000
END:DAYLIGHT
BEGIN:STANDARD
TZOFFSETFROM:+0100
TZOFFSETTO:+0000
TZNAME:GMT
DTSTART:20251026T010000
END:STANDARD
BEGIN:DAYLIGHT
TZOFFSETFROM:+0000
TZOFFSETTO:+0100
TZNAME:BST
DTSTART:20260329T010000
END:DAYLIGHT
BEGIN:STANDARD
TZOFFSETFROM:+0100
TZOFFSETTO:+0000
TZNAME:GMT
DTSTART:20261025T010000
END:STANDARD
BEGIN:DAYLIGHT
TZOFFSETFROM:+0000
TZOFFSETTO:+0100
TZNAME:BST
DTSTART:20270328T010000
END:DAYLIGHT
BEGIN:STANDARD
TZOFFSETFROM:+0100
TZOFFSETTO:+0000
TZNAME:GMT
DTSTART:20271031T010000
END:STANDARD
END:VTIMEZONE
BEGIN:VEVENT
DTSTART;TZID=Europe/London:20260414T114500
DTEND;TZID=Europe/London:20260414T121500
DTSTAMP:20260419T141430
CREATED:20260413T124946Z
LAST-MODIFIED:20260413T124946Z
UID:14762-1776167100-1776168900@allsaintsinfantsnormanton.co.uk
SUMMARY:Collective Worship Committee meeting
DESCRIPTION:Half termly meeting for the Collective Worship Crew
URL:https://allsaintsinfantsnormanton.co.uk/event/collective-worship-committee-meeting/
CATEGORIES:School Committee members
END:VEVENT
BEGIN:VEVENT
DTSTART;TZID=Europe/London:20260121T151500
DTEND;TZID=Europe/London:20260121T161500
DTSTAMP:20260419T141430
CREATED:20260104T110820Z
LAST-MODIFIED:20260104T110820Z
UID:14556-1769008500-1769012100@allsaintsinfantsnormanton.co.uk
SUMMARY:Joint School Council meeting
DESCRIPTION:Our School Councillors will be meeting together with Normanton Junior Academy School Council. This will be an after school event until 4.15pm.
URL:https://allsaintsinfantsnormanton.co.uk/event/joint-school-council-meeting/
CATEGORIES:School Committee members
END:VEVENT
BEGIN:VEVENT
DTSTART;TZID=Europe/London:20250924T150000
DTEND;TZID=Europe/London:20250924T161500
DTSTAMP:20260419T141430
CREATED:20250904T103838Z
LAST-MODIFIED:20250904T103838Z
UID:14109-1758726000-1758730500@allsaintsinfantsnormanton.co.uk
SUMMARY:School Council Meeting 3.15pm- 4.15pm
DESCRIPTION:New School Council members meeting.
URL:https://allsaintsinfantsnormanton.co.uk/event/school-council-meeting-3-15pm-4-15pm/
CATEGORIES:School Committee members
END:VEVENT
BEGIN:VEVENT
DTSTART;TZID=Europe/London:20250115T151500
DTEND;TZID=Europe/London:20250115T154500
DTSTAMP:20260419T141430
CREATED:20250108T221327Z
LAST-MODIFIED:20250108T221327Z
UID:13702-1736954100-1736955900@allsaintsinfantsnormanton.co.uk
SUMMARY:School Committee Meeting at 3.15pm- 3.45pm
DESCRIPTION:
URL:https://allsaintsinfantsnormanton.co.uk/event/school-committee-meeting-at-3-15pm-3-45pm/
CATEGORIES:School Committee members
END:VEVENT
BEGIN:VEVENT
DTSTART;TZID=Europe/London:20241106T151500
DTEND;TZID=Europe/London:20241106T154500
DTSTAMP:20260419T141430
CREATED:20240914T181003Z
LAST-MODIFIED:20240914T181003Z
UID:13089-1730906100-1730907900@allsaintsinfantsnormanton.co.uk
SUMMARY:School Council meeting
DESCRIPTION:Our School Council will be meeting after school at 3.15- 3.45pm.
URL:https://allsaintsinfantsnormanton.co.uk/event/school-council-meeting/
CATEGORIES:School Committee members
END:VEVENT
BEGIN:VEVENT
DTSTART;TZID=Europe/London:20240918T150000
DTEND;TZID=Europe/London:20240918T160000
DTSTAMP:20260419T141430
CREATED:20240914T062533Z
LAST-MODIFIED:20240914T062533Z
UID:13020-1726671600-1726675200@allsaintsinfantsnormanton.co.uk
SUMMARY:School Council meeting 3.15pm- 4pm
DESCRIPTION:We are looking forward to holding our first School Council meeting to welcome our new members for this year.
URL:https://allsaintsinfantsnormanton.co.uk/event/school-council-meeting-3-15pm-4pm/
CATEGORIES:School Committee members
END:VEVENT
BEGIN:VEVENT
DTSTART;VALUE=DATE:20230130
DTEND;VALUE=DATE:20230131
DTSTAMP:20260419T141430
CREATED:20230105T114432Z
LAST-MODIFIED:20230105T114432Z
UID:10927-1675036800-1675123199@allsaintsinfantsnormanton.co.uk
SUMMARY:School Committee visiting Normanton Town Council
DESCRIPTION:The School Committee members will be joining the joint school pyramid council meeting.
URL:https://allsaintsinfantsnormanton.co.uk/event/school-committee-visiting-normanton-town-council/
CATEGORIES:School Committee members
END:VEVENT
END:VCALENDAR