BEGIN:VCALENDAR
VERSION:2.0
PRODID:-//Normanton All Saints CE (A) Infant School - ECPv6.15.20//NONSGML v1.0//EN
CALSCALE:GREGORIAN
METHOD:PUBLISH
X-WR-CALNAME:Normanton All Saints CE (A) Infant School
X-ORIGINAL-URL:https://allsaintsinfantsnormanton.co.uk
X-WR-CALDESC:Events for Normanton All Saints CE (A) Infant School
REFRESH-INTERVAL;VALUE=DURATION:PT1H
X-Robots-Tag:noindex
X-PUBLISHED-TTL:PT1H
BEGIN:VTIMEZONE
TZID:Europe/London
BEGIN:DAYLIGHT
TZOFFSETFROM:+0000
TZOFFSETTO:+0100
TZNAME:BST
DTSTART:20220327T010000
END:DAYLIGHT
BEGIN:STANDARD
TZOFFSETFROM:+0100
TZOFFSETTO:+0000
TZNAME:GMT
DTSTART:20221030T010000
END:STANDARD
BEGIN:DAYLIGHT
TZOFFSETFROM:+0000
TZOFFSETTO:+0100
TZNAME:BST
DTSTART:20230326T010000
END:DAYLIGHT
BEGIN:STANDARD
TZOFFSETFROM:+0100
TZOFFSETTO:+0000
TZNAME:GMT
DTSTART:20231029T010000
END:STANDARD
BEGIN:DAYLIGHT
TZOFFSETFROM:+0000
TZOFFSETTO:+0100
TZNAME:BST
DTSTART:20240331T010000
END:DAYLIGHT
BEGIN:STANDARD
TZOFFSETFROM:+0100
TZOFFSETTO:+0000
TZNAME:GMT
DTSTART:20241027T010000
END:STANDARD
END:VTIMEZONE
BEGIN:VEVENT
DTSTART;VALUE=DATE:20230904
DTEND;VALUE=DATE:20230905
DTSTAMP:20260421T063549
CREATED:20230719T144505Z
LAST-MODIFIED:20230719T144814Z
UID:11424-1693785600-1693871999@allsaintsinfantsnormanton.co.uk
SUMMARY:INSET Day school and nursery are closed to pupils.
DESCRIPTION:School and nursery closed on the 4th and 5th September 2023.
URL:https://allsaintsinfantsnormanton.co.uk/event/inset-day-school-and-nursery-are-closed-to-pupils/
CATEGORIES:Whole School
END:VEVENT
BEGIN:VEVENT
DTSTART;VALUE=DATE:20230904
DTEND;VALUE=DATE:20230905
DTSTAMP:20260421T063549
CREATED:20230719T144505Z
LAST-MODIFIED:20230719T144814Z
UID:11424-1693785600-1693871999@allsaintsinfantsnormanton.co.uk
SUMMARY:INSET Day school and nursery are closed to pupils.
DESCRIPTION:School and nursery closed on the 4th and 5th September 2023.
URL:https://allsaintsinfantsnormanton.co.uk/event/inset-day-school-and-nursery-are-closed-to-pupils/
CATEGORIES:Whole School
END:VEVENT
BEGIN:VEVENT
DTSTART;VALUE=DATE:20230915
DTEND;VALUE=DATE:20230916
DTSTAMP:20260421T063549
CREATED:20230908T122525Z
LAST-MODIFIED:20230908T122525Z
UID:11477-1694736000-1694822399@allsaintsinfantsnormanton.co.uk
SUMMARY:International Democracy Day
DESCRIPTION:School committee worship and elections- The children will be selecting and voting two members of the class to take on the role as our School Committee representatives.
URL:https://allsaintsinfantsnormanton.co.uk/event/international-democracy-day-2/
CATEGORIES:Whole School
END:VEVENT
BEGIN:VEVENT
DTSTART;VALUE=DATE:20230915
DTEND;VALUE=DATE:20230916
DTSTAMP:20260421T063549
CREATED:20230908T122730Z
LAST-MODIFIED:20230908T122730Z
UID:11479-1694736000-1694822399@allsaintsinfantsnormanton.co.uk
SUMMARY:Class newsletters sent home
DESCRIPTION:Each class teacher will be sharing with parents important curriculum information and dates on the class newsletters.
URL:https://allsaintsinfantsnormanton.co.uk/event/class-newsletters-sent-home/
CATEGORIES:Whole School
END:VEVENT
BEGIN:VEVENT
DTSTART;VALUE=DATE:20230922
DTEND;VALUE=DATE:20230923
DTSTAMP:20260421T063549
CREATED:20230908T123527Z
LAST-MODIFIED:20230908T123527Z
UID:11494-1695340800-1695427199@allsaintsinfantsnormanton.co.uk
SUMMARY:Jeans for Genes Day
DESCRIPTION:We are inviting all our children to wear their jeans to school on this day for a silver coin donation.
URL:https://allsaintsinfantsnormanton.co.uk/event/jeans-for-genes-day/
CATEGORIES:Whole School
END:VEVENT
BEGIN:VEVENT
DTSTART;VALUE=DATE:20230929
DTEND;VALUE=DATE:20230930
DTSTAMP:20260421T063549
CREATED:20230908T124247Z
LAST-MODIFIED:20230908T124247Z
UID:11503-1695945600-1696031999@allsaintsinfantsnormanton.co.uk
SUMMARY:MacMillan Coffee Morning
DESCRIPTION:Parents and family members welcome to join us in the school hall from 8.45am. Cakes and treats will be available for a donation for a wonderful cause.
URL:https://allsaintsinfantsnormanton.co.uk/event/macmillan-coffee-morning/
CATEGORIES:Whole School
END:VEVENT
END:VCALENDAR