BEGIN:VCALENDAR
VERSION:2.0
PRODID:-//Normanton All Saints CE (A) Infant School - ECPv6.15.20//NONSGML v1.0//EN
CALSCALE:GREGORIAN
METHOD:PUBLISH
X-WR-CALNAME:Normanton All Saints CE (A) Infant School
X-ORIGINAL-URL:https://allsaintsinfantsnormanton.co.uk
X-WR-CALDESC:Events for Normanton All Saints CE (A) Infant School
REFRESH-INTERVAL;VALUE=DURATION:PT1H
X-Robots-Tag:noindex
X-PUBLISHED-TTL:PT1H
BEGIN:VTIMEZONE
TZID:Europe/London
BEGIN:DAYLIGHT
TZOFFSETFROM:+0000
TZOFFSETTO:+0100
TZNAME:BST
DTSTART:20230326T010000
END:DAYLIGHT
BEGIN:STANDARD
TZOFFSETFROM:+0100
TZOFFSETTO:+0000
TZNAME:GMT
DTSTART:20231029T010000
END:STANDARD
BEGIN:DAYLIGHT
TZOFFSETFROM:+0000
TZOFFSETTO:+0100
TZNAME:BST
DTSTART:20240331T010000
END:DAYLIGHT
BEGIN:STANDARD
TZOFFSETFROM:+0100
TZOFFSETTO:+0000
TZNAME:GMT
DTSTART:20241027T010000
END:STANDARD
BEGIN:DAYLIGHT
TZOFFSETFROM:+0000
TZOFFSETTO:+0100
TZNAME:BST
DTSTART:20250330T010000
END:DAYLIGHT
BEGIN:STANDARD
TZOFFSETFROM:+0100
TZOFFSETTO:+0000
TZNAME:GMT
DTSTART:20251026T010000
END:STANDARD
END:VTIMEZONE
BEGIN:VEVENT
DTSTART;VALUE=DATE:20240902
DTEND;VALUE=DATE:20240903
DTSTAMP:20260420T125239
CREATED:20240709T101247Z
LAST-MODIFIED:20240709T101247Z
UID:12858-1725235200-1725321599@allsaintsinfantsnormanton.co.uk
SUMMARY:School closed
DESCRIPTION:
URL:https://allsaintsinfantsnormanton.co.uk/event/school-closed/
CATEGORIES:Whole School
END:VEVENT
BEGIN:VEVENT
DTSTART;VALUE=DATE:20240903
DTEND;VALUE=DATE:20240904
DTSTAMP:20260420T125239
CREATED:20240709T101312Z
LAST-MODIFIED:20240709T101312Z
UID:12860-1725321600-1725407999@allsaintsinfantsnormanton.co.uk
SUMMARY:School closed
DESCRIPTION:
URL:https://allsaintsinfantsnormanton.co.uk/event/school-closed-2/
CATEGORIES:Whole School
END:VEVENT
BEGIN:VEVENT
DTSTART;TZID=Europe/London:20240904T080000
DTEND;TZID=Europe/London:20240904T170000
DTSTAMP:20260420T125239
CREATED:20240709T102428Z
LAST-MODIFIED:20240709T102428Z
UID:12868-1725436800-1725469200@allsaintsinfantsnormanton.co.uk
SUMMARY:School reopens for all children
DESCRIPTION:Y1 and Y2 children school opens 8:35am – 3:15pm \nUpper Foundation Stage children to attend from 9am – 11:30am
URL:https://allsaintsinfantsnormanton.co.uk/event/school-reopens-for-all-children-2/
CATEGORIES:Whole School
END:VEVENT
BEGIN:VEVENT
DTSTART;VALUE=DATE:20240905
DTEND;VALUE=DATE:20240906
DTSTAMP:20260420T125239
CREATED:20240709T101430Z
LAST-MODIFIED:20240709T101531Z
UID:12862-1725494400-1725580799@allsaintsinfantsnormanton.co.uk
SUMMARY:Upper Foundation Stage children to attend 8:45am - 1:15pm
DESCRIPTION:All children in UFS to stay for lunch on this day
URL:https://allsaintsinfantsnormanton.co.uk/event/school-reopens-for-all-children/
CATEGORIES:Whole School
END:VEVENT
BEGIN:VEVENT
DTSTART;TZID=Europe/London:20240927T090000
DTEND;TZID=Europe/London:20240927T103000
DTSTAMP:20260420T125239
CREATED:20240914T081705Z
LAST-MODIFIED:20240914T081705Z
UID:13031-1727427600-1727433000@allsaintsinfantsnormanton.co.uk
SUMMARY:MacMillan Coffee Morning
DESCRIPTION:We are inviting families to join our MacMillan Coffee Morning from 8.45am in the school hall. All money raised will support the wonderful work of MacMillan. We look forward to seeing you there!
URL:https://allsaintsinfantsnormanton.co.uk/event/macmillan-coffee-morning-2/
CATEGORIES:Parents & Carers,Whole School
END:VEVENT
END:VCALENDAR