BEGIN:VCALENDAR
VERSION:2.0
PRODID:-//Normanton All Saints CE (A) Infant School - ECPv6.15.20//NONSGML v1.0//EN
CALSCALE:GREGORIAN
METHOD:PUBLISH
X-WR-CALNAME:Normanton All Saints CE (A) Infant School
X-ORIGINAL-URL:https://allsaintsinfantsnormanton.co.uk
X-WR-CALDESC:Events for Normanton All Saints CE (A) Infant School
REFRESH-INTERVAL;VALUE=DURATION:PT1H
X-Robots-Tag:noindex
X-PUBLISHED-TTL:PT1H
BEGIN:VTIMEZONE
TZID:Europe/London
BEGIN:DAYLIGHT
TZOFFSETFROM:+0000
TZOFFSETTO:+0100
TZNAME:BST
DTSTART:20250330T010000
END:DAYLIGHT
BEGIN:STANDARD
TZOFFSETFROM:+0100
TZOFFSETTO:+0000
TZNAME:GMT
DTSTART:20251026T010000
END:STANDARD
BEGIN:DAYLIGHT
TZOFFSETFROM:+0000
TZOFFSETTO:+0100
TZNAME:BST
DTSTART:20260329T010000
END:DAYLIGHT
BEGIN:STANDARD
TZOFFSETFROM:+0100
TZOFFSETTO:+0000
TZNAME:GMT
DTSTART:20261025T010000
END:STANDARD
BEGIN:DAYLIGHT
TZOFFSETFROM:+0000
TZOFFSETTO:+0100
TZNAME:BST
DTSTART:20270328T010000
END:DAYLIGHT
BEGIN:STANDARD
TZOFFSETFROM:+0100
TZOFFSETTO:+0000
TZNAME:GMT
DTSTART:20271031T010000
END:STANDARD
END:VTIMEZONE
BEGIN:VEVENT
DTSTART;VALUE=DATE:20260105
DTEND;VALUE=DATE:20260106
DTSTAMP:20260420T161825
CREATED:20260104T110032Z
LAST-MODIFIED:20260104T110032Z
UID:14543-1767571200-1767657599@allsaintsinfantsnormanton.co.uk
SUMMARY:School re-opens for children to return
DESCRIPTION:We are looking forward to welcoming all our children back to school on Monday 5th January.
URL:https://allsaintsinfantsnormanton.co.uk/event/school-re-opens-for-children-to-return/
CATEGORIES:Whole School
END:VEVENT
BEGIN:VEVENT
DTSTART;TZID=Europe/London:20260108T084500
DTEND;TZID=Europe/London:20260108T100000
DTSTAMP:20260420T161825
CREATED:20260104T110311Z
LAST-MODIFIED:20260104T110311Z
UID:14545-1767861900-1767866400@allsaintsinfantsnormanton.co.uk
SUMMARY:SEND Coffee Morning for parents and families
DESCRIPTION:Parents Carers Forum will be hosting our SEND coffee morning. This will be in the staffroom from 8.45am. No need to book\, just come along for a cuppa and chat.
URL:https://allsaintsinfantsnormanton.co.uk/event/send-coffee-morning-for-parents-and-families/
CATEGORIES:Whole School
END:VEVENT
BEGIN:VEVENT
DTSTART;VALUE=DATE:20260114
DTEND;VALUE=DATE:20260115
DTSTAMP:20260420T161825
CREATED:20260104T110406Z
LAST-MODIFIED:20260104T110406Z
UID:14547-1768348800-1768435199@allsaintsinfantsnormanton.co.uk
SUMMARY:Closing date for Reception school places for September 2026
DESCRIPTION:
URL:https://allsaintsinfantsnormanton.co.uk/event/closing-date-for-reception-school-places-for-september-2026/
CATEGORIES:Whole School
END:VEVENT
BEGIN:VEVENT
DTSTART;VALUE=DATE:20260115
DTEND;VALUE=DATE:20260116
DTSTAMP:20260420T161825
CREATED:20260104T110538Z
LAST-MODIFIED:20260104T110538Z
UID:14549-1768435200-1768521599@allsaintsinfantsnormanton.co.uk
SUMMARY:Flu vaccinations for children
DESCRIPTION:This will be available for any children who missed this last time and parents would like them to have it. Please speak to the school office for further information.
URL:https://allsaintsinfantsnormanton.co.uk/event/flu-vaccinations-for-children-2/
CATEGORIES:Whole School
END:VEVENT
BEGIN:VEVENT
DTSTART;VALUE=DATE:20260119
DTEND;VALUE=DATE:20260120
DTSTAMP:20260420T161825
CREATED:20260104T110641Z
LAST-MODIFIED:20260104T110641Z
UID:14554-1768780800-1768867199@allsaintsinfantsnormanton.co.uk
SUMMARY:Governing Body meeting
DESCRIPTION:
URL:https://allsaintsinfantsnormanton.co.uk/event/governing-body-meeting-2/
CATEGORIES:Whole School
END:VEVENT
BEGIN:VEVENT
DTSTART;TZID=Europe/London:20260123T090000
DTEND;TZID=Europe/London:20260123T100000
DTSTAMP:20260420T161825
CREATED:20260104T111005Z
LAST-MODIFIED:20260104T111005Z
UID:14558-1769158800-1769162400@allsaintsinfantsnormanton.co.uk
SUMMARY:Managing Big Emotions workshop for parents
DESCRIPTION:Team Around the School will be hosting a workshop for parents to come along to about managing big emotions in young children. We will look forward to seeing you there. This will be at 9am in the staffroom.
URL:https://allsaintsinfantsnormanton.co.uk/event/managing-big-emotions-workshop-for-parents/
CATEGORIES:Parents & Carers,Whole School
END:VEVENT
END:VCALENDAR