BEGIN:VCALENDAR
VERSION:2.0
PRODID:-//Normanton All Saints CE (A) Infant School - ECPv6.15.20//NONSGML v1.0//EN
CALSCALE:GREGORIAN
METHOD:PUBLISH
X-ORIGINAL-URL:https://allsaintsinfantsnormanton.co.uk
X-WR-CALDESC:Events for Normanton All Saints CE (A) Infant School
REFRESH-INTERVAL;VALUE=DURATION:PT1H
X-Robots-Tag:noindex
X-PUBLISHED-TTL:PT1H
BEGIN:VTIMEZONE
TZID:Europe/London
BEGIN:DAYLIGHT
TZOFFSETFROM:+0000
TZOFFSETTO:+0100
TZNAME:BST
DTSTART:20230326T010000
END:DAYLIGHT
BEGIN:STANDARD
TZOFFSETFROM:+0100
TZOFFSETTO:+0000
TZNAME:GMT
DTSTART:20231029T010000
END:STANDARD
BEGIN:DAYLIGHT
TZOFFSETFROM:+0000
TZOFFSETTO:+0100
TZNAME:BST
DTSTART:20240331T010000
END:DAYLIGHT
BEGIN:STANDARD
TZOFFSETFROM:+0100
TZOFFSETTO:+0000
TZNAME:GMT
DTSTART:20241027T010000
END:STANDARD
BEGIN:DAYLIGHT
TZOFFSETFROM:+0000
TZOFFSETTO:+0100
TZNAME:BST
DTSTART:20250330T010000
END:DAYLIGHT
BEGIN:STANDARD
TZOFFSETFROM:+0100
TZOFFSETTO:+0000
TZNAME:GMT
DTSTART:20251026T010000
END:STANDARD
BEGIN:DAYLIGHT
TZOFFSETFROM:+0000
TZOFFSETTO:+0100
TZNAME:BST
DTSTART:20260329T010000
END:DAYLIGHT
BEGIN:STANDARD
TZOFFSETFROM:+0100
TZOFFSETTO:+0000
TZNAME:GMT
DTSTART:20261025T010000
END:STANDARD
END:VTIMEZONE
BEGIN:VEVENT
DTSTART;VALUE=DATE:20241129
DTEND;VALUE=DATE:20241130
DTSTAMP:20260421T022346
CREATED:20240915T063412Z
LAST-MODIFIED:20240915T063412Z
UID:13112-1732838400-1732924799@allsaintsinfantsnormanton.co.uk
SUMMARY:Decorating the school Christmas tree
DESCRIPTION:We will be joining as a school family to decorate our Christmas trees whilst singing some of our favourite Christmas songs.
URL:https://allsaintsinfantsnormanton.co.uk/event/decorating-the-school-christmas-tree-2/
CATEGORIES:Whole School
END:VEVENT
BEGIN:VEVENT
DTSTART;TZID=Europe/London:20241120T151500
DTEND;TZID=Europe/London:20241120T161500
DTSTAMP:20260421T022346
CREATED:20240917T145104Z
LAST-MODIFIED:20240917T145104Z
UID:13224-1732115700-1732119300@allsaintsinfantsnormanton.co.uk
SUMMARY:Art Club
DESCRIPTION:Taking place in school 3:15pm to 4:15pm
URL:https://allsaintsinfantsnormanton.co.uk/event/art-club/
CATEGORIES:Whole School
END:VEVENT
BEGIN:VEVENT
DTSTART;VALUE=DATE:20241206
DTEND;VALUE=DATE:20241207
DTSTAMP:20260421T022346
CREATED:20240915T071756Z
LAST-MODIFIED:20240915T071756Z
UID:13123-1733443200-1733529599@allsaintsinfantsnormanton.co.uk
SUMMARY:Parent and child Hygge Christmas event
DESCRIPTION:Come and enjoy exploring the outdoors during our Christmas Hygge event. We will be enjoying toasting marshmallows around our fire pit!
URL:https://allsaintsinfantsnormanton.co.uk/event/parent-and-child-hygge-christmas-event/
CATEGORIES:Parents & Carers,Whole School
END:VEVENT
BEGIN:VEVENT
DTSTART;TZID=Europe/London:20241120T151500
DTEND;TZID=Europe/London:20241120T161500
DTSTAMP:20260421T022346
CREATED:20240917T145104Z
LAST-MODIFIED:20240917T145104Z
UID:13224-1732115700-1732119300@allsaintsinfantsnormanton.co.uk
SUMMARY:Art Club
DESCRIPTION:Taking place in school 3:15pm to 4:15pm
URL:https://allsaintsinfantsnormanton.co.uk/event/art-club/
CATEGORIES:Whole School
END:VEVENT
BEGIN:VEVENT
DTSTART;VALUE=DATE:20241213
DTEND;VALUE=DATE:20241214
DTSTAMP:20260421T022346
CREATED:20240915T072132Z
LAST-MODIFIED:20240915T072132Z
UID:13128-1734048000-1734134399@allsaintsinfantsnormanton.co.uk
SUMMARY:Christmas Jumper and Christmas Dinner Day
DESCRIPTION:Christmas jumpers can be worn to raise money for Save the Children. £1 donation.  We will also be coming together as a school family for our Christmas dinner.
URL:https://allsaintsinfantsnormanton.co.uk/event/christmas-jumper-and-christmas-dinner-day/
CATEGORIES:Whole School
END:VEVENT
BEGIN:VEVENT
DTSTART;VALUE=DATE:20241219
DTEND;VALUE=DATE:20241220
DTSTAMP:20260421T022346
CREATED:20240915T073019Z
LAST-MODIFIED:20240915T073019Z
UID:13145-1734566400-1734652799@allsaintsinfantsnormanton.co.uk
SUMMARY:Christmas Den Day
DESCRIPTION:
URL:https://allsaintsinfantsnormanton.co.uk/event/christmas-den-day/
CATEGORIES:Whole School
END:VEVENT
BEGIN:VEVENT
DTSTART;TZID=Europe/London:20241220T091500
DTEND;TZID=Europe/London:20241220T103000
DTSTAMP:20260421T022346
CREATED:20240915T073203Z
LAST-MODIFIED:20240915T073203Z
UID:13147-1734686100-1734690600@allsaintsinfantsnormanton.co.uk
SUMMARY:Spanish Nativity in Church
DESCRIPTION:Our Year 2 Spanish club will be leading a nativity in Spanish! All parents welcome.
URL:https://allsaintsinfantsnormanton.co.uk/event/spanish-nativity-in-church/
CATEGORIES:Whole School
END:VEVENT
BEGIN:VEVENT
DTSTART;TZID=Europe/London:20241220T140000
DTEND;TZID=Europe/London:20241220T140000
DTSTAMP:20260421T022346
CREATED:20240915T073322Z
LAST-MODIFIED:20240915T073322Z
UID:13150-1734703200-1734703200@allsaintsinfantsnormanton.co.uk
SUMMARY:School closes for the Christmas break
DESCRIPTION:
URL:https://allsaintsinfantsnormanton.co.uk/event/school-closes-for-the-christmas-break-2/
CATEGORIES:Whole School
END:VEVENT
BEGIN:VEVENT
DTSTART;VALUE=DATE:20250117
DTEND;VALUE=DATE:20250118
DTSTAMP:20260421T022346
CREATED:20250102T161534Z
LAST-MODIFIED:20250108T215609Z
UID:13565-1737072000-1737158399@allsaintsinfantsnormanton.co.uk
SUMMARY:Class newsletters sent home
DESCRIPTION:Please look out for your child’s class newsletter which will be sent home today.
URL:https://allsaintsinfantsnormanton.co.uk/event/class-newsletters-sent-home-2/
CATEGORIES:Whole School
END:VEVENT
BEGIN:VEVENT
DTSTART;VALUE=DATE:20250119
DTEND;VALUE=DATE:20250120
DTSTAMP:20260421T022346
CREATED:20250102T161259Z
LAST-MODIFIED:20250102T161259Z
UID:13561-1737244800-1737331199@allsaintsinfantsnormanton.co.uk
SUMMARY:World Religion Day
DESCRIPTION:
URL:https://allsaintsinfantsnormanton.co.uk/event/world-religion-day/
CATEGORIES:Whole School
END:VEVENT
BEGIN:VEVENT
DTSTART;VALUE=DATE:20250124
DTEND;VALUE=DATE:20250125
DTSTAMP:20260421T022346
CREATED:20250102T162022Z
LAST-MODIFIED:20250102T162022Z
UID:13570-1737676800-1737763199@allsaintsinfantsnormanton.co.uk
SUMMARY:Compliment someone day
DESCRIPTION:We look forward to teaching our children the importance of sharing kind words and gestures. We are receiving many compliments on this day!
URL:https://allsaintsinfantsnormanton.co.uk/event/compliment-someone-day/
CATEGORIES:Whole School
END:VEVENT
BEGIN:VEVENT
DTSTART;TZID=Europe/London:20250124T080000
DTEND;TZID=Europe/London:20250126T170000
DTSTAMP:20260421T022346
CREATED:20250102T162107Z
LAST-MODIFIED:20250102T162107Z
UID:13572-1737705600-1737910800@allsaintsinfantsnormanton.co.uk
SUMMARY:RSPB Big Bird Watch
DESCRIPTION:
URL:https://allsaintsinfantsnormanton.co.uk/event/rspb-big-bird-watch/
CATEGORIES:Whole School
END:VEVENT
BEGIN:VEVENT
DTSTART;VALUE=DATE:20250204
DTEND;VALUE=DATE:20250205
DTSTAMP:20260421T022346
CREATED:20250108T222003Z
LAST-MODIFIED:20250108T222003Z
UID:13710-1738627200-1738713599@allsaintsinfantsnormanton.co.uk
SUMMARY:Shrove Tuesday Pancake Cafe
DESCRIPTION:We will be enjoying some tasty treats in our pancake ca. fe as we prepare for Lent
URL:https://allsaintsinfantsnormanton.co.uk/event/shrove-tuesday-pancake-cafe-2/
CATEGORIES:Whole School
END:VEVENT
BEGIN:VEVENT
DTSTART;VALUE=DATE:20250207
DTEND;VALUE=DATE:20250208
DTSTAMP:20260421T022346
CREATED:20250104T193350Z
LAST-MODIFIED:20250104T193350Z
UID:13597-1738886400-1738972799@allsaintsinfantsnormanton.co.uk
SUMMARY:NSPCC Number Day
DESCRIPTION:
URL:https://allsaintsinfantsnormanton.co.uk/event/nspcc-number-day-2/
CATEGORIES:Whole School
END:VEVENT
BEGIN:VEVENT
DTSTART;VALUE=DATE:20250211
DTEND;VALUE=DATE:20250212
DTSTAMP:20260421T022346
CREATED:20250104T193431Z
LAST-MODIFIED:20250104T193431Z
UID:13599-1739232000-1739318399@allsaintsinfantsnormanton.co.uk
SUMMARY:Safer Internet Day
DESCRIPTION:
URL:https://allsaintsinfantsnormanton.co.uk/event/safer-internet-day/
CATEGORIES:Whole School
END:VEVENT
BEGIN:VEVENT
DTSTART;VALUE=DATE:20250213
DTEND;VALUE=DATE:20250214
DTSTAMP:20260421T022346
CREATED:20250108T222210Z
LAST-MODIFIED:20250108T222210Z
UID:13716-1739404800-1739491199@allsaintsinfantsnormanton.co.uk
SUMMARY:School closes for the half term break at 3.15pm
DESCRIPTION:
URL:https://allsaintsinfantsnormanton.co.uk/event/school-closes-for-the-half-term-break-at-3-15pm-2/
CATEGORIES:Whole School
END:VEVENT
BEGIN:VEVENT
DTSTART;VALUE=DATE:20250214
DTEND;VALUE=DATE:20250215
DTSTAMP:20260421T022346
CREATED:20250104T193830Z
LAST-MODIFIED:20250104T193830Z
UID:13603-1739491200-1739577599@allsaintsinfantsnormanton.co.uk
SUMMARY:School closed for all children for an Inset Day (Staff training day)
DESCRIPTION:The school will finish for the half term break on Thursday 13th February.
URL:https://allsaintsinfantsnormanton.co.uk/event/school-closed-for-all-children-for-an-inset-day-staff-training-day/
CATEGORIES:Parents & Carers,Whole School
END:VEVENT
BEGIN:VEVENT
DTSTART;TZID=Europe/London:20250225T140000
DTEND;TZID=Europe/London:20250225T150000
DTSTAMP:20260421T022346
CREATED:20250104T194109Z
LAST-MODIFIED:20250104T194109Z
UID:13606-1740492000-1740495600@allsaintsinfantsnormanton.co.uk
SUMMARY:Parent workshops focused on sleep
DESCRIPTION:Future in mind will be visiting school to lead parent workshops to help provide useful information and ideas with regards to children and sleep.
URL:https://allsaintsinfantsnormanton.co.uk/event/parent-workshops-focused-on-sleep/
CATEGORIES:Parents & Carers,Whole School
END:VEVENT
BEGIN:VEVENT
DTSTART;TZID=Europe/London:20250226T173000
DTEND;TZID=Europe/London:20250226T183000
DTSTAMP:20260421T022346
CREATED:20250108T220522Z
LAST-MODIFIED:20250108T220522Z
UID:13687-1740591000-1740594600@allsaintsinfantsnormanton.co.uk
SUMMARY:Storytelling evening for families
DESCRIPTION:We will be opening our doors at 5.30pm and will be inviting you into school to take part in our fun storytelling evening. We will end the evening with a ‘bedtime’ story and treat just in time for you to go back home to bed.
URL:https://allsaintsinfantsnormanton.co.uk/event/storytelling-evening-for-families/
CATEGORIES:Parents & Carers,Whole School
END:VEVENT
BEGIN:VEVENT
DTSTART;VALUE=DATE:20250306
DTEND;VALUE=DATE:20250307
DTSTAMP:20260421T022346
CREATED:20250104T194538Z
LAST-MODIFIED:20250104T194538Z
UID:13614-1741219200-1741305599@allsaintsinfantsnormanton.co.uk
SUMMARY:World Book Day
DESCRIPTION:All children are invited to come to school dressed as their favourite story/ book character.
URL:https://allsaintsinfantsnormanton.co.uk/event/world-book-day-2/
CATEGORIES:Whole School
END:VEVENT
BEGIN:VEVENT
DTSTART;VALUE=DATE:20250307
DTEND;VALUE=DATE:20250308
DTSTAMP:20260421T022346
CREATED:20250104T194743Z
LAST-MODIFIED:20250104T194743Z
UID:13620-1741305600-1741391999@allsaintsinfantsnormanton.co.uk
SUMMARY:Class newsletters sent home
DESCRIPTION:
URL:https://allsaintsinfantsnormanton.co.uk/event/class-newsletters-sent-home-3/
CATEGORIES:Whole School
END:VEVENT
BEGIN:VEVENT
DTSTART;VALUE=DATE:20250307
DTEND;VALUE=DATE:20250308
DTSTAMP:20260421T022346
CREATED:20250107T173016Z
LAST-MODIFIED:20250107T173016Z
UID:13671-1741305600-1741391999@allsaintsinfantsnormanton.co.uk
SUMMARY:Conrad Burdekin parent and child workshops
DESCRIPTION:
URL:https://allsaintsinfantsnormanton.co.uk/event/conrad-burdekin-parent-and-child-workshops/
CATEGORIES:Parents & Carers,Whole School
END:VEVENT
BEGIN:VEVENT
DTSTART;TZID=Europe/London:20250310T080000
DTEND;TZID=Europe/London:20250314T170000
DTSTAMP:20260421T022346
CREATED:20250104T194848Z
LAST-MODIFIED:20250104T194848Z
UID:13623-1741593600-1741971600@allsaintsinfantsnormanton.co.uk
SUMMARY:British Science Week
DESCRIPTION:
URL:https://allsaintsinfantsnormanton.co.uk/event/british-science-week-2/
CATEGORIES:Whole School
END:VEVENT
BEGIN:VEVENT
DTSTART;TZID=Europe/London:20250311T140000
DTEND;TZID=Europe/London:20250311T150000
DTSTAMP:20260421T022346
CREATED:20250104T195205Z
LAST-MODIFIED:20250104T195205Z
UID:13628-1741701600-1741705200@allsaintsinfantsnormanton.co.uk
SUMMARY:Parent workshops linked to anxiety in children
DESCRIPTION:Future in mind will be leading parent and family workshops at 2pm. All welcome.
URL:https://allsaintsinfantsnormanton.co.uk/event/parent-workshops-linked-to-anxiety-in-children/
CATEGORIES:Parents & Carers,Whole School
END:VEVENT
BEGIN:VEVENT
DTSTART;VALUE=DATE:20250321
DTEND;VALUE=DATE:20250322
DTSTAMP:20260421T022346
CREATED:20250107T173351Z
LAST-MODIFIED:20250107T173351Z
UID:13673-1742515200-1742601599@allsaintsinfantsnormanton.co.uk
SUMMARY:Spring Hygge parent and child event
DESCRIPTION:
URL:https://allsaintsinfantsnormanton.co.uk/event/spring-hygge-parent-and-child-event/
CATEGORIES:Parents & Carers,Whole School
END:VEVENT
BEGIN:VEVENT
DTSTART;VALUE=DATE:20250322
DTEND;VALUE=DATE:20250323
DTSTAMP:20260421T022346
CREATED:20250104T195508Z
LAST-MODIFIED:20250104T195508Z
UID:13630-1742601600-1742687999@allsaintsinfantsnormanton.co.uk
SUMMARY:Earth Hour
DESCRIPTION:We will be encouraging you to join in with Earth Hour by switching off to help save our planet. For further information please take a look at \nJoin the Biggest Hour for Earth | Earth Hour
URL:https://allsaintsinfantsnormanton.co.uk/event/earth-hour-2/
CATEGORIES:Parents & Carers,Whole School
END:VEVENT
BEGIN:VEVENT
DTSTART;TZID=Europe/London:20250328T090000
DTEND;TZID=Europe/London:20250328T100000
DTSTAMP:20260421T022346
CREATED:20250104T200259Z
LAST-MODIFIED:20250104T200259Z
UID:13643-1743152400-1743156000@allsaintsinfantsnormanton.co.uk
SUMMARY:Mothers Day service in Church led by Mrs Wood-Stone's class
DESCRIPTION:Mrs Wood-Stones (The Giraffes) class will be leading our church service at 9\,15am. All mums\, aunties\, grandmas and all family members are welcome!
URL:https://allsaintsinfantsnormanton.co.uk/event/mothers-day-service-in-church-led-by-mrs-wood-stones-class/
CATEGORIES:Parents & Carers,Whole School
END:VEVENT
BEGIN:VEVENT
DTSTART;VALUE=DATE:20250402
DTEND;VALUE=DATE:20250403
DTSTAMP:20260421T022346
CREATED:20250104T200338Z
LAST-MODIFIED:20250104T200338Z
UID:13645-1743552000-1743638399@allsaintsinfantsnormanton.co.uk
SUMMARY:World Autism Awareness Day
DESCRIPTION:
URL:https://allsaintsinfantsnormanton.co.uk/event/world-autism-awareness-day/
CATEGORIES:Whole School
END:VEVENT
BEGIN:VEVENT
DTSTART;VALUE=DATE:20250402
DTEND;VALUE=DATE:20250403
DTSTAMP:20260421T022346
CREATED:20250104T200501Z
LAST-MODIFIED:20250104T200501Z
UID:13647-1743552000-1743638399@allsaintsinfantsnormanton.co.uk
SUMMARY:Easter Parade
DESCRIPTION:We will be inviting children to bring in their Easter bonnets\, ties and/ or gardens to showcase during our traditional Easter Parade.
URL:https://allsaintsinfantsnormanton.co.uk/event/easter-parade-2/
CATEGORIES:Whole School
END:VEVENT
BEGIN:VEVENT
DTSTART;TZID=Europe/London:20250404T090000
DTEND;TZID=Europe/London:20250404T100000
DTSTAMP:20260421T022346
CREATED:20250104T200746Z
LAST-MODIFIED:20250104T200746Z
UID:13652-1743757200-1743760800@allsaintsinfantsnormanton.co.uk
SUMMARY:Easter service led by Miss McDermott's class
DESCRIPTION:Miss McDermott’s class will be leading the Easter service in Church at 9.15am. Parents and family members are welcome to join us.
URL:https://allsaintsinfantsnormanton.co.uk/event/easter-service-led-by-miss-mcdermotts-class/
CATEGORIES:Parents & Carers,Whole School
END:VEVENT
END:VCALENDAR