BEGIN:VCALENDAR
VERSION:2.0
PRODID:-//Normanton All Saints CE (A) Infant School - ECPv6.15.20//NONSGML v1.0//EN
CALSCALE:GREGORIAN
METHOD:PUBLISH
X-WR-CALNAME:Normanton All Saints CE (A) Infant School
X-ORIGINAL-URL:https://allsaintsinfantsnormanton.co.uk
X-WR-CALDESC:Events for Normanton All Saints CE (A) Infant School
REFRESH-INTERVAL;VALUE=DURATION:PT1H
X-Robots-Tag:noindex
X-PUBLISHED-TTL:PT1H
BEGIN:VTIMEZONE
TZID:Europe/London
BEGIN:DAYLIGHT
TZOFFSETFROM:+0000
TZOFFSETTO:+0100
TZNAME:BST
DTSTART:20250330T010000
END:DAYLIGHT
BEGIN:STANDARD
TZOFFSETFROM:+0100
TZOFFSETTO:+0000
TZNAME:GMT
DTSTART:20251026T010000
END:STANDARD
BEGIN:DAYLIGHT
TZOFFSETFROM:+0000
TZOFFSETTO:+0100
TZNAME:BST
DTSTART:20260329T010000
END:DAYLIGHT
BEGIN:STANDARD
TZOFFSETFROM:+0100
TZOFFSETTO:+0000
TZNAME:GMT
DTSTART:20261025T010000
END:STANDARD
BEGIN:DAYLIGHT
TZOFFSETFROM:+0000
TZOFFSETTO:+0100
TZNAME:BST
DTSTART:20270328T010000
END:DAYLIGHT
BEGIN:STANDARD
TZOFFSETFROM:+0100
TZOFFSETTO:+0000
TZNAME:GMT
DTSTART:20271031T010000
END:STANDARD
END:VTIMEZONE
BEGIN:VEVENT
DTSTART;VALUE=DATE:20260202
DTEND;VALUE=DATE:20260207
DTSTAMP:20260420T011558
CREATED:20260104T111212Z
LAST-MODIFIED:20260104T111212Z
UID:14562-1769990400-1770422399@allsaintsinfantsnormanton.co.uk
SUMMARY:Children's Mental Health week
DESCRIPTION:
URL:https://allsaintsinfantsnormanton.co.uk/event/childrens-mental-health-week/
CATEGORIES:Whole School
END:VEVENT
BEGIN:VEVENT
DTSTART;VALUE=DATE:20260213
DTEND;VALUE=DATE:20260214
DTSTAMP:20260420T011558
CREATED:20260104T111902Z
LAST-MODIFIED:20260104T111902Z
UID:14575-1770940800-1771027199@allsaintsinfantsnormanton.co.uk
SUMMARY:Inset day. School closed for all pupils.
DESCRIPTION:School will be closed to all nursery and main school children for staff training.
URL:https://allsaintsinfantsnormanton.co.uk/event/inset-day-school-closed-for-all-pupils-2/
CATEGORIES:Parents & Carers,Whole School
END:VEVENT
BEGIN:VEVENT
DTSTART;VALUE=DATE:20260305
DTEND;VALUE=DATE:20260306
DTSTAMP:20260420T011558
CREATED:20260105T131258Z
LAST-MODIFIED:20260105T131258Z
UID:14596-1772668800-1772755199@allsaintsinfantsnormanton.co.uk
SUMMARY:World Book Day
DESCRIPTION:Children can come dressed as their favourite story/ book character on this day.
URL:https://allsaintsinfantsnormanton.co.uk/event/world-book-day-4/
CATEGORIES:Whole School
END:VEVENT
BEGIN:VEVENT
DTSTART;VALUE=DATE:20260316
DTEND;VALUE=DATE:20260317
DTSTAMP:20260420T011558
CREATED:20260105T140113Z
LAST-MODIFIED:20260105T140113Z
UID:14605-1773619200-1773705599@allsaintsinfantsnormanton.co.uk
SUMMARY:Governor morning- Learning walk around the school
DESCRIPTION:
URL:https://allsaintsinfantsnormanton.co.uk/event/governor-morning-learning-walk-around-the-school/
CATEGORIES:Whole School
END:VEVENT
BEGIN:VEVENT
DTSTART;VALUE=DATE:20260320
DTEND;VALUE=DATE:20260321
DTSTAMP:20260420T011558
CREATED:20260105T140336Z
LAST-MODIFIED:20260105T140336Z
UID:14610-1773964800-1774051199@allsaintsinfantsnormanton.co.uk
SUMMARY:Rock your socks day
DESCRIPTION:Children can wear their odd socks to raise awareness for Down Syndrome day
URL:https://allsaintsinfantsnormanton.co.uk/event/rock-your-socks-day/
CATEGORIES:Whole School
END:VEVENT
BEGIN:VEVENT
DTSTART;TZID=Europe/London:20260327T091500
DTEND;TZID=Europe/London:20260327T100000
DTSTAMP:20260420T011558
CREATED:20260105T140915Z
LAST-MODIFIED:20260105T140915Z
UID:14616-1774602900-1774605600@allsaintsinfantsnormanton.co.uk
SUMMARY:Easter service led by Miss Beal/ Mr Price's class (Foxes)
DESCRIPTION:The Easter service will take place in All Saints Church at 9.15am. Parents and family members welcome.
URL:https://allsaintsinfantsnormanton.co.uk/event/easter-service-led-by-miss-beal-mr-prices-class-foxes/
CATEGORIES:Whole School,Year 1
END:VEVENT
BEGIN:VEVENT
DTSTART;TZID=Europe/London:20260327T140000
DTEND;TZID=Europe/London:20260327T140000
DTSTAMP:20260420T011558
CREATED:20260105T140956Z
LAST-MODIFIED:20260105T140956Z
UID:14619-1774620000-1774620000@allsaintsinfantsnormanton.co.uk
SUMMARY:School closes for the Easter break at 2pm
DESCRIPTION:
URL:https://allsaintsinfantsnormanton.co.uk/event/school-closes-for-the-easter-break-at-2pm/
CATEGORIES:Whole School
END:VEVENT
BEGIN:VEVENT
DTSTART;VALUE=DATE:20260422
DTEND;VALUE=DATE:20260423
DTSTAMP:20260420T011558
CREATED:20260412T111807Z
LAST-MODIFIED:20260412T111807Z
UID:14751-1776816000-1776902399@allsaintsinfantsnormanton.co.uk
SUMMARY:Earth Day
DESCRIPTION:
URL:https://allsaintsinfantsnormanton.co.uk/event/earth-day/
CATEGORIES:School Committee members,Whole School
END:VEVENT
BEGIN:VEVENT
DTSTART;VALUE=DATE:20260425
DTEND;VALUE=DATE:20260426
DTSTAMP:20260420T011558
CREATED:20260412T112145Z
LAST-MODIFIED:20260412T112145Z
UID:14753-1777075200-1777161599@allsaintsinfantsnormanton.co.uk
SUMMARY:Class newsletters sent home
DESCRIPTION:Please take the time to read the class newsletters to find out about the learning for this half term.
URL:https://allsaintsinfantsnormanton.co.uk/event/class-newsletters-sent-home-6/
CATEGORIES:Parents & Carers,Whole School
END:VEVENT
BEGIN:VEVENT
DTSTART;VALUE=DATE:20260501
DTEND;VALUE=DATE:20260502
DTSTAMP:20260420T011558
CREATED:20260413T130006Z
LAST-MODIFIED:20260413T130052Z
UID:14765-1777593600-1777679999@allsaintsinfantsnormanton.co.uk
SUMMARY:SEND Hygge outdoor event at Nursery
DESCRIPTION:A SEND friendly version of our ever popular Hygge event to be held at our Nursery. Times to be confirmed
URL:https://allsaintsinfantsnormanton.co.uk/event/send-hygge-outdoor-event-at-nursery/
CATEGORIES:Whole School
END:VEVENT
BEGIN:VEVENT
DTSTART;VALUE=DATE:20260504
DTEND;VALUE=DATE:20260505
DTSTAMP:20260420T011558
CREATED:20260413T130541Z
LAST-MODIFIED:20260413T130541Z
UID:14767-1777852800-1777939199@allsaintsinfantsnormanton.co.uk
SUMMARY:Bank Holiday - School & Nursery Closed
DESCRIPTION:
URL:https://allsaintsinfantsnormanton.co.uk/event/bank-holiday-school-nursery-closed/
CATEGORIES:Nursery,Parents & Carers,Whole School
END:VEVENT
BEGIN:VEVENT
DTSTART;VALUE=DATE:20260506
DTEND;VALUE=DATE:20260507
DTSTAMP:20260420T011558
CREATED:20260413T131206Z
LAST-MODIFIED:20260413T131206Z
UID:14775-1778025600-1778111999@allsaintsinfantsnormanton.co.uk
SUMMARY:International Dance Day
DESCRIPTION:More information to follow
URL:https://allsaintsinfantsnormanton.co.uk/event/international-dance-day/
CATEGORIES:Whole School
END:VEVENT
BEGIN:VEVENT
DTSTART;TZID=Europe/London:20260506T090000
DTEND;TZID=Europe/London:20260506T110000
DTSTAMP:20260420T011558
CREATED:20260413T131103Z
LAST-MODIFIED:20260413T144215Z
UID:14772-1778058000-1778065200@allsaintsinfantsnormanton.co.uk
SUMMARY:SEND Coffee Morning for Parents and Carers
DESCRIPTION:Parents carers forum will be hosting a coffee morning for parents/ carers. 9am in the staffroom. We look forward to seeing you there.
URL:https://allsaintsinfantsnormanton.co.uk/event/send-coffee-morning-for-parents-and-carers/
CATEGORIES:Nursery,Parents & Carers,Whole School
END:VEVENT
BEGIN:VEVENT
DTSTART;TZID=Europe/London:20260508T090000
DTEND;TZID=Europe/London:20260508T094500
DTSTAMP:20260420T011558
CREATED:20260413T131843Z
LAST-MODIFIED:20260413T131910Z
UID:14780-1778230800-1778233500@allsaintsinfantsnormanton.co.uk
SUMMARY:Awesome achievers assembly
DESCRIPTION:9am in the school hall\, Parents of our Awesome Achievers will receive an envelope with an invitation to attend before the event.
URL:https://allsaintsinfantsnormanton.co.uk/event/awesome-achievers-assembly-2/
CATEGORIES:Parents & Carers,Whole School
END:VEVENT
BEGIN:VEVENT
DTSTART;VALUE=DATE:20260520
DTEND;VALUE=DATE:20260521
DTSTAMP:20260420T011558
CREATED:20260413T133543Z
LAST-MODIFIED:20260413T133543Z
UID:14788-1779235200-1779321599@allsaintsinfantsnormanton.co.uk
SUMMARY:Walk to School Wednesday!
DESCRIPTION:More information to follow
URL:https://allsaintsinfantsnormanton.co.uk/event/walk-to-school-wednesday/
CATEGORIES:Nursery,Whole School
END:VEVENT
BEGIN:VEVENT
DTSTART;VALUE=DATE:20260522
DTEND;VALUE=DATE:20260523
DTSTAMP:20260420T011558
CREATED:20260413T133812Z
LAST-MODIFIED:20260413T133812Z
UID:14794-1779408000-1779494399@allsaintsinfantsnormanton.co.uk
SUMMARY:Inset Day - School and Nursery closed for staff training
DESCRIPTION:
URL:https://allsaintsinfantsnormanton.co.uk/event/inset-day-school-and-nursery-closed-for-staff-training/
CATEGORIES:Nursery,Whole School
END:VEVENT
BEGIN:VEVENT
DTSTART;VALUE=DATE:20260525
DTEND;VALUE=DATE:20260530
DTSTAMP:20260420T011558
CREATED:20260413T133901Z
LAST-MODIFIED:20260413T133901Z
UID:14796-1779667200-1780099199@allsaintsinfantsnormanton.co.uk
SUMMARY:Half term holiday - School and Nursery closed
DESCRIPTION:
URL:https://allsaintsinfantsnormanton.co.uk/event/half-term-holiday-school-and-nursery-closed/
CATEGORIES:Nursery,Whole School
END:VEVENT
BEGIN:VEVENT
DTSTART;VALUE=DATE:20260605
DTEND;VALUE=DATE:20260606
DTSTAMP:20260420T011558
CREATED:20260413T134835Z
LAST-MODIFIED:20260413T134835Z
UID:14800-1780617600-1780703999@allsaintsinfantsnormanton.co.uk
SUMMARY:NSPCC Childhood Day - Fundraising event
DESCRIPTION:More information to follow
URL:https://allsaintsinfantsnormanton.co.uk/event/nspcc-childhood-day-fundraising-event/
CATEGORIES:Nursery,Whole School
END:VEVENT
BEGIN:VEVENT
DTSTART;VALUE=DATE:20260612
DTEND;VALUE=DATE:20260613
DTSTAMP:20260420T011558
CREATED:20260413T135004Z
LAST-MODIFIED:20260413T135004Z
UID:14803-1781222400-1781308799@allsaintsinfantsnormanton.co.uk
SUMMARY:Class newsletters sent home
DESCRIPTION:Please take the time to read the class newsletters to find out about the learning for this half term.
URL:https://allsaintsinfantsnormanton.co.uk/event/class-newsletters-sent-home-7/
CATEGORIES:Nursery,Parents & Carers,Whole School
END:VEVENT
BEGIN:VEVENT
DTSTART;TZID=Europe/London:20260623T090000
DTEND;TZID=Europe/London:20260623T113000
DTSTAMP:20260420T011558
CREATED:20260413T141038Z
LAST-MODIFIED:20260413T141038Z
UID:14814-1782205200-1782214200@allsaintsinfantsnormanton.co.uk
SUMMARY:Parent workshop - Anxiety in children
DESCRIPTION:Parents and carers are invited to attend this workshop to be held in the staffroom\, where we will be looking at the issues surrounding anxiety in children. More information and a link to book places at this session will be sent out nearer the time
URL:https://allsaintsinfantsnormanton.co.uk/event/parent-workshop-anxiety-in-children/
CATEGORIES:Nursery,Parents & Carers,Whole School
END:VEVENT
BEGIN:VEVENT
DTSTART;TZID=Europe/London:20260626T090000
DTEND;TZID=Europe/London:20260626T094500
DTSTAMP:20260420T011558
CREATED:20260413T142008Z
LAST-MODIFIED:20260413T142008Z
UID:14826-1782464400-1782467100@allsaintsinfantsnormanton.co.uk
SUMMARY:Awesome Achievers Assembly
DESCRIPTION:9am in the school hall\, Parents of our Awesome Achievers will receive an envelope with an invitation to attend before the event.
URL:https://allsaintsinfantsnormanton.co.uk/event/awesome-achievers-assembly-3/
CATEGORIES:Parents & Carers,Whole School
END:VEVENT
BEGIN:VEVENT
DTSTART;VALUE=DATE:20260703
DTEND;VALUE=DATE:20260704
DTSTAMP:20260420T011558
CREATED:20260413T143352Z
LAST-MODIFIED:20260413T143352Z
UID:14837-1783036800-1783123199@allsaintsinfantsnormanton.co.uk
SUMMARY:Summer Hygge parent and child event
DESCRIPTION:We will be inviting parents to come along and join in with our Summer Hygge outdoor workshop.
URL:https://allsaintsinfantsnormanton.co.uk/event/summer-hygge-parent-and-child-event/
CATEGORIES:Parents & Carers,Whole School
END:VEVENT
BEGIN:VEVENT
DTSTART;VALUE=DATE:20260708
DTEND;VALUE=DATE:20260709
DTSTAMP:20260420T011558
CREATED:20260413T143736Z
LAST-MODIFIED:20260413T143736Z
UID:14843-1783468800-1783555199@allsaintsinfantsnormanton.co.uk
SUMMARY:Transition day
DESCRIPTION:All children will be spending time in their new classes. Year 2 children will spend the full day at their junior schools. Nursery will be closed all day for new starter induction meetings.
URL:https://allsaintsinfantsnormanton.co.uk/event/transition-day-2/
CATEGORIES:Nursery,Whole School
END:VEVENT
BEGIN:VEVENT
DTSTART;TZID=Europe/London:20260709T090000
DTEND;TZID=Europe/London:20260709T110000
DTSTAMP:20260420T011558
CREATED:20260413T144139Z
LAST-MODIFIED:20260413T144139Z
UID:14846-1783587600-1783594800@allsaintsinfantsnormanton.co.uk
SUMMARY:SEND coffee morning for parents and carers
DESCRIPTION:Parents carers forum will be hosting a coffee morning for parents/ carers. 9am in the staffroom. We look forward to seeing you there.
URL:https://allsaintsinfantsnormanton.co.uk/event/send-coffee-morning-for-parents-and-carers-2/
CATEGORIES:Nursery,Parents & Carers,Whole School
END:VEVENT
BEGIN:VEVENT
DTSTART;TZID=Europe/London:20260709T151500
DTEND;TZID=Europe/London:20260709T161500
DTSTAMP:20260420T011558
CREATED:20260413T144501Z
LAST-MODIFIED:20260413T144501Z
UID:14850-1783610100-1783613700@allsaintsinfantsnormanton.co.uk
SUMMARY:RSPCA Fundraising after school event
DESCRIPTION:Miss Ballance and the school councillors will be running a fundraising event after school to raise money for the RSPCA.  More information will be sent closer to the time
URL:https://allsaintsinfantsnormanton.co.uk/event/rspca-fundraising-after-school-event/
CATEGORIES:Nursery,Parents & Carers,Whole School
END:VEVENT
BEGIN:VEVENT
DTSTART;VALUE=DATE:20260710
DTEND;VALUE=DATE:20260711
DTSTAMP:20260420T011558
CREATED:20260413T144806Z
LAST-MODIFIED:20260413T144806Z
UID:14855-1783641600-1783727999@allsaintsinfantsnormanton.co.uk
SUMMARY:End of year reports sent home
DESCRIPTION:The end of year reports will be sent home with children. We encourage you to read these with your children and to send back the feedback form which will be enclosed.
URL:https://allsaintsinfantsnormanton.co.uk/event/end-of-year-reports-sent-home/
CATEGORIES:Nursery,Parents & Carers,Whole School
END:VEVENT
BEGIN:VEVENT
DTSTART;TZID=Europe/London:20260710T130000
DTEND;TZID=Europe/London:20260710T151500
DTSTAMP:20260420T011558
CREATED:20260413T144632Z
LAST-MODIFIED:20260413T144632Z
UID:14852-1783688400-1783696500@allsaintsinfantsnormanton.co.uk
SUMMARY:University of Life afternoon
DESCRIPTION:All main school children will be able to choose a workshop to learn a new skill.
URL:https://allsaintsinfantsnormanton.co.uk/event/university-of-life-afternoon/
CATEGORIES:Whole School
END:VEVENT
BEGIN:VEVENT
DTSTART;TZID=Europe/London:20260717T091500
DTEND;TZID=Europe/London:20260717T104500
DTSTAMP:20260420T011558
CREATED:20260413T150415Z
LAST-MODIFIED:20260413T150415Z
UID:14868-1784279700-1784285100@allsaintsinfantsnormanton.co.uk
SUMMARY:Leavers service in Church - Parents and family members welcome to attend
DESCRIPTION:All parents and family members are invited to attend this Leavers service held in Church at 9:15am.
URL:https://allsaintsinfantsnormanton.co.uk/event/leavers-service-in-church-parents-and-family-members-welcome-to-attend/
CATEGORIES:Parents & Carers,Whole School
END:VEVENT
BEGIN:VEVENT
DTSTART;TZID=Europe/London:20260717T140000
DTEND;TZID=Europe/London:20260717T151500
DTSTAMP:20260420T011558
CREATED:20260413T150544Z
LAST-MODIFIED:20260413T150544Z
UID:14870-1784296800-1784301300@allsaintsinfantsnormanton.co.uk
SUMMARY:School and Nursery close at 2pm for the Summer holidays
DESCRIPTION:Main school and nursery will close at 2pm today for the summer holiday break.
URL:https://allsaintsinfantsnormanton.co.uk/event/school-and-nursery-close-at-2pm-for-the-summer-holidays/
CATEGORIES:Nursery,Parents & Carers,Whole School
END:VEVENT
BEGIN:VEVENT
DTSTART;VALUE=DATE:20260720
DTEND;VALUE=DATE:20260903
DTSTAMP:20260420T011558
CREATED:20260413T150656Z
LAST-MODIFIED:20260413T150656Z
UID:14873-1784505600-1788393599@allsaintsinfantsnormanton.co.uk
SUMMARY:School and Nursery closed for the Summer holidays
DESCRIPTION:
URL:https://allsaintsinfantsnormanton.co.uk/event/school-and-nursery-closed-for-the-summer-holidays/
CATEGORIES:Nursery,Parents & Carers,Whole School
END:VEVENT
END:VCALENDAR