BEGIN:VCALENDAR
VERSION:2.0
PRODID:-//Normanton All Saints CE (A) Infant School - ECPv6.15.20//NONSGML v1.0//EN
CALSCALE:GREGORIAN
METHOD:PUBLISH
X-WR-CALNAME:Normanton All Saints CE (A) Infant School
X-ORIGINAL-URL:https://allsaintsinfantsnormanton.co.uk
X-WR-CALDESC:Events for Normanton All Saints CE (A) Infant School
REFRESH-INTERVAL;VALUE=DURATION:PT1H
X-Robots-Tag:noindex
X-PUBLISHED-TTL:PT1H
BEGIN:VTIMEZONE
TZID:Europe/London
BEGIN:DAYLIGHT
TZOFFSETFROM:+0000
TZOFFSETTO:+0100
TZNAME:BST
DTSTART:20240331T010000
END:DAYLIGHT
BEGIN:STANDARD
TZOFFSETFROM:+0100
TZOFFSETTO:+0000
TZNAME:GMT
DTSTART:20241027T010000
END:STANDARD
BEGIN:DAYLIGHT
TZOFFSETFROM:+0000
TZOFFSETTO:+0100
TZNAME:BST
DTSTART:20250330T010000
END:DAYLIGHT
BEGIN:STANDARD
TZOFFSETFROM:+0100
TZOFFSETTO:+0000
TZNAME:GMT
DTSTART:20251026T010000
END:STANDARD
BEGIN:DAYLIGHT
TZOFFSETFROM:+0000
TZOFFSETTO:+0100
TZNAME:BST
DTSTART:20260329T010000
END:DAYLIGHT
BEGIN:STANDARD
TZOFFSETFROM:+0100
TZOFFSETTO:+0000
TZNAME:GMT
DTSTART:20261025T010000
END:STANDARD
BEGIN:DAYLIGHT
TZOFFSETFROM:+0000
TZOFFSETTO:+0100
TZNAME:BST
DTSTART:20270328T010000
END:DAYLIGHT
BEGIN:STANDARD
TZOFFSETFROM:+0100
TZOFFSETTO:+0000
TZNAME:GMT
DTSTART:20271031T010000
END:STANDARD
END:VTIMEZONE
BEGIN:VEVENT
DTSTART;TZID=Europe/London:20250610T090000
DTEND;TZID=Europe/London:20250610T093000
DTSTAMP:20260421T135228
CREATED:20250514T091657Z
LAST-MODIFIED:20250514T091657Z
UID:13968-1749546000-1749547800@allsaintsinfantsnormanton.co.uk
SUMMARY:Miss Dutton's (Whales) class worship
DESCRIPTION:9am in the school hall. Parents and family members welcome.
URL:https://allsaintsinfantsnormanton.co.uk/event/miss-duttons-whales-class-worship/
CATEGORIES:Year 1
END:VEVENT
BEGIN:VEVENT
DTSTART;TZID=Europe/London:20250612T090000
DTEND;TZID=Europe/London:20250612T093000
DTSTAMP:20260421T135228
CREATED:20250514T091759Z
LAST-MODIFIED:20250514T091759Z
UID:13971-1749718800-1749720600@allsaintsinfantsnormanton.co.uk
SUMMARY:Mrs Burton's class (Penguins) worship
DESCRIPTION:9am in the school hall. Parents and family members welcome.
URL:https://allsaintsinfantsnormanton.co.uk/event/mrs-burtons-class-penguins-worship/
CATEGORIES:Year 1
END:VEVENT
BEGIN:VEVENT
DTSTART;TZID=Europe/London:20250618T133000
DTEND;TZID=Europe/London:20250618T143000
DTSTAMP:20260421T135228
CREATED:20250514T093850Z
LAST-MODIFIED:20250514T093929Z
UID:13987-1750253400-1750257000@allsaintsinfantsnormanton.co.uk
SUMMARY:Year 1 Sports Day
DESCRIPTION:1.30pm. Parents and family members welcome.
URL:https://allsaintsinfantsnormanton.co.uk/event/year-1-sports-day/
CATEGORIES:Year 1
END:VEVENT
BEGIN:VEVENT
DTSTART;VALUE=DATE:20250623
DTEND;VALUE=DATE:20250624
DTSTAMP:20260421T135228
CREATED:20250514T101517Z
LAST-MODIFIED:20250514T101517Z
UID:13991-1750636800-1750723199@allsaintsinfantsnormanton.co.uk
SUMMARY:Year 1 visit to the seaside
DESCRIPTION:Our Year 1 children will be visiting Hornsea for the day linked to their Geography topic.
URL:https://allsaintsinfantsnormanton.co.uk/event/year-1-visit-to-the-seaside/
CATEGORIES:Year 1
END:VEVENT
BEGIN:VEVENT
DTSTART;TZID=Europe/London:20250918T090000
DTEND;TZID=Europe/London:20250918T100000
DTSTAMP:20260421T135228
CREATED:20250904T103353Z
LAST-MODIFIED:20250904T103353Z
UID:14103-1758186000-1758189600@allsaintsinfantsnormanton.co.uk
SUMMARY:New to Year 1 meeting
DESCRIPTION:Year 1 parents are invited to the ‘New to Year 1’ parent meeting. 9am in the school hall.
URL:https://allsaintsinfantsnormanton.co.uk/event/new-to-year-1-meeting/
CATEGORIES:Parents & Carers,Year 1
END:VEVENT
BEGIN:VEVENT
DTSTART;VALUE=DATE:20250929
DTEND;VALUE=DATE:20250930
DTSTAMP:20260421T135228
CREATED:20250904T104528Z
LAST-MODIFIED:20250904T104528Z
UID:14119-1759104000-1759190399@allsaintsinfantsnormanton.co.uk
SUMMARY:Creature Ark visit to Year 1
DESCRIPTION:Creature Ark will be bringing a range of animals into Year 1 for the children to explore and find out about linked to their science curriculum.
URL:https://allsaintsinfantsnormanton.co.uk/event/creature-ark-visit-to-year-1-2/
CATEGORIES:Year 1
END:VEVENT
BEGIN:VEVENT
DTSTART;TZID=Europe/London:20251002T090000
DTEND;TZID=Europe/London:20251002T093000
DTSTAMP:20260421T135228
CREATED:20250904T110410Z
LAST-MODIFIED:20250904T110410Z
UID:14125-1759395600-1759397400@allsaintsinfantsnormanton.co.uk
SUMMARY:Foxes (Mr Price and Miss Beal) Class Worship
DESCRIPTION:9am in the school hall. Parents and families welcome.
URL:https://allsaintsinfantsnormanton.co.uk/event/foxes-mr-price-and-miss-beal-class-worship/
CATEGORIES:Year 1
END:VEVENT
BEGIN:VEVENT
DTSTART;VALUE=DATE:20251022
DTEND;VALUE=DATE:20251023
DTSTAMP:20260421T135228
CREATED:20250904T113216Z
LAST-MODIFIED:20250904T113216Z
UID:14154-1761091200-1761177599@allsaintsinfantsnormanton.co.uk
SUMMARY:Pupil progress meetings for Year 1 parents
DESCRIPTION:All Year 1 parents can make an appointment to discuss with their child’s progress with their class teacher. Booking arrangements will be sent nearer the time.
URL:https://allsaintsinfantsnormanton.co.uk/event/pupil-progress-meetings-for-year-1-parents/
CATEGORIES:Parents & Carers,Year 1
END:VEVENT
BEGIN:VEVENT
DTSTART;TZID=Europe/London:20251104T090000
DTEND;TZID=Europe/London:20251104T093000
DTSTAMP:20260421T135228
CREATED:20250904T113737Z
LAST-MODIFIED:20250904T113737Z
UID:14168-1762246800-1762248600@allsaintsinfantsnormanton.co.uk
SUMMARY:The Flamingos (Miss Dutton) class worship
DESCRIPTION:9am in the school hall. Parents and families welcome to join us.
URL:https://allsaintsinfantsnormanton.co.uk/event/the-flamingos-miss-dutton-class-worship/
CATEGORIES:Parents & Carers,Year 1
END:VEVENT
BEGIN:VEVENT
DTSTART;TZID=Europe/London:20251112T084500
DTEND;TZID=Europe/London:20251112T091500
DTSTAMP:20260421T135228
CREATED:20250904T114945Z
LAST-MODIFIED:20250904T114945Z
UID:14181-1762937100-1762938900@allsaintsinfantsnormanton.co.uk
SUMMARY:Year 1 Phonics Drop in Session
DESCRIPTION:Year 1 parents are invited to come along to our phonics session to watch how this is delivered in Year 1. This will be at 8.45am in the Year 1 classrooms.
URL:https://allsaintsinfantsnormanton.co.uk/event/year-1-phonics-drop-in-session/
CATEGORIES:Parents & Carers,Year 1
END:VEVENT
BEGIN:VEVENT
DTSTART;TZID=Europe/London:20251113T090000
DTEND;TZID=Europe/London:20251113T093000
DTSTAMP:20260421T135228
CREATED:20250904T115607Z
LAST-MODIFIED:20250904T115607Z
UID:14187-1763024400-1763026200@allsaintsinfantsnormanton.co.uk
SUMMARY:The Koalas (Mrs Bond) class worship
DESCRIPTION:9am in the school hall. Parents and families welcome to join us.
URL:https://allsaintsinfantsnormanton.co.uk/event/the-koalas-mrs-bond-class-worship/
CATEGORIES:Parents & Carers,Year 1
END:VEVENT
BEGIN:VEVENT
DTSTART;VALUE=DATE:20251203
DTEND;VALUE=DATE:20251204
DTSTAMP:20260421T135228
CREATED:20250904T135612Z
LAST-MODIFIED:20250904T135612Z
UID:14200-1764720000-1764806399@allsaintsinfantsnormanton.co.uk
SUMMARY:Year 1 Christmas Town Council party
DESCRIPTION:
URL:https://allsaintsinfantsnormanton.co.uk/event/year-1-christmas-town-council-party/
CATEGORIES:Year 1
END:VEVENT
BEGIN:VEVENT
DTSTART;TZID=Europe/London:20251211T100000
DTEND;TZID=Europe/London:20251211T110000
DTSTAMP:20260421T135228
CREATED:20250904T140357Z
LAST-MODIFIED:20250904T140357Z
UID:14211-1765447200-1765450800@allsaintsinfantsnormanton.co.uk
SUMMARY:Year 1 Nativity
DESCRIPTION:This will take place at 10am in All Saints Church. Parents and families welcome to join us.
URL:https://allsaintsinfantsnormanton.co.uk/event/year-1-nativity-3/
CATEGORIES:Parents & Carers,Year 1
END:VEVENT
BEGIN:VEVENT
DTSTART;VALUE=DATE:20251216
DTEND;VALUE=DATE:20251217
DTSTAMP:20260421T135228
CREATED:20250904T140842Z
LAST-MODIFIED:20250904T140842Z
UID:14224-1765843200-1765929599@allsaintsinfantsnormanton.co.uk
SUMMARY:Year 1 Christmas Party
DESCRIPTION:Children can come dressed in their party clothes.
URL:https://allsaintsinfantsnormanton.co.uk/event/year-1-christmas-party-3/
CATEGORIES:Year 1
END:VEVENT
BEGIN:VEVENT
DTSTART;TZID=Europe/London:20260106T080000
DTEND;TZID=Europe/London:20260106T170000
DTSTAMP:20260421T135228
CREATED:20260106T153430Z
LAST-MODIFIED:20260106T153430Z
UID:14623-1767686400-1767718800@allsaintsinfantsnormanton.co.uk
SUMMARY:Year 1 phonics parent meeting
DESCRIPTION:Year 1 parents are invited to attend a phonics meeting about the Phonics Screening Check and how they can best help support their child at home. 5pm in the school hall on Monday 23rd March.
URL:https://allsaintsinfantsnormanton.co.uk/event/year-1-phonics-parent-meeting/
CATEGORIES:Parents & Carers,Year 1
END:VEVENT
BEGIN:VEVENT
DTSTART;VALUE=DATE:20260209
DTEND;VALUE=DATE:20260210
DTSTAMP:20260421T135228
CREATED:20260106T153307Z
LAST-MODIFIED:20260106T153307Z
UID:14621-1770595200-1770681599@allsaintsinfantsnormanton.co.uk
SUMMARY:Parent phonics drop in sessions for Year 1 invited parents
DESCRIPTION:Parents will be invited in to work with their child and Mrs Bond to help develop their phonics and reading skills.
URL:https://allsaintsinfantsnormanton.co.uk/event/parent-phonics-drop-in-sessions-for-year-1-invited-parents/
CATEGORIES:Parents & Carers,Year 1
END:VEVENT
BEGIN:VEVENT
DTSTART;VALUE=DATE:20260227
DTEND;VALUE=DATE:20260228
DTSTAMP:20260421T135228
CREATED:20260104T112649Z
LAST-MODIFIED:20260104T112649Z
UID:14578-1772150400-1772236799@allsaintsinfantsnormanton.co.uk
SUMMARY:Year 1 visit to Lotherton Hall
DESCRIPTION:Our Year 1 children will be visiting Lotherton Hall for the Florence Nightingale workshop linked to their History learning.
URL:https://allsaintsinfantsnormanton.co.uk/event/year-1-visit-to-lotherton-hall/
CATEGORIES:Year 1
END:VEVENT
BEGIN:VEVENT
DTSTART;TZID=Europe/London:20260303T090000
DTEND;TZID=Europe/London:20260303T093000
DTSTAMP:20260421T135228
CREATED:20260104T112818Z
LAST-MODIFIED:20260104T112818Z
UID:14581-1772528400-1772530200@allsaintsinfantsnormanton.co.uk
SUMMARY:Miss Dutton's class (Flamingos) worship
DESCRIPTION:Miss Dutton’s class will be leading a worship for parents and family members to attend. 9am in the school hall.
URL:https://allsaintsinfantsnormanton.co.uk/event/miss-duttons-class-flamingos-worship/
CATEGORIES:Year 1
END:VEVENT
BEGIN:VEVENT
DTSTART;TZID=Europe/London:20260327T091500
DTEND;TZID=Europe/London:20260327T100000
DTSTAMP:20260421T135228
CREATED:20260105T140915Z
LAST-MODIFIED:20260105T140915Z
UID:14616-1774602900-1774605600@allsaintsinfantsnormanton.co.uk
SUMMARY:Easter service led by Miss Beal/ Mr Price's class (Foxes)
DESCRIPTION:The Easter service will take place in All Saints Church at 9.15am. Parents and family members welcome.
URL:https://allsaintsinfantsnormanton.co.uk/event/easter-service-led-by-miss-beal-mr-prices-class-foxes/
CATEGORIES:Whole School,Year 1
END:VEVENT
BEGIN:VEVENT
DTSTART;TZID=Europe/London:20260505T090000
DTEND;TZID=Europe/London:20260505T093000
DTSTAMP:20260421T135228
CREATED:20260413T130753Z
LAST-MODIFIED:20260413T131957Z
UID:14769-1777971600-1777973400@allsaintsinfantsnormanton.co.uk
SUMMARY:Miss Dutton's (Flamingos) class worship
DESCRIPTION:9am in the school hall. All parents and family members are welcome to join us.
URL:https://allsaintsinfantsnormanton.co.uk/event/miss-duttons-flamingos-class-worship/
CATEGORIES:Parents & Carers,Year 1
END:VEVENT
BEGIN:VEVENT
DTSTART;VALUE=DATE:20260506
DTEND;VALUE=DATE:20260508
DTSTAMP:20260421T135228
CREATED:20260413T131531Z
LAST-MODIFIED:20260413T131531Z
UID:14778-1778025600-1778198399@allsaintsinfantsnormanton.co.uk
SUMMARY:Scootability - Year 1 children
DESCRIPTION:More information to follow
URL:https://allsaintsinfantsnormanton.co.uk/event/scootability-year-1-children/
CATEGORIES:Year 1
END:VEVENT
BEGIN:VEVENT
DTSTART;TZID=Europe/London:20260514T090000
DTEND;TZID=Europe/London:20260514T093000
DTSTAMP:20260421T135228
CREATED:20260413T133256Z
LAST-MODIFIED:20260413T133256Z
UID:14782-1778749200-1778751000@allsaintsinfantsnormanton.co.uk
SUMMARY:Mr Price & Miss Beal's (Foxes) class worship
DESCRIPTION:9am in the school hall. All parents and family members are welcome to join us.
URL:https://allsaintsinfantsnormanton.co.uk/event/mr-price-miss-beals-foxes-class-worship/
CATEGORIES:Parents & Carers,Year 1
END:VEVENT
BEGIN:VEVENT
DTSTART;TZID=Europe/London:20260521T090000
DTEND;TZID=Europe/London:20260521T093000
DTSTAMP:20260421T135228
CREATED:20260413T133646Z
LAST-MODIFIED:20260413T133646Z
UID:14791-1779354000-1779355800@allsaintsinfantsnormanton.co.uk
SUMMARY:Mrs Bond's (Koalas) class worship
DESCRIPTION:9am in the school hall. All parents and family members are welcome to join us.
URL:https://allsaintsinfantsnormanton.co.uk/event/mrs-bonds-koalas-class-worship/
CATEGORIES:Parents & Carers,Year 1
END:VEVENT
BEGIN:VEVENT
DTSTART;TZID=Europe/London:20260610T151500
DTEND;TZID=Europe/London:20260610T160000
DTSTAMP:20260421T135228
CREATED:20260416T102617Z
LAST-MODIFIED:20260416T102617Z
UID:14896-1781104500-1781107200@allsaintsinfantsnormanton.co.uk
SUMMARY:Year 1 Netball after school club with Miss Ballance
DESCRIPTION:
URL:https://allsaintsinfantsnormanton.co.uk/event/year-1-netball-after-school-club-with-miss-ballance/
CATEGORIES:Year 1
END:VEVENT
BEGIN:VEVENT
DTSTART;TZID=Europe/London:20260617T151500
DTEND;TZID=Europe/London:20260617T160000
DTSTAMP:20260421T135228
CREATED:20260416T102644Z
LAST-MODIFIED:20260416T102644Z
UID:14898-1781709300-1781712000@allsaintsinfantsnormanton.co.uk
SUMMARY:Year 1 Netball after school club with Miss Ballance
DESCRIPTION:
URL:https://allsaintsinfantsnormanton.co.uk/event/year-1-netball-after-school-club-with-miss-ballance-2/
CATEGORIES:Year 1
END:VEVENT
BEGIN:VEVENT
DTSTART;TZID=Europe/London:20260622T133000
DTEND;TZID=Europe/London:20260622T151500
DTSTAMP:20260421T135228
CREATED:20260413T135650Z
LAST-MODIFIED:20260413T135650Z
UID:14806-1782135000-1782141300@allsaintsinfantsnormanton.co.uk
SUMMARY:Year 1 sports day - Parents and family members welcome to attend
DESCRIPTION:The sports day will be held at 1:30pm on the sports field. We would love to see as many parents and family members come along to watch and cheer the children on. \nThis event will be held outside\, parents will be informed if the date needs to change to to weather conditions.
URL:https://allsaintsinfantsnormanton.co.uk/event/year-1-sports-day-parents-and-family-members-welcome-to-attend/
CATEGORIES:Parents & Carers,Year 1
END:VEVENT
BEGIN:VEVENT
DTSTART;TZID=Europe/London:20260624T151500
DTEND;TZID=Europe/London:20260624T160000
DTSTAMP:20260421T135228
CREATED:20260416T102715Z
LAST-MODIFIED:20260416T102715Z
UID:14900-1782314100-1782316800@allsaintsinfantsnormanton.co.uk
SUMMARY:Year 1 Netball after school club with Miss Ballance
DESCRIPTION:
URL:https://allsaintsinfantsnormanton.co.uk/event/year-1-netball-after-school-club-with-miss-ballance-3/
CATEGORIES:Year 1
END:VEVENT
BEGIN:VEVENT
DTSTART;TZID=Europe/London:20260701T151500
DTEND;TZID=Europe/London:20260701T160000
DTSTAMP:20260421T135228
CREATED:20260416T102740Z
LAST-MODIFIED:20260416T102740Z
UID:14902-1782918900-1782921600@allsaintsinfantsnormanton.co.uk
SUMMARY:Year 1 Netball after school club with Miss Ballance
DESCRIPTION:
URL:https://allsaintsinfantsnormanton.co.uk/event/year-1-netball-after-school-club-with-miss-ballance-4/
CATEGORIES:Year 1
END:VEVENT
BEGIN:VEVENT
DTSTART;TZID=Europe/London:20260708T151500
DTEND;TZID=Europe/London:20260708T160000
DTSTAMP:20260421T135228
CREATED:20260416T102818Z
LAST-MODIFIED:20260416T102818Z
UID:14904-1783523700-1783526400@allsaintsinfantsnormanton.co.uk
SUMMARY:Year 1 Netball after school club with Miss Ballance
DESCRIPTION:
URL:https://allsaintsinfantsnormanton.co.uk/event/year-1-netball-after-school-club-with-miss-ballance-5/
CATEGORIES:Year 1
END:VEVENT
END:VCALENDAR