BEGIN:VCALENDAR
VERSION:2.0
PRODID:-//Normanton All Saints CE (A) Infant School - ECPv6.15.20//NONSGML v1.0//EN
CALSCALE:GREGORIAN
METHOD:PUBLISH
X-ORIGINAL-URL:https://allsaintsinfantsnormanton.co.uk
X-WR-CALDESC:Events for Normanton All Saints CE (A) Infant School
REFRESH-INTERVAL;VALUE=DURATION:PT1H
X-Robots-Tag:noindex
X-PUBLISHED-TTL:PT1H
BEGIN:VTIMEZONE
TZID:Europe/London
BEGIN:DAYLIGHT
TZOFFSETFROM:+0000
TZOFFSETTO:+0100
TZNAME:BST
DTSTART:20210328T010000
END:DAYLIGHT
BEGIN:STANDARD
TZOFFSETFROM:+0100
TZOFFSETTO:+0000
TZNAME:GMT
DTSTART:20211031T010000
END:STANDARD
BEGIN:DAYLIGHT
TZOFFSETFROM:+0000
TZOFFSETTO:+0100
TZNAME:BST
DTSTART:20220327T010000
END:DAYLIGHT
BEGIN:STANDARD
TZOFFSETFROM:+0100
TZOFFSETTO:+0000
TZNAME:GMT
DTSTART:20221030T010000
END:STANDARD
BEGIN:DAYLIGHT
TZOFFSETFROM:+0000
TZOFFSETTO:+0100
TZNAME:BST
DTSTART:20230326T010000
END:DAYLIGHT
BEGIN:STANDARD
TZOFFSETFROM:+0100
TZOFFSETTO:+0000
TZNAME:GMT
DTSTART:20231029T010000
END:STANDARD
END:VTIMEZONE
BEGIN:VEVENT
DTSTART;TZID=Europe/London:20221108T151500
DTEND;TZID=Europe/London:20221108T160000
DTSTAMP:20260421T062736
CREATED:20220912T084058Z
LAST-MODIFIED:20220912T084058Z
UID:9159-1667920500-1667923200@allsaintsinfantsnormanton.co.uk
SUMMARY:Year 2 Spanish club 3.15pm-4pm
DESCRIPTION:
URL:https://allsaintsinfantsnormanton.co.uk/event/year-2-spanish-club-3-15pm-4pm/
CATEGORIES:Year 2
END:VEVENT
BEGIN:VEVENT
DTSTART;TZID=Europe/London:20221108T151500
DTEND;TZID=Europe/London:20221108T160000
DTSTAMP:20260421T062736
CREATED:20220912T084058Z
LAST-MODIFIED:20220912T084058Z
UID:9159-1667920500-1667923200@allsaintsinfantsnormanton.co.uk
SUMMARY:Year 2 Spanish club 3.15pm-4pm
DESCRIPTION:
URL:https://allsaintsinfantsnormanton.co.uk/event/year-2-spanish-club-3-15pm-4pm/
CATEGORIES:Year 2
END:VEVENT
BEGIN:VEVENT
DTSTART;TZID=Europe/London:20221111T090000
DTEND;TZID=Europe/London:20221111T093000
DTSTAMP:20260421T062736
CREATED:20220912T084232Z
LAST-MODIFIED:20220912T084232Z
UID:9168-1668157200-1668159000@allsaintsinfantsnormanton.co.uk
SUMMARY:The Leopards' class worship
DESCRIPTION:The Leopards’ will be leading our collective worship in the school hall at 9am. Parents and carers are welcome to attend.
URL:https://allsaintsinfantsnormanton.co.uk/event/the-leopards-class-worship/
CATEGORIES:Year 2
END:VEVENT
BEGIN:VEVENT
DTSTART;TZID=Europe/London:20221108T151500
DTEND;TZID=Europe/London:20221108T160000
DTSTAMP:20260421T062736
CREATED:20220912T084058Z
LAST-MODIFIED:20220912T084058Z
UID:9159-1667920500-1667923200@allsaintsinfantsnormanton.co.uk
SUMMARY:Year 2 Spanish club 3.15pm-4pm
DESCRIPTION:
URL:https://allsaintsinfantsnormanton.co.uk/event/year-2-spanish-club-3-15pm-4pm/
CATEGORIES:Year 2
END:VEVENT
BEGIN:VEVENT
DTSTART;VALUE=DATE:20221012
DTEND;VALUE=DATE:20221013
DTSTAMP:20260421T062736
CREATED:20220909T151419Z
LAST-MODIFIED:20220909T151419Z
UID:9136-1665532800-1665619199@allsaintsinfantsnormanton.co.uk
SUMMARY:Year 2 pupil progress meetings
DESCRIPTION:
URL:https://allsaintsinfantsnormanton.co.uk/event/year-2-pupil-progress-meetings-2/
CATEGORIES:Year 2
END:VEVENT
BEGIN:VEVENT
DTSTART;TZID=Europe/London:20221011T090000
DTEND;TZID=Europe/London:20221011T093000
DTSTAMP:20260421T062736
CREATED:20220909T151040Z
LAST-MODIFIED:20220909T151040Z
UID:9126-1665478800-1665480600@allsaintsinfantsnormanton.co.uk
SUMMARY:The Tigers' class collective worship
DESCRIPTION:The Tigers’ will be leading worship in the hall at 9am. Parents and carers welcome to attend.
URL:https://allsaintsinfantsnormanton.co.uk/event/the-tigers-class-collective-worship/
CATEGORIES:Year 2
END:VEVENT
BEGIN:VEVENT
DTSTART;TZID=Europe/London:20221006T151500
DTEND;TZID=Europe/London:20221006T160000
DTSTAMP:20260421T062736
CREATED:20220909T103641Z
LAST-MODIFIED:20220909T103641Z
UID:9113-1665069300-1665072000@allsaintsinfantsnormanton.co.uk
SUMMARY:Year 2 Reading Café
DESCRIPTION:Come and join us in the school hall at 3.15pm.
URL:https://allsaintsinfantsnormanton.co.uk/event/year-2-reading-cafe-8/
CATEGORIES:Year 2
END:VEVENT
BEGIN:VEVENT
DTSTART;TZID=Europe/London:20221005T090000
DTEND;TZID=Europe/London:20221005T093000
DTSTAMP:20260421T062736
CREATED:20220909T104039Z
LAST-MODIFIED:20220909T104039Z
UID:9119-1664960400-1664962200@allsaintsinfantsnormanton.co.uk
SUMMARY:The Jaguars' class collective worship
DESCRIPTION:The Jaguars’ will be leading our worship in the school hall at 9 am. Parents and carers welcome to attend.
URL:https://allsaintsinfantsnormanton.co.uk/event/the-jaguars-class-collective-worship/
CATEGORIES:Year 2
END:VEVENT
BEGIN:VEVENT
DTSTART;TZID=Europe/London:20220920T090000
DTEND;TZID=Europe/London:20220920T103000
DTSTAMP:20260421T062736
CREATED:20220909T101234Z
LAST-MODIFIED:20220909T101234Z
UID:9081-1663664400-1663669800@allsaintsinfantsnormanton.co.uk
SUMMARY:Year 2 welcome meeting
DESCRIPTION:The Year 2 team will be holding a meeting for all year 2 parents in the school hall at 9am. At this meeting we will be sharing information about the Year 2 curriculum\, the schools reading scheme and how parents can best support their child. We look forward to seeing you there.
URL:https://allsaintsinfantsnormanton.co.uk/event/year-2-welcome-meeting/
CATEGORIES:Year 2
END:VEVENT
END:VCALENDAR