BEGIN:VCALENDAR
VERSION:2.0
PRODID:-//Normanton All Saints CE (A) Infant School - ECPv6.15.20//NONSGML v1.0//EN
CALSCALE:GREGORIAN
METHOD:PUBLISH
X-WR-CALNAME:Normanton All Saints CE (A) Infant School
X-ORIGINAL-URL:https://allsaintsinfantsnormanton.co.uk
X-WR-CALDESC:Events for Normanton All Saints CE (A) Infant School
REFRESH-INTERVAL;VALUE=DURATION:PT1H
X-Robots-Tag:noindex
X-PUBLISHED-TTL:PT1H
BEGIN:VTIMEZONE
TZID:Europe/London
BEGIN:DAYLIGHT
TZOFFSETFROM:+0000
TZOFFSETTO:+0100
TZNAME:BST
DTSTART:20210328T010000
END:DAYLIGHT
BEGIN:STANDARD
TZOFFSETFROM:+0100
TZOFFSETTO:+0000
TZNAME:GMT
DTSTART:20211031T010000
END:STANDARD
BEGIN:DAYLIGHT
TZOFFSETFROM:+0000
TZOFFSETTO:+0100
TZNAME:BST
DTSTART:20220327T010000
END:DAYLIGHT
BEGIN:STANDARD
TZOFFSETFROM:+0100
TZOFFSETTO:+0000
TZNAME:GMT
DTSTART:20221030T010000
END:STANDARD
BEGIN:DAYLIGHT
TZOFFSETFROM:+0000
TZOFFSETTO:+0100
TZNAME:BST
DTSTART:20230326T010000
END:DAYLIGHT
BEGIN:STANDARD
TZOFFSETFROM:+0100
TZOFFSETTO:+0000
TZNAME:GMT
DTSTART:20231029T010000
END:STANDARD
BEGIN:DAYLIGHT
TZOFFSETFROM:+0000
TZOFFSETTO:+0100
TZNAME:BST
DTSTART:20240331T010000
END:DAYLIGHT
BEGIN:STANDARD
TZOFFSETFROM:+0100
TZOFFSETTO:+0000
TZNAME:GMT
DTSTART:20241027T010000
END:STANDARD
END:VTIMEZONE
BEGIN:VEVENT
DTSTART;TZID=Europe/London:20230713T180000
DTEND;TZID=Europe/London:20230713T193000
DTSTAMP:20260421T014145
CREATED:20230421T140100Z
LAST-MODIFIED:20230421T140100Z
UID:11323-1689271200-1689276600@allsaintsinfantsnormanton.co.uk
SUMMARY:Year 2 Show at 6pm in church
DESCRIPTION:Doors at church will open at 5.45pm. This is a ticketed event.
URL:https://allsaintsinfantsnormanton.co.uk/event/year-2-show-at-6pm-in-church/
CATEGORIES:Year 2
END:VEVENT
BEGIN:VEVENT
DTSTART;TZID=Europe/London:20230705T173000
DTEND;TZID=Europe/London:20230705T180000
DTSTAMP:20260421T014145
CREATED:20230421T135837Z
LAST-MODIFIED:20230421T135837Z
UID:11317-1688578200-1688580000@allsaintsinfantsnormanton.co.uk
SUMMARY:Transition Trail to Normanton Junior Academy at 5.30pm
DESCRIPTION:Doors open at Normanton All Saints Infant school at 5.30pm.
URL:https://allsaintsinfantsnormanton.co.uk/event/transition-trail-to-normanton-junior-academy-at-5-30pm/
CATEGORIES:Year 2
END:VEVENT
BEGIN:VEVENT
DTSTART;TZID=Europe/London:20230705T090000
DTEND;TZID=Europe/London:20230705T093000
DTSTAMP:20260421T014145
CREATED:20230421T135235Z
LAST-MODIFIED:20230421T135245Z
UID:11302-1688547600-1688549400@allsaintsinfantsnormanton.co.uk
SUMMARY:The Leopards are leading worship at 9am in the school hall.
DESCRIPTION:Mrs Lewis’ class will be leading worship. Parents and families are welcome to attend.
URL:https://allsaintsinfantsnormanton.co.uk/event/the-leopards-are-leading-worship-at-9am-in-the-school-hall/
CATEGORIES:Year 2
END:VEVENT
BEGIN:VEVENT
DTSTART;TZID=Europe/London:20230629T150000
DTEND;TZID=Europe/London:20230629T153000
DTSTAMP:20260421T014145
CREATED:20230421T134757Z
LAST-MODIFIED:20230421T134757Z
UID:11293-1688050800-1688052600@allsaintsinfantsnormanton.co.uk
SUMMARY:Year 2 writing presentation piece event for parents at 3pm.
DESCRIPTION:The Year 2 children will be sharing their writing proudly with their parents.
URL:https://allsaintsinfantsnormanton.co.uk/event/year-2-writing-presentation-piece-event-for-parents-at-3pm/
CATEGORIES:Year 2
END:VEVENT
BEGIN:VEVENT
DTSTART;TZID=Europe/London:20230628T090000
DTEND;TZID=Europe/London:20230628T093000
DTSTAMP:20260421T014145
CREATED:20230421T134623Z
LAST-MODIFIED:20230421T134623Z
UID:11290-1687942800-1687944600@allsaintsinfantsnormanton.co.uk
SUMMARY:The Jaguars are leading worship at 9am in the school hall.
DESCRIPTION:Miss Gallagher’s class will be leading worship. Parents and families are welcome to attend.
URL:https://allsaintsinfantsnormanton.co.uk/event/the-jaguars-are-leading-worship-at-9am-in-the-school-hall/
CATEGORIES:Year 2
END:VEVENT
BEGIN:VEVENT
DTSTART;TZID=Europe/London:20230621T133000
DTEND;TZID=Europe/London:20230621T150000
DTSTAMP:20260421T014145
CREATED:20230421T133707Z
LAST-MODIFIED:20230421T133707Z
UID:11270-1687354200-1687359600@allsaintsinfantsnormanton.co.uk
SUMMARY:Year 2 Sports Day at 1.30pm followed by the children's Art Gallery
DESCRIPTION:Parents and families are welcome to attend.
URL:https://allsaintsinfantsnormanton.co.uk/event/year-2-sports-day-at-1-30pm-followed-by-the-childrens-art-gallery/
CATEGORIES:Year 2
END:VEVENT
BEGIN:VEVENT
DTSTART;TZID=Europe/London:20230613T090000
DTEND;TZID=Europe/London:20230613T093000
DTSTAMP:20260421T014145
CREATED:20230421T132929Z
LAST-MODIFIED:20230421T132929Z
UID:11250-1686646800-1686648600@allsaintsinfantsnormanton.co.uk
SUMMARY:The Tigers are leading worship at 9am in the hall.
DESCRIPTION:Miss Hargrave’s class will be leading worship. Parents and families welcome to attend.
URL:https://allsaintsinfantsnormanton.co.uk/event/the-tigers-are-leading-worship-at-9am-in-the-hall/
CATEGORIES:Year 2
END:VEVENT
BEGIN:VEVENT
DTSTART;TZID=Europe/London:20230525T151500
DTEND;TZID=Europe/London:20230525T160000
DTSTAMP:20260421T014145
CREATED:20230421T132037Z
LAST-MODIFIED:20230421T132037Z
UID:11235-1685027700-1685030400@allsaintsinfantsnormanton.co.uk
SUMMARY:Year 2 Reading Cafe at 3.15pm in the hall.
DESCRIPTION:Parents and children are invited to join us in the school hall for a hot chocolate and a special time to listen to your child read.
URL:https://allsaintsinfantsnormanton.co.uk/event/year-2-reading-cafe-at-3-15pm-in-the-hall/
CATEGORIES:Year 2
END:VEVENT
BEGIN:VEVENT
DTSTART;TZID=Europe/London:20230503T151500
DTEND;TZID=Europe/London:20230503T161500
DTSTAMP:20260421T014145
CREATED:20230421T130536Z
LAST-MODIFIED:20230421T130536Z
UID:11210-1683126900-1683130500@allsaintsinfantsnormanton.co.uk
SUMMARY:Year 2 Multi-sports after school club 3.15pm-4.15pm.
DESCRIPTION:
URL:https://allsaintsinfantsnormanton.co.uk/event/year-2-multi-sports-after-school-club-3-15pm-4-15pm/
CATEGORIES:Year 2
END:VEVENT
BEGIN:VEVENT
DTSTART;TZID=Europe/London:20230503T151500
DTEND;TZID=Europe/London:20230503T161500
DTSTAMP:20260421T014145
CREATED:20230421T130536Z
LAST-MODIFIED:20230421T130536Z
UID:11210-1683126900-1683130500@allsaintsinfantsnormanton.co.uk
SUMMARY:Year 2 Multi-sports after school club 3.15pm-4.15pm.
DESCRIPTION:
URL:https://allsaintsinfantsnormanton.co.uk/event/year-2-multi-sports-after-school-club-3-15pm-4-15pm/
CATEGORIES:Year 2
END:VEVENT
BEGIN:VEVENT
DTSTART;TZID=Europe/London:20230503T151500
DTEND;TZID=Europe/London:20230503T161500
DTSTAMP:20260421T014145
CREATED:20230421T130536Z
LAST-MODIFIED:20230421T130536Z
UID:11210-1683126900-1683130500@allsaintsinfantsnormanton.co.uk
SUMMARY:Year 2 Multi-sports after school club 3.15pm-4.15pm.
DESCRIPTION:
URL:https://allsaintsinfantsnormanton.co.uk/event/year-2-multi-sports-after-school-club-3-15pm-4-15pm/
CATEGORIES:Year 2
END:VEVENT
BEGIN:VEVENT
DTSTART;TZID=Europe/London:20230503T151500
DTEND;TZID=Europe/London:20230503T161500
DTSTAMP:20260421T014145
CREATED:20230421T130536Z
LAST-MODIFIED:20230421T130536Z
UID:11210-1683126900-1683130500@allsaintsinfantsnormanton.co.uk
SUMMARY:Year 2 Multi-sports after school club 3.15pm-4.15pm.
DESCRIPTION:
URL:https://allsaintsinfantsnormanton.co.uk/event/year-2-multi-sports-after-school-club-3-15pm-4-15pm/
CATEGORIES:Year 2
END:VEVENT
BEGIN:VEVENT
DTSTART;TZID=Europe/London:20230320T090000
DTEND;TZID=Europe/London:20230320T093000
DTSTAMP:20260421T014145
CREATED:20230105T123734Z
LAST-MODIFIED:20230105T123734Z
UID:11021-1679302800-1679304600@allsaintsinfantsnormanton.co.uk
SUMMARY:Miss Hargrave's class leading worship at 9am
DESCRIPTION:Miss Hargrave’s class will be leading worship at 9am in the school hall. Families welcome to attend.
URL:https://allsaintsinfantsnormanton.co.uk/event/miss-hargraves-class-leading-worship-at-9am/
CATEGORIES:Year 2
END:VEVENT
BEGIN:VEVENT
DTSTART;TZID=Europe/London:20230306T170000
DTEND;TZID=Europe/London:20230306T180000
DTSTAMP:20260421T014145
CREATED:20230105T122735Z
LAST-MODIFIED:20230105T122735Z
UID:11006-1678122000-1678125600@allsaintsinfantsnormanton.co.uk
SUMMARY:Year 2 SATS meeting for parents at 5pm
DESCRIPTION:Parents are invited to attend a meeting at 5pm in the school hall to fond out about the Year 2 SATs.
URL:https://allsaintsinfantsnormanton.co.uk/event/year-2-sats-meeting-for-parents-at-5pm/
CATEGORIES:Year 2
END:VEVENT
BEGIN:VEVENT
DTSTART;VALUE=DATE:20230301
DTEND;VALUE=DATE:20230302
DTSTAMP:20260421T014145
CREATED:20230105T121807Z
LAST-MODIFIED:20230105T121807Z
UID:10986-1677628800-1677715199@allsaintsinfantsnormanton.co.uk
SUMMARY:Pupil progress meetings for Year 2
DESCRIPTION:Please make an appointment with your child’s class teacher to discuss progress and next steps.
URL:https://allsaintsinfantsnormanton.co.uk/event/pupil-progress-meetings-for-year-2/
CATEGORIES:Year 2
END:VEVENT
BEGIN:VEVENT
DTSTART;TZID=Europe/London:20230112T151500
DTEND;TZID=Europe/London:20230112T161500
DTSTAMP:20260421T014145
CREATED:20230105T112136Z
LAST-MODIFIED:20230105T113957Z
UID:10898-1673536500-1673540100@allsaintsinfantsnormanton.co.uk
SUMMARY:Year 2 Football Club 3.15pm-4.15pm
DESCRIPTION:
URL:https://allsaintsinfantsnormanton.co.uk/event/year-2-football-club-3-15pm-4-15pm/
CATEGORIES:Year 2
END:VEVENT
BEGIN:VEVENT
DTSTART;TZID=Europe/London:20230112T151500
DTEND;TZID=Europe/London:20230112T161500
DTSTAMP:20260421T014145
CREATED:20230105T112136Z
LAST-MODIFIED:20230105T113957Z
UID:10898-1673536500-1673540100@allsaintsinfantsnormanton.co.uk
SUMMARY:Year 2 Football Club 3.15pm-4.15pm
DESCRIPTION:
URL:https://allsaintsinfantsnormanton.co.uk/event/year-2-football-club-3-15pm-4-15pm/
CATEGORIES:Year 2
END:VEVENT
BEGIN:VEVENT
DTSTART;TZID=Europe/London:20230202T150000
DTEND;TZID=Europe/London:20230202T160000
DTSTAMP:20260421T014145
CREATED:20230105T115621Z
LAST-MODIFIED:20230105T115621Z
UID:10946-1675350000-1675353600@allsaintsinfantsnormanton.co.uk
SUMMARY:Year 2 story time and reading café at 3pm
DESCRIPTION:Year 2 parents are invited to join their child for story time at 3pm followed by our reading café.
URL:https://allsaintsinfantsnormanton.co.uk/event/year-2-story-time-and-reading-cafe-at-3pm/
CATEGORIES:Year 2
END:VEVENT
BEGIN:VEVENT
DTSTART;TZID=Europe/London:20230131T090000
DTEND;TZID=Europe/London:20230131T093000
DTSTAMP:20260421T014145
CREATED:20230105T114543Z
LAST-MODIFIED:20230105T114543Z
UID:10929-1675155600-1675157400@allsaintsinfantsnormanton.co.uk
SUMMARY:Miss Gallagher's class leading worship at 9am
DESCRIPTION:Miss Gallagher’s class will be leading worship at 9am in the school hall. Families welcome to attend.
URL:https://allsaintsinfantsnormanton.co.uk/event/miss-gallaghers-class-leading-worship-at-9am/
CATEGORIES:Year 2
END:VEVENT
BEGIN:VEVENT
DTSTART;TZID=Europe/London:20230112T151500
DTEND;TZID=Europe/London:20230112T161500
DTSTAMP:20260421T014145
CREATED:20230105T112136Z
LAST-MODIFIED:20230105T113957Z
UID:10898-1673536500-1673540100@allsaintsinfantsnormanton.co.uk
SUMMARY:Year 2 Football Club 3.15pm-4.15pm
DESCRIPTION:
URL:https://allsaintsinfantsnormanton.co.uk/event/year-2-football-club-3-15pm-4-15pm/
CATEGORIES:Year 2
END:VEVENT
BEGIN:VEVENT
DTSTART;TZID=Europe/London:20230112T151500
DTEND;TZID=Europe/London:20230112T161500
DTSTAMP:20260421T014145
CREATED:20230105T112136Z
LAST-MODIFIED:20230105T113957Z
UID:10898-1673536500-1673540100@allsaintsinfantsnormanton.co.uk
SUMMARY:Year 2 Football Club 3.15pm-4.15pm
DESCRIPTION:
URL:https://allsaintsinfantsnormanton.co.uk/event/year-2-football-club-3-15pm-4-15pm/
CATEGORIES:Year 2
END:VEVENT
BEGIN:VEVENT
DTSTART;TZID=Europe/London:20230112T151500
DTEND;TZID=Europe/London:20230112T161500
DTSTAMP:20260421T014145
CREATED:20230105T112136Z
LAST-MODIFIED:20230105T113957Z
UID:10898-1673536500-1673540100@allsaintsinfantsnormanton.co.uk
SUMMARY:Year 2 Football Club 3.15pm-4.15pm
DESCRIPTION:
URL:https://allsaintsinfantsnormanton.co.uk/event/year-2-football-club-3-15pm-4-15pm/
CATEGORIES:Year 2
END:VEVENT
BEGIN:VEVENT
DTSTART;TZID=Europe/London:20230112T113000
DTEND;TZID=Europe/London:20230112T120000
DTSTAMP:20260421T014145
CREATED:20230105T112331Z
LAST-MODIFIED:20230105T112331Z
UID:10901-1673523000-1673524800@allsaintsinfantsnormanton.co.uk
SUMMARY:Collective Worship Crew meeting
DESCRIPTION:
URL:https://allsaintsinfantsnormanton.co.uk/event/collective-worship-crew-meeting/
CATEGORIES:Year 2
END:VEVENT
BEGIN:VEVENT
DTSTART;TZID=Europe/London:20221216T090000
DTEND;TZID=Europe/London:20221216T100000
DTSTAMP:20260421T014145
CREATED:20220912T103010Z
LAST-MODIFIED:20220912T103010Z
UID:9235-1671181200-1671184800@allsaintsinfantsnormanton.co.uk
SUMMARY:Spanish Nativity at 9.15am in All Saints Church
DESCRIPTION:Parents and carers welcome to attend.
URL:https://allsaintsinfantsnormanton.co.uk/event/spanish-nativity-at-9-15am-in-all-saints-church/
CATEGORIES:Whole School,Year 2
END:VEVENT
BEGIN:VEVENT
DTSTART;TZID=Europe/London:20221214T130000
DTEND;TZID=Europe/London:20221214T150000
DTSTAMP:20260421T014145
CREATED:20220912T102704Z
LAST-MODIFIED:20220912T102704Z
UID:9228-1671022800-1671030000@allsaintsinfantsnormanton.co.uk
SUMMARY:Year 2 Christmas party
DESCRIPTION:
URL:https://allsaintsinfantsnormanton.co.uk/event/year-2-christmas-party-3/
CATEGORIES:Year 2
END:VEVENT
BEGIN:VEVENT
DTSTART;TZID=Europe/London:20221108T151500
DTEND;TZID=Europe/London:20221108T160000
DTSTAMP:20260421T014145
CREATED:20220912T084058Z
LAST-MODIFIED:20220912T084058Z
UID:9159-1667920500-1667923200@allsaintsinfantsnormanton.co.uk
SUMMARY:Year 2 Spanish club 3.15pm-4pm
DESCRIPTION:
URL:https://allsaintsinfantsnormanton.co.uk/event/year-2-spanish-club-3-15pm-4pm/
CATEGORIES:Year 2
END:VEVENT
BEGIN:VEVENT
DTSTART;TZID=Europe/London:20221213T140000
DTEND;TZID=Europe/London:20221213T150000
DTSTAMP:20260421T014145
CREATED:20220912T102441Z
LAST-MODIFIED:20221108T163324Z
UID:9221-1670940000-1670943600@allsaintsinfantsnormanton.co.uk
SUMMARY:Year 2 Nativity at 2pm in All Saints Church
DESCRIPTION:Parents and carers welcome to attend.
URL:https://allsaintsinfantsnormanton.co.uk/event/year-2-nativity-at-10am-in-all-saints-church/
CATEGORIES:Year 2
END:VEVENT
BEGIN:VEVENT
DTSTART;TZID=Europe/London:20221208T151500
DTEND;TZID=Europe/London:20221208T160000
DTSTAMP:20260421T014145
CREATED:20220912T085809Z
LAST-MODIFIED:20220912T085809Z
UID:9210-1670512500-1670515200@allsaintsinfantsnormanton.co.uk
SUMMARY:Year 2 Christmas Reading Café at 3.15pm
DESCRIPTION:Come and join us in the hall at 3.15pm.
URL:https://allsaintsinfantsnormanton.co.uk/event/year-2-christmas-reading-cafe-at-3-15pm/
CATEGORIES:Year 2
END:VEVENT
BEGIN:VEVENT
DTSTART;TZID=Europe/London:20221108T151500
DTEND;TZID=Europe/London:20221108T160000
DTSTAMP:20260421T014145
CREATED:20220912T084058Z
LAST-MODIFIED:20220912T084058Z
UID:9159-1667920500-1667923200@allsaintsinfantsnormanton.co.uk
SUMMARY:Year 2 Spanish club 3.15pm-4pm
DESCRIPTION:
URL:https://allsaintsinfantsnormanton.co.uk/event/year-2-spanish-club-3-15pm-4pm/
CATEGORIES:Year 2
END:VEVENT
BEGIN:VEVENT
DTSTART;TZID=Europe/London:20221108T151500
DTEND;TZID=Europe/London:20221108T160000
DTSTAMP:20260421T014145
CREATED:20220912T084058Z
LAST-MODIFIED:20220912T084058Z
UID:9159-1667920500-1667923200@allsaintsinfantsnormanton.co.uk
SUMMARY:Year 2 Spanish club 3.15pm-4pm
DESCRIPTION:
URL:https://allsaintsinfantsnormanton.co.uk/event/year-2-spanish-club-3-15pm-4pm/
CATEGORIES:Year 2
END:VEVENT
END:VCALENDAR