BEGIN:VCALENDAR
VERSION:2.0
PRODID:-//Normanton All Saints CE (A) Infant School - ECPv6.15.20//NONSGML v1.0//EN
CALSCALE:GREGORIAN
METHOD:PUBLISH
X-WR-CALNAME:Normanton All Saints CE (A) Infant School
X-ORIGINAL-URL:https://allsaintsinfantsnormanton.co.uk
X-WR-CALDESC:Events for Normanton All Saints CE (A) Infant School
REFRESH-INTERVAL;VALUE=DURATION:PT1H
X-Robots-Tag:noindex
X-PUBLISHED-TTL:PT1H
BEGIN:VTIMEZONE
TZID:Europe/London
BEGIN:DAYLIGHT
TZOFFSETFROM:+0000
TZOFFSETTO:+0100
TZNAME:BST
DTSTART:20230326T010000
END:DAYLIGHT
BEGIN:STANDARD
TZOFFSETFROM:+0100
TZOFFSETTO:+0000
TZNAME:GMT
DTSTART:20231029T010000
END:STANDARD
BEGIN:DAYLIGHT
TZOFFSETFROM:+0000
TZOFFSETTO:+0100
TZNAME:BST
DTSTART:20240331T010000
END:DAYLIGHT
BEGIN:STANDARD
TZOFFSETFROM:+0100
TZOFFSETTO:+0000
TZNAME:GMT
DTSTART:20241027T010000
END:STANDARD
BEGIN:DAYLIGHT
TZOFFSETFROM:+0000
TZOFFSETTO:+0100
TZNAME:BST
DTSTART:20250330T010000
END:DAYLIGHT
BEGIN:STANDARD
TZOFFSETFROM:+0100
TZOFFSETTO:+0000
TZNAME:GMT
DTSTART:20251026T010000
END:STANDARD
BEGIN:DAYLIGHT
TZOFFSETFROM:+0000
TZOFFSETTO:+0100
TZNAME:BST
DTSTART:20260329T010000
END:DAYLIGHT
BEGIN:STANDARD
TZOFFSETFROM:+0100
TZOFFSETTO:+0000
TZNAME:GMT
DTSTART:20261025T010000
END:STANDARD
END:VTIMEZONE
BEGIN:VEVENT
DTSTART;TZID=Europe/London:20250121T151500
DTEND;TZID=Europe/London:20250121T160000
DTSTAMP:20260420T132722
CREATED:20250108T221843Z
LAST-MODIFIED:20250108T221843Z
UID:13707-1737472500-1737475200@allsaintsinfantsnormanton.co.uk
SUMMARY:Year 2 Eco after school club
DESCRIPTION:
URL:https://allsaintsinfantsnormanton.co.uk/event/year-2-eco-after-school-club/
CATEGORIES:Year 2
END:VEVENT
BEGIN:VEVENT
DTSTART;TZID=Europe/London:20250114T151500
DTEND;TZID=Europe/London:20250114T160000
DTSTAMP:20260420T132722
CREATED:20250108T221548Z
LAST-MODIFIED:20250108T221548Z
UID:13704-1736867700-1736870400@allsaintsinfantsnormanton.co.uk
SUMMARY:Upper Foundation Stage Multi-Sports after school club
DESCRIPTION:
URL:https://allsaintsinfantsnormanton.co.uk/event/upper-foundation-stage-multi-sports-after-school-club/
CATEGORIES:EYFS
END:VEVENT
BEGIN:VEVENT
DTSTART;TZID=Europe/London:20250128T090000
DTEND;TZID=Europe/London:20250128T093000
DTSTAMP:20260420T132722
CREATED:20250102T162814Z
LAST-MODIFIED:20250102T162814Z
UID:13578-1738054800-1738056600@allsaintsinfantsnormanton.co.uk
SUMMARY:Mrs Carroll's class worship for Chinese New Year
DESCRIPTION:The Bees will be leading a class worship at 9am on Tuesday 28th January. Parents and family members welcome to join us in the school hall.
URL:https://allsaintsinfantsnormanton.co.uk/event/mrs-carrolls-class-worship-for-chinese-new-year/
CATEGORIES:EYFS
END:VEVENT
BEGIN:VEVENT
DTSTART;TZID=Europe/London:20250124T080000
DTEND;TZID=Europe/London:20250126T170000
DTSTAMP:20260420T132722
CREATED:20250102T162107Z
LAST-MODIFIED:20250102T162107Z
UID:13572-1737705600-1737910800@allsaintsinfantsnormanton.co.uk
SUMMARY:RSPB Big Bird Watch
DESCRIPTION:
URL:https://allsaintsinfantsnormanton.co.uk/event/rspb-big-bird-watch/
CATEGORIES:Whole School
END:VEVENT
BEGIN:VEVENT
DTSTART;VALUE=DATE:20250124
DTEND;VALUE=DATE:20250125
DTSTAMP:20260420T132722
CREATED:20250102T162022Z
LAST-MODIFIED:20250102T162022Z
UID:13570-1737676800-1737763199@allsaintsinfantsnormanton.co.uk
SUMMARY:Compliment someone day
DESCRIPTION:We look forward to teaching our children the importance of sharing kind words and gestures. We are receiving many compliments on this day!
URL:https://allsaintsinfantsnormanton.co.uk/event/compliment-someone-day/
CATEGORIES:Whole School
END:VEVENT
BEGIN:VEVENT
DTSTART;TZID=Europe/London:20250123T151500
DTEND;TZID=Europe/London:20250123T160000
DTSTAMP:20260420T132722
CREATED:20250108T222122Z
LAST-MODIFIED:20250108T222122Z
UID:13713-1737645300-1737648000@allsaintsinfantsnormanton.co.uk
SUMMARY:Key Stage One Board Club
DESCRIPTION:
URL:https://allsaintsinfantsnormanton.co.uk/event/key-stage-one-board-club/
CATEGORIES:Key stage 1
END:VEVENT
BEGIN:VEVENT
DTSTART;TZID=Europe/London:20250115T120000
DTEND;TZID=Europe/London:20250115T123000
DTSTAMP:20260420T132722
CREATED:20250108T223050Z
LAST-MODIFIED:20250108T223050Z
UID:13721-1736942400-1736944200@allsaintsinfantsnormanton.co.uk
SUMMARY:Lunchtime Choir Club
DESCRIPTION:
URL:https://allsaintsinfantsnormanton.co.uk/event/lunchtime-choir-club/
CATEGORIES:Choir
END:VEVENT
BEGIN:VEVENT
DTSTART;TZID=Europe/London:20250121T151500
DTEND;TZID=Europe/London:20250121T160000
DTSTAMP:20260420T132722
CREATED:20250108T221843Z
LAST-MODIFIED:20250108T221843Z
UID:13707-1737472500-1737475200@allsaintsinfantsnormanton.co.uk
SUMMARY:Year 2 Eco after school club
DESCRIPTION:
URL:https://allsaintsinfantsnormanton.co.uk/event/year-2-eco-after-school-club/
CATEGORIES:Year 2
END:VEVENT
BEGIN:VEVENT
DTSTART;TZID=Europe/London:20250114T151500
DTEND;TZID=Europe/London:20250114T160000
DTSTAMP:20260420T132722
CREATED:20250108T221548Z
LAST-MODIFIED:20250108T221548Z
UID:13704-1736867700-1736870400@allsaintsinfantsnormanton.co.uk
SUMMARY:Upper Foundation Stage Multi-Sports after school club
DESCRIPTION:
URL:https://allsaintsinfantsnormanton.co.uk/event/upper-foundation-stage-multi-sports-after-school-club/
CATEGORIES:EYFS
END:VEVENT
BEGIN:VEVENT
DTSTART;VALUE=DATE:20250119
DTEND;VALUE=DATE:20250120
DTSTAMP:20260420T132722
CREATED:20250102T161259Z
LAST-MODIFIED:20250102T161259Z
UID:13561-1737244800-1737331199@allsaintsinfantsnormanton.co.uk
SUMMARY:World Religion Day
DESCRIPTION:
URL:https://allsaintsinfantsnormanton.co.uk/event/world-religion-day/
CATEGORIES:Whole School
END:VEVENT
BEGIN:VEVENT
DTSTART;VALUE=DATE:20250117
DTEND;VALUE=DATE:20250118
DTSTAMP:20260420T132722
CREATED:20250102T161534Z
LAST-MODIFIED:20250108T215609Z
UID:13565-1737072000-1737158399@allsaintsinfantsnormanton.co.uk
SUMMARY:Class newsletters sent home
DESCRIPTION:Please look out for your child’s class newsletter which will be sent home today.
URL:https://allsaintsinfantsnormanton.co.uk/event/class-newsletters-sent-home-2/
CATEGORIES:Whole School
END:VEVENT
BEGIN:VEVENT
DTSTART;TZID=Europe/London:20250115T151500
DTEND;TZID=Europe/London:20250115T154500
DTSTAMP:20260420T132722
CREATED:20250108T221327Z
LAST-MODIFIED:20250108T221327Z
UID:13702-1736954100-1736955900@allsaintsinfantsnormanton.co.uk
SUMMARY:School Committee Meeting at 3.15pm- 3.45pm
DESCRIPTION:
URL:https://allsaintsinfantsnormanton.co.uk/event/school-committee-meeting-at-3-15pm-3-45pm/
CATEGORIES:School Committee members
END:VEVENT
BEGIN:VEVENT
DTSTART;TZID=Europe/London:20250115T120000
DTEND;TZID=Europe/London:20250115T123000
DTSTAMP:20260420T132722
CREATED:20250108T223050Z
LAST-MODIFIED:20250108T223050Z
UID:13721-1736942400-1736944200@allsaintsinfantsnormanton.co.uk
SUMMARY:Lunchtime Choir Club
DESCRIPTION:
URL:https://allsaintsinfantsnormanton.co.uk/event/lunchtime-choir-club/
CATEGORIES:Choir
END:VEVENT
BEGIN:VEVENT
DTSTART;TZID=Europe/London:20250114T151500
DTEND;TZID=Europe/London:20250114T160000
DTSTAMP:20260420T132722
CREATED:20250108T221548Z
LAST-MODIFIED:20250108T221548Z
UID:13704-1736867700-1736870400@allsaintsinfantsnormanton.co.uk
SUMMARY:Upper Foundation Stage Multi-Sports after school club
DESCRIPTION:
URL:https://allsaintsinfantsnormanton.co.uk/event/upper-foundation-stage-multi-sports-after-school-club/
CATEGORIES:EYFS
END:VEVENT
BEGIN:VEVENT
DTSTART;TZID=Europe/London:20241220T140000
DTEND;TZID=Europe/London:20241220T140000
DTSTAMP:20260420T132722
CREATED:20240915T073322Z
LAST-MODIFIED:20240915T073322Z
UID:13150-1734703200-1734703200@allsaintsinfantsnormanton.co.uk
SUMMARY:School closes for the Christmas break
DESCRIPTION:
URL:https://allsaintsinfantsnormanton.co.uk/event/school-closes-for-the-christmas-break-2/
CATEGORIES:Whole School
END:VEVENT
BEGIN:VEVENT
DTSTART;TZID=Europe/London:20241220T091500
DTEND;TZID=Europe/London:20241220T103000
DTSTAMP:20260420T132722
CREATED:20240915T073203Z
LAST-MODIFIED:20240915T073203Z
UID:13147-1734686100-1734690600@allsaintsinfantsnormanton.co.uk
SUMMARY:Spanish Nativity in Church
DESCRIPTION:Our Year 2 Spanish club will be leading a nativity in Spanish! All parents welcome.
URL:https://allsaintsinfantsnormanton.co.uk/event/spanish-nativity-in-church/
CATEGORIES:Whole School
END:VEVENT
BEGIN:VEVENT
DTSTART;TZID=Europe/London:20241114T151500
DTEND;TZID=Europe/London:20241114T161500
DTSTAMP:20260420T132722
CREATED:20241009T135644Z
LAST-MODIFIED:20241009T135644Z
UID:13367-1731597300-1731600900@allsaintsinfantsnormanton.co.uk
SUMMARY:Year 2 Spanish Club
DESCRIPTION:
URL:https://allsaintsinfantsnormanton.co.uk/event/year-2-spanish-club-2/
CATEGORIES:Year 2
END:VEVENT
BEGIN:VEVENT
DTSTART;VALUE=DATE:20241219
DTEND;VALUE=DATE:20241220
DTSTAMP:20260420T132722
CREATED:20240915T073019Z
LAST-MODIFIED:20240915T073019Z
UID:13145-1734566400-1734652799@allsaintsinfantsnormanton.co.uk
SUMMARY:Christmas Den Day
DESCRIPTION:
URL:https://allsaintsinfantsnormanton.co.uk/event/christmas-den-day/
CATEGORIES:Whole School
END:VEVENT
BEGIN:VEVENT
DTSTART;VALUE=DATE:20241218
DTEND;VALUE=DATE:20241219
DTSTAMP:20260420T132722
CREATED:20240915T072909Z
LAST-MODIFIED:20240915T072909Z
UID:13143-1734480000-1734566399@allsaintsinfantsnormanton.co.uk
SUMMARY:Year 2 Christmas party
DESCRIPTION:
URL:https://allsaintsinfantsnormanton.co.uk/event/year-2-christmas-party/
CATEGORIES:Year 2
END:VEVENT
BEGIN:VEVENT
DTSTART;VALUE=DATE:20241218
DTEND;VALUE=DATE:20241219
DTSTAMP:20260420T132722
CREATED:20240915T072817Z
LAST-MODIFIED:20241009T140121Z
UID:13141-1734480000-1734566399@allsaintsinfantsnormanton.co.uk
SUMMARY:Upper Foundation Stage Christmas party
DESCRIPTION:
URL:https://allsaintsinfantsnormanton.co.uk/event/upper-foundation-stage-christmas-party-2/
CATEGORIES:EYFS
END:VEVENT
BEGIN:VEVENT
DTSTART;TZID=Europe/London:20241217T100000
DTEND;TZID=Europe/London:20241217T110000
DTSTAMP:20260420T132722
CREATED:20240915T072525Z
LAST-MODIFIED:20240915T072525Z
UID:13135-1734429600-1734433200@allsaintsinfantsnormanton.co.uk
SUMMARY:Year 2 Nativity in Church
DESCRIPTION:Our Year 2 children will be leading their nativity in church at 10am. Parents and families welcome.
URL:https://allsaintsinfantsnormanton.co.uk/event/year-2-nativity-in-church/
CATEGORIES:Parents & Carers,Year 2
END:VEVENT
BEGIN:VEVENT
DTSTART;VALUE=DATE:20241217
DTEND;VALUE=DATE:20241218
DTSTAMP:20260420T132722
CREATED:20240915T072725Z
LAST-MODIFIED:20240915T072725Z
UID:13138-1734393600-1734479999@allsaintsinfantsnormanton.co.uk
SUMMARY:Year 1 Christmas party
DESCRIPTION:Year 1 children can come dressed in their party clothes.
URL:https://allsaintsinfantsnormanton.co.uk/event/year-1-christmas-party-2/
CATEGORIES:Year 1
END:VEVENT
BEGIN:VEVENT
DTSTART;VALUE=DATE:20241216
DTEND;VALUE=DATE:20241217
DTSTAMP:20260420T132722
CREATED:20240915T072407Z
LAST-MODIFIED:20241009T140036Z
UID:13133-1734307200-1734393599@allsaintsinfantsnormanton.co.uk
SUMMARY:Nursery Christmas Party
DESCRIPTION:Nursery Christmas party clothes at the ready!
URL:https://allsaintsinfantsnormanton.co.uk/event/nursery-christmas-party-2/
CATEGORIES:Nursery
END:VEVENT
BEGIN:VEVENT
DTSTART;VALUE=DATE:20241213
DTEND;VALUE=DATE:20241214
DTSTAMP:20260420T132722
CREATED:20240915T072307Z
LAST-MODIFIED:20240915T072307Z
UID:13130-1734048000-1734134399@allsaintsinfantsnormanton.co.uk
SUMMARY:Upper Foundation Stage Nativity in Church
DESCRIPTION:Our Upper Foundation Stage children will be leading their nativity in All Saints Church at 10am. Parents and families welcome.
URL:https://allsaintsinfantsnormanton.co.uk/event/upper-foundation-stage-nativity-in-church/
CATEGORIES:EYFS,Parents & Carers
END:VEVENT
BEGIN:VEVENT
DTSTART;VALUE=DATE:20241213
DTEND;VALUE=DATE:20241214
DTSTAMP:20260420T132722
CREATED:20240915T072132Z
LAST-MODIFIED:20240915T072132Z
UID:13128-1734048000-1734134399@allsaintsinfantsnormanton.co.uk
SUMMARY:Christmas Jumper and Christmas Dinner Day
DESCRIPTION:Christmas jumpers can be worn to raise money for Save the Children. £1 donation.  We will also be coming together as a school family for our Christmas dinner.
URL:https://allsaintsinfantsnormanton.co.uk/event/christmas-jumper-and-christmas-dinner-day/
CATEGORIES:Whole School
END:VEVENT
BEGIN:VEVENT
DTSTART;TZID=Europe/London:20241114T151500
DTEND;TZID=Europe/London:20241114T161500
DTSTAMP:20260420T132722
CREATED:20241009T135644Z
LAST-MODIFIED:20241009T135644Z
UID:13367-1731597300-1731600900@allsaintsinfantsnormanton.co.uk
SUMMARY:Year 2 Spanish Club
DESCRIPTION:
URL:https://allsaintsinfantsnormanton.co.uk/event/year-2-spanish-club-2/
CATEGORIES:Year 2
END:VEVENT
BEGIN:VEVENT
DTSTART;TZID=Europe/London:20241212T100000
DTEND;TZID=Europe/London:20241212T110000
DTSTAMP:20260420T132722
CREATED:20240915T071946Z
LAST-MODIFIED:20240915T071946Z
UID:13126-1733997600-1734001200@allsaintsinfantsnormanton.co.uk
SUMMARY:Year 1 Nativity
DESCRIPTION:Year 1 Nativity will be at 10am in All Saints Church. Parents and families welcome. Mince pies will be served in the hall from 8.45am.
URL:https://allsaintsinfantsnormanton.co.uk/event/year-1-nativity-2/
CATEGORIES:Parents & Carers,Year 1
END:VEVENT
BEGIN:VEVENT
DTSTART;TZID=Europe/London:20241120T151500
DTEND;TZID=Europe/London:20241120T161500
DTSTAMP:20260420T132722
CREATED:20240917T145104Z
LAST-MODIFIED:20240917T145104Z
UID:13224-1732115700-1732119300@allsaintsinfantsnormanton.co.uk
SUMMARY:Art Club
DESCRIPTION:Taking place in school 3:15pm to 4:15pm
URL:https://allsaintsinfantsnormanton.co.uk/event/art-club/
CATEGORIES:Whole School
END:VEVENT
BEGIN:VEVENT
DTSTART;VALUE=DATE:20241206
DTEND;VALUE=DATE:20241207
DTSTAMP:20260420T132722
CREATED:20240915T071756Z
LAST-MODIFIED:20240915T071756Z
UID:13123-1733443200-1733529599@allsaintsinfantsnormanton.co.uk
SUMMARY:Parent and child Hygge Christmas event
DESCRIPTION:Come and enjoy exploring the outdoors during our Christmas Hygge event. We will be enjoying toasting marshmallows around our fire pit!
URL:https://allsaintsinfantsnormanton.co.uk/event/parent-and-child-hygge-christmas-event/
CATEGORIES:Parents & Carers,Whole School
END:VEVENT
BEGIN:VEVENT
DTSTART;VALUE=DATE:20241206
DTEND;VALUE=DATE:20241207
DTSTAMP:20260420T132722
CREATED:20240915T071606Z
LAST-MODIFIED:20240915T071606Z
UID:13121-1733443200-1733529599@allsaintsinfantsnormanton.co.uk
SUMMARY:Nursery Nativity in Church
DESCRIPTION:Our Nursery children will be leading their nativity in All Saints Church. Morning performance will be 10.30am and the afternoon performance at 2.30pm. Parents and families welcome.
URL:https://allsaintsinfantsnormanton.co.uk/event/nursery-nativity-in-church/
CATEGORIES:Nursery,Parents & Carers
END:VEVENT
END:VCALENDAR