BEGIN:VCALENDAR
VERSION:2.0
PRODID:-//Normanton All Saints CE (A) Infant School - ECPv6.15.20//NONSGML v1.0//EN
CALSCALE:GREGORIAN
METHOD:PUBLISH
X-WR-CALNAME:Normanton All Saints CE (A) Infant School
X-ORIGINAL-URL:https://allsaintsinfantsnormanton.co.uk
X-WR-CALDESC:Events for Normanton All Saints CE (A) Infant School
REFRESH-INTERVAL;VALUE=DURATION:PT1H
X-Robots-Tag:noindex
X-PUBLISHED-TTL:PT1H
BEGIN:VTIMEZONE
TZID:Europe/London
BEGIN:DAYLIGHT
TZOFFSETFROM:+0000
TZOFFSETTO:+0100
TZNAME:BST
DTSTART:20230326T010000
END:DAYLIGHT
BEGIN:STANDARD
TZOFFSETFROM:+0100
TZOFFSETTO:+0000
TZNAME:GMT
DTSTART:20231029T010000
END:STANDARD
BEGIN:DAYLIGHT
TZOFFSETFROM:+0000
TZOFFSETTO:+0100
TZNAME:BST
DTSTART:20240331T010000
END:DAYLIGHT
BEGIN:STANDARD
TZOFFSETFROM:+0100
TZOFFSETTO:+0000
TZNAME:GMT
DTSTART:20241027T010000
END:STANDARD
BEGIN:DAYLIGHT
TZOFFSETFROM:+0000
TZOFFSETTO:+0100
TZNAME:BST
DTSTART:20250330T010000
END:DAYLIGHT
BEGIN:STANDARD
TZOFFSETFROM:+0100
TZOFFSETTO:+0000
TZNAME:GMT
DTSTART:20251026T010000
END:STANDARD
END:VTIMEZONE
BEGIN:VEVENT
DTSTART;TZID=Europe/London:20240417T151500
DTEND;TZID=Europe/London:20240417T161500
DTSTAMP:20260422T092747
CREATED:20240417T153400Z
LAST-MODIFIED:20240418T093455Z
UID:12613-1713366900-1713370500@allsaintsinfantsnormanton.co.uk
SUMMARY:Hepp DT club 3:15pm - 4:15pm
DESCRIPTION:
URL:https://allsaintsinfantsnormanton.co.uk/event/hepp-dt-club-315pm-415pm/
END:VEVENT
BEGIN:VEVENT
DTSTART;TZID=Europe/London:20240305T151500
DTEND;TZID=Europe/London:20240305T161500
DTSTAMP:20260422T092747
CREATED:20240305T093640Z
LAST-MODIFIED:20240418T093550Z
UID:12508-1709651700-1709655300@allsaintsinfantsnormanton.co.uk
SUMMARY:KS1 multi - sports club 3:15-4:15
DESCRIPTION:
URL:https://allsaintsinfantsnormanton.co.uk/event/ks1-multi-sports-club-315-415/
CATEGORIES:Key stage 1
END:VEVENT
BEGIN:VEVENT
DTSTART;TZID=Europe/London:20240423T133000
DTEND;TZID=Europe/London:20240423T141500
DTSTAMP:20260422T092747
CREATED:20240417T151333Z
LAST-MODIFIED:20240417T151333Z
UID:12602-1713879000-1713881700@allsaintsinfantsnormanton.co.uk
SUMMARY:Marvellous Maths workshops  Year 1 1:30pm - 2:15pm
DESCRIPTION:
URL:https://allsaintsinfantsnormanton.co.uk/event/marvellous-maths-workshops-year-1-130pm-215pm/
END:VEVENT
BEGIN:VEVENT
DTSTART;TZID=Europe/London:20240423T090000
DTEND;TZID=Europe/London:20240423T093000
DTSTAMP:20260422T092747
CREATED:20240417T151219Z
LAST-MODIFIED:20240417T151219Z
UID:12600-1713862800-1713864600@allsaintsinfantsnormanton.co.uk
SUMMARY:Mrs Leeming's class to lead Collective Worship
DESCRIPTION:
URL:https://allsaintsinfantsnormanton.co.uk/event/mrs-leemings-class-to-lead-collective-worship/
END:VEVENT
BEGIN:VEVENT
DTSTART;TZID=Europe/London:20240422T090000
DTEND;TZID=Europe/London:20240422T093000
DTSTAMP:20260422T092747
CREATED:20240417T151135Z
LAST-MODIFIED:20240417T151135Z
UID:12598-1713776400-1713778200@allsaintsinfantsnormanton.co.uk
SUMMARY:Earth Day - Miss Jarvis's Class to lead Collective Worship
DESCRIPTION:
URL:https://allsaintsinfantsnormanton.co.uk/event/earth-day-miss-jarviss-class-to-lead-collective-worship/
CATEGORIES:Year 1
END:VEVENT
BEGIN:VEVENT
DTSTART;TZID=Europe/London:20240417T151500
DTEND;TZID=Europe/London:20240417T161500
DTSTAMP:20260422T092747
CREATED:20240417T153400Z
LAST-MODIFIED:20240418T093455Z
UID:12613-1713366900-1713370500@allsaintsinfantsnormanton.co.uk
SUMMARY:Hepp DT club 3:15pm - 4:15pm
DESCRIPTION:
URL:https://allsaintsinfantsnormanton.co.uk/event/hepp-dt-club-315pm-415pm/
END:VEVENT
BEGIN:VEVENT
DTSTART;TZID=Europe/London:20240305T151500
DTEND;TZID=Europe/London:20240305T161500
DTSTAMP:20260422T092747
CREATED:20240305T093640Z
LAST-MODIFIED:20240418T093550Z
UID:12508-1709651700-1709655300@allsaintsinfantsnormanton.co.uk
SUMMARY:KS1 multi - sports club 3:15-4:15
DESCRIPTION:
URL:https://allsaintsinfantsnormanton.co.uk/event/ks1-multi-sports-club-315-415/
CATEGORIES:Key stage 1
END:VEVENT
BEGIN:VEVENT
DTSTART;TZID=Europe/London:20240305T151500
DTEND;TZID=Europe/London:20240305T161500
DTSTAMP:20260422T092747
CREATED:20240305T093640Z
LAST-MODIFIED:20240418T093550Z
UID:12508-1709651700-1709655300@allsaintsinfantsnormanton.co.uk
SUMMARY:KS1 multi - sports club 3:15-4:15
DESCRIPTION:
URL:https://allsaintsinfantsnormanton.co.uk/event/ks1-multi-sports-club-315-415/
CATEGORIES:Key stage 1
END:VEVENT
BEGIN:VEVENT
DTSTART;TZID=Europe/London:20240305T151500
DTEND;TZID=Europe/London:20240305T161500
DTSTAMP:20260422T092747
CREATED:20240305T093640Z
LAST-MODIFIED:20240418T093550Z
UID:12508-1709651700-1709655300@allsaintsinfantsnormanton.co.uk
SUMMARY:KS1 multi - sports club 3:15-4:15
DESCRIPTION:
URL:https://allsaintsinfantsnormanton.co.uk/event/ks1-multi-sports-club-315-415/
CATEGORIES:Key stage 1
END:VEVENT
BEGIN:VEVENT
DTSTART;TZID=Europe/London:20240305T151500
DTEND;TZID=Europe/London:20240305T161500
DTSTAMP:20260422T092747
CREATED:20240305T093640Z
LAST-MODIFIED:20240418T093550Z
UID:12508-1709651700-1709655300@allsaintsinfantsnormanton.co.uk
SUMMARY:KS1 multi - sports club 3:15-4:15
DESCRIPTION:
URL:https://allsaintsinfantsnormanton.co.uk/event/ks1-multi-sports-club-315-415/
CATEGORIES:Key stage 1
END:VEVENT
BEGIN:VEVENT
DTSTART;TZID=Europe/London:20240322T090000
DTEND;TZID=Europe/London:20240322T100000
DTSTAMP:20260422T092747
CREATED:20240305T094828Z
LAST-MODIFIED:20240305T094828Z
UID:12527-1711098000-1711101600@allsaintsinfantsnormanton.co.uk
SUMMARY:Easter Service in Church led by Mrs Dixon/Miss Beal's class.
DESCRIPTION:
URL:https://allsaintsinfantsnormanton.co.uk/event/easter-service-in-church-led-by-mrs-dixon-miss-beals-class/
CATEGORIES:Whole School
END:VEVENT
BEGIN:VEVENT
DTSTART;VALUE=DATE:20240322
DTEND;VALUE=DATE:20240323
DTSTAMP:20260422T092747
CREATED:20240305T094855Z
LAST-MODIFIED:20240305T094855Z
UID:12529-1711065600-1711151999@allsaintsinfantsnormanton.co.uk
SUMMARY:School closes for the Easter Holiday at 2pm
DESCRIPTION:
URL:https://allsaintsinfantsnormanton.co.uk/event/school-closes-for-the-easter-holiday-at-2pm/
CATEGORIES:Whole School
END:VEVENT
BEGIN:VEVENT
DTSTART;TZID=Europe/London:20240229T030000
DTEND;TZID=Europe/London:20240229T163000
DTSTAMP:20260422T092747
CREATED:20240305T094411Z
LAST-MODIFIED:20240305T094411Z
UID:12515-1709175600-1709224200@allsaintsinfantsnormanton.co.uk
SUMMARY:Year 1 Horrible Histories Club 3:15-4:15 in Tigers Classroom
DESCRIPTION:
URL:https://allsaintsinfantsnormanton.co.uk/event/year-1-horrible-histories-club-315-415-in-tigers-classroom/
CATEGORIES:Year 1
END:VEVENT
BEGIN:VEVENT
DTSTART;VALUE=DATE:20240321
DTEND;VALUE=DATE:20240322
DTSTAMP:20260422T092747
CREATED:20240305T094653Z
LAST-MODIFIED:20240305T094653Z
UID:12525-1710979200-1711065599@allsaintsinfantsnormanton.co.uk
SUMMARY:Y2 parents meetings
DESCRIPTION:
URL:https://allsaintsinfantsnormanton.co.uk/event/y2-parents-meetings/
END:VEVENT
BEGIN:VEVENT
DTSTART;VALUE=DATE:20240320
DTEND;VALUE=DATE:20240321
DTSTAMP:20260422T092747
CREATED:20240305T094622Z
LAST-MODIFIED:20240305T094726Z
UID:12523-1710892800-1710979199@allsaintsinfantsnormanton.co.uk
SUMMARY:Year 1 parent meetings
DESCRIPTION:
URL:https://allsaintsinfantsnormanton.co.uk/event/year-1-parent-meetings/
CATEGORIES:Year 1
END:VEVENT
BEGIN:VEVENT
DTSTART;TZID=Europe/London:20240305T151500
DTEND;TZID=Europe/London:20240305T161500
DTSTAMP:20260422T092747
CREATED:20240305T093640Z
LAST-MODIFIED:20240418T093550Z
UID:12508-1709651700-1709655300@allsaintsinfantsnormanton.co.uk
SUMMARY:KS1 multi - sports club 3:15-4:15
DESCRIPTION:
URL:https://allsaintsinfantsnormanton.co.uk/event/ks1-multi-sports-club-315-415/
CATEGORIES:Key stage 1
END:VEVENT
BEGIN:VEVENT
DTSTART;VALUE=DATE:20240318
DTEND;VALUE=DATE:20240319
DTSTAMP:20260422T092747
CREATED:20240305T094549Z
LAST-MODIFIED:20240305T094549Z
UID:12521-1710720000-1710806399@allsaintsinfantsnormanton.co.uk
SUMMARY:UFS parent meetings
DESCRIPTION:
URL:https://allsaintsinfantsnormanton.co.uk/event/ufs-parent-meetings/
CATEGORIES:EYFS
END:VEVENT
BEGIN:VEVENT
DTSTART;TZID=Europe/London:20240229T030000
DTEND;TZID=Europe/London:20240229T163000
DTSTAMP:20260422T092747
CREATED:20240305T094411Z
LAST-MODIFIED:20240305T094411Z
UID:12515-1709175600-1709224200@allsaintsinfantsnormanton.co.uk
SUMMARY:Year 1 Horrible Histories Club 3:15-4:15 in Tigers Classroom
DESCRIPTION:
URL:https://allsaintsinfantsnormanton.co.uk/event/year-1-horrible-histories-club-315-415-in-tigers-classroom/
CATEGORIES:Year 1
END:VEVENT
BEGIN:VEVENT
DTSTART;TZID=Europe/London:20240305T151500
DTEND;TZID=Europe/London:20240305T161500
DTSTAMP:20260422T092747
CREATED:20240305T093640Z
LAST-MODIFIED:20240418T093550Z
UID:12508-1709651700-1709655300@allsaintsinfantsnormanton.co.uk
SUMMARY:KS1 multi - sports club 3:15-4:15
DESCRIPTION:
URL:https://allsaintsinfantsnormanton.co.uk/event/ks1-multi-sports-club-315-415/
CATEGORIES:Key stage 1
END:VEVENT
BEGIN:VEVENT
DTSTART;TZID=Europe/London:20240308T090000
DTEND;TZID=Europe/London:20240308T213000
DTSTAMP:20260422T092747
CREATED:20240305T094512Z
LAST-MODIFIED:20240305T094512Z
UID:12518-1709888400-1709933400@allsaintsinfantsnormanton.co.uk
SUMMARY:Mrs Bond Class Collective Worship in Church (All parents welcome)
DESCRIPTION:
URL:https://allsaintsinfantsnormanton.co.uk/event/mrs-bond-class-collective-worship-in-church-all-parents-welcome/
CATEGORIES:Whole School
END:VEVENT
BEGIN:VEVENT
DTSTART;TZID=Europe/London:20240307T090000
DTEND;TZID=Europe/London:20240307T213000
DTSTAMP:20260422T092747
CREATED:20240305T094241Z
LAST-MODIFIED:20240305T094241Z
UID:12513-1709802000-1709847000@allsaintsinfantsnormanton.co.uk
SUMMARY:Mrs Burton's Class Collective Worship at 9am in the school hall
DESCRIPTION:
URL:https://allsaintsinfantsnormanton.co.uk/event/mrs-burtons-class-collective-worship-at-9am-in-the-school-hall/
CATEGORIES:Year 1
END:VEVENT
BEGIN:VEVENT
DTSTART;TZID=Europe/London:20240229T030000
DTEND;TZID=Europe/London:20240229T163000
DTSTAMP:20260422T092747
CREATED:20240305T094411Z
LAST-MODIFIED:20240305T094411Z
UID:12515-1709175600-1709224200@allsaintsinfantsnormanton.co.uk
SUMMARY:Year 1 Horrible Histories Club 3:15-4:15 in Tigers Classroom
DESCRIPTION:
URL:https://allsaintsinfantsnormanton.co.uk/event/year-1-horrible-histories-club-315-415-in-tigers-classroom/
CATEGORIES:Year 1
END:VEVENT
BEGIN:VEVENT
DTSTART;VALUE=DATE:20240307
DTEND;VALUE=DATE:20240308
DTSTAMP:20260422T092747
CREATED:20240305T093941Z
LAST-MODIFIED:20240305T094036Z
UID:12511-1709769600-1709855999@allsaintsinfantsnormanton.co.uk
SUMMARY:World Book Day
DESCRIPTION:Children can attend as their favourite book character
URL:https://allsaintsinfantsnormanton.co.uk/event/world-book-day/
CATEGORIES:Whole School
END:VEVENT
BEGIN:VEVENT
DTSTART;TZID=Europe/London:20240305T151500
DTEND;TZID=Europe/London:20240305T161500
DTSTAMP:20260422T092747
CREATED:20240305T093640Z
LAST-MODIFIED:20240418T093550Z
UID:12508-1709651700-1709655300@allsaintsinfantsnormanton.co.uk
SUMMARY:KS1 multi - sports club 3:15-4:15
DESCRIPTION:
URL:https://allsaintsinfantsnormanton.co.uk/event/ks1-multi-sports-club-315-415/
CATEGORIES:Key stage 1
END:VEVENT
BEGIN:VEVENT
DTSTART;TZID=Europe/London:20240229T030000
DTEND;TZID=Europe/London:20240229T163000
DTSTAMP:20260422T092747
CREATED:20240305T094411Z
LAST-MODIFIED:20240305T094411Z
UID:12515-1709175600-1709224200@allsaintsinfantsnormanton.co.uk
SUMMARY:Year 1 Horrible Histories Club 3:15-4:15 in Tigers Classroom
DESCRIPTION:
URL:https://allsaintsinfantsnormanton.co.uk/event/year-1-horrible-histories-club-315-415-in-tigers-classroom/
CATEGORIES:Year 1
END:VEVENT
BEGIN:VEVENT
DTSTART;TZID=Europe/London:20240209T151500
DTEND;TZID=Europe/London:20240209T153000
DTSTAMP:20260422T092747
CREATED:20240118T101425Z
LAST-MODIFIED:20240118T101425Z
UID:12187-1707491700-1707492600@allsaintsinfantsnormanton.co.uk
SUMMARY:School closes for half term
DESCRIPTION:
URL:https://allsaintsinfantsnormanton.co.uk/event/school-closes-for-half-term/
END:VEVENT
BEGIN:VEVENT
DTSTART;VALUE=DATE:20240208
DTEND;VALUE=DATE:20240209
DTSTAMP:20260422T092747
CREATED:20240118T101317Z
LAST-MODIFIED:20240118T101511Z
UID:12184-1707350400-1707436799@allsaintsinfantsnormanton.co.uk
SUMMARY:Yorkshire Wildlife Park visiting Upper Foundation Stage
DESCRIPTION:Yorkshire Wildlife Park will be visiting UFS to continue their work about Polar Bears
URL:https://allsaintsinfantsnormanton.co.uk/event/yorkshire-wildlife-park-visiting-upper-foundation-stage/
CATEGORIES:EYFS
END:VEVENT
BEGIN:VEVENT
DTSTART;TZID=Europe/London:20240124T151500
DTEND;TZID=Europe/London:20240124T161500
DTSTAMP:20260422T092747
CREATED:20240118T102156Z
LAST-MODIFIED:20240118T102156Z
UID:12191-1706109300-1706112900@allsaintsinfantsnormanton.co.uk
SUMMARY:KS1 Science Club
DESCRIPTION:
URL:https://allsaintsinfantsnormanton.co.uk/event/ks1-science-club-2/
CATEGORIES:Key stage 1
END:VEVENT
BEGIN:VEVENT
DTSTART;TZID=Europe/London:20240123T151500
DTEND;TZID=Europe/London:20240123T161500
DTSTAMP:20260422T092747
CREATED:20240118T100129Z
LAST-MODIFIED:20240118T101943Z
UID:12165-1706022900-1706026500@allsaintsinfantsnormanton.co.uk
SUMMARY:Upper Foundation Stage Multi-sports club
DESCRIPTION:
URL:https://allsaintsinfantsnormanton.co.uk/event/upper-foundation-stage-multi-sports-club/
CATEGORIES:EYFS
END:VEVENT
BEGIN:VEVENT
DTSTART;TZID=Europe/London:20240206T090000
DTEND;TZID=Europe/London:20240206T093000
DTSTAMP:20260422T092747
CREATED:20240118T101135Z
LAST-MODIFIED:20240118T101213Z
UID:12181-1707210000-1707211800@allsaintsinfantsnormanton.co.uk
SUMMARY:Mrs Leeming's Class Collective Worship
DESCRIPTION:
URL:https://allsaintsinfantsnormanton.co.uk/event/mr-prices-class-collective-worship/
CATEGORIES:Year 2
END:VEVENT
END:VCALENDAR