BEGIN:VCALENDAR
VERSION:2.0
PRODID:-//Normanton All Saints CE (A) Infant School - ECPv6.15.20//NONSGML v1.0//EN
CALSCALE:GREGORIAN
METHOD:PUBLISH
X-WR-CALNAME:Normanton All Saints CE (A) Infant School
X-ORIGINAL-URL:https://allsaintsinfantsnormanton.co.uk
X-WR-CALDESC:Events for Normanton All Saints CE (A) Infant School
REFRESH-INTERVAL;VALUE=DURATION:PT1H
X-Robots-Tag:noindex
X-PUBLISHED-TTL:PT1H
BEGIN:VTIMEZONE
TZID:Europe/London
BEGIN:DAYLIGHT
TZOFFSETFROM:+0000
TZOFFSETTO:+0100
TZNAME:BST
DTSTART:20220327T010000
END:DAYLIGHT
BEGIN:STANDARD
TZOFFSETFROM:+0100
TZOFFSETTO:+0000
TZNAME:GMT
DTSTART:20221030T010000
END:STANDARD
BEGIN:DAYLIGHT
TZOFFSETFROM:+0000
TZOFFSETTO:+0100
TZNAME:BST
DTSTART:20230326T010000
END:DAYLIGHT
BEGIN:STANDARD
TZOFFSETFROM:+0100
TZOFFSETTO:+0000
TZNAME:GMT
DTSTART:20231029T010000
END:STANDARD
BEGIN:DAYLIGHT
TZOFFSETFROM:+0000
TZOFFSETTO:+0100
TZNAME:BST
DTSTART:20240331T010000
END:DAYLIGHT
BEGIN:STANDARD
TZOFFSETFROM:+0100
TZOFFSETTO:+0000
TZNAME:GMT
DTSTART:20241027T010000
END:STANDARD
BEGIN:DAYLIGHT
TZOFFSETFROM:+0000
TZOFFSETTO:+0100
TZNAME:BST
DTSTART:20250330T010000
END:DAYLIGHT
BEGIN:STANDARD
TZOFFSETFROM:+0100
TZOFFSETTO:+0000
TZNAME:GMT
DTSTART:20251026T010000
END:STANDARD
END:VTIMEZONE
BEGIN:VEVENT
DTSTART;VALUE=DATE:20240109
DTEND;VALUE=DATE:20240110
DTSTAMP:20260424T154320
CREATED:20231218T153214Z
LAST-MODIFIED:20231218T153214Z
UID:12102-1704758400-1704844799@allsaintsinfantsnormanton.co.uk
SUMMARY:Nursery January starters 1 hour visit to Nursery
DESCRIPTION:We would like to welcome our new nursery January starters for a 1 hour welcome session. Mrs Bellis will provide families with further information.
URL:https://allsaintsinfantsnormanton.co.uk/event/nursery-january-starters-1-hour-visit-to-nursery/
CATEGORIES:Nursery
END:VEVENT
BEGIN:VEVENT
DTSTART;VALUE=DATE:20240108
DTEND;VALUE=DATE:20240109
DTSTAMP:20260424T154320
CREATED:20231218T153044Z
LAST-MODIFIED:20231218T153044Z
UID:12100-1704672000-1704758399@allsaintsinfantsnormanton.co.uk
SUMMARY:School reopens on Monday 8th January for all pupils
DESCRIPTION:
URL:https://allsaintsinfantsnormanton.co.uk/event/school-reopens-on-monday-8th-january-for-all-pupils/
CATEGORIES:Whole School
END:VEVENT
BEGIN:VEVENT
DTSTART;VALUE=DATE:20231222
DTEND;VALUE=DATE:20231223
DTSTAMP:20260424T154320
CREATED:20230908T155932Z
LAST-MODIFIED:20230908T155932Z
UID:11622-1703203200-1703289599@allsaintsinfantsnormanton.co.uk
SUMMARY:School inset day
DESCRIPTION:School will be closed for staff training.
URL:https://allsaintsinfantsnormanton.co.uk/event/school-inset-day/
CATEGORIES:Whole School
END:VEVENT
BEGIN:VEVENT
DTSTART;TZID=Europe/London:20231221T140000
DTEND;TZID=Europe/London:20231221T140000
DTSTAMP:20260424T154320
CREATED:20230908T155812Z
LAST-MODIFIED:20231218T122413Z
UID:11619-1703167200-1703167200@allsaintsinfantsnormanton.co.uk
SUMMARY:School closes for the Christmas break at 2pm
DESCRIPTION:School closes at 2pm for the Christmas holidays.
URL:https://allsaintsinfantsnormanton.co.uk/event/school-closes-for-the-christmas-break/
CATEGORIES:Whole School
END:VEVENT
BEGIN:VEVENT
DTSTART;TZID=Europe/London:20231221T090000
DTEND;TZID=Europe/London:20231221T100000
DTSTAMP:20260424T154320
CREATED:20230908T155658Z
LAST-MODIFIED:20230908T155658Z
UID:11616-1703149200-1703152800@allsaintsinfantsnormanton.co.uk
SUMMARY:Spanish Nativity
DESCRIPTION:Our Year 2 Spanish club members will be performing the Spanish nativity in church at 9.15am.
URL:https://allsaintsinfantsnormanton.co.uk/event/spanish-nativity/
CATEGORIES:Whole School
END:VEVENT
BEGIN:VEVENT
DTSTART;TZID=Europe/London:20231115T151500
DTEND;TZID=Europe/London:20231115T161500
DTSTAMP:20260424T154320
CREATED:20230908T160853Z
LAST-MODIFIED:20230908T160853Z
UID:11634-1700061300-1700064900@allsaintsinfantsnormanton.co.uk
SUMMARY:Year 2 Spanish after school club 3.15pm- 4.15pm
DESCRIPTION:
URL:https://allsaintsinfantsnormanton.co.uk/event/year-2-spanish-after-school-club-3-15pm-4-15pm/
CATEGORIES:Year 2
END:VEVENT
BEGIN:VEVENT
DTSTART;TZID=Europe/London:20231220T130000
DTEND;TZID=Europe/London:20231220T150000
DTSTAMP:20260424T154320
CREATED:20230908T155525Z
LAST-MODIFIED:20230908T155525Z
UID:11613-1703077200-1703084400@allsaintsinfantsnormanton.co.uk
SUMMARY:Year 2 Christmas party in the afternoon
DESCRIPTION:Year 2 children can come dressed in their party clothes.
URL:https://allsaintsinfantsnormanton.co.uk/event/year-2-christmas-party-in-the-afternoon/
CATEGORIES:Year 2
END:VEVENT
BEGIN:VEVENT
DTSTART;TZID=Europe/London:20231220T100000
DTEND;TZID=Europe/London:20231220T113000
DTSTAMP:20260424T154320
CREATED:20230908T155421Z
LAST-MODIFIED:20230908T155421Z
UID:11610-1703066400-1703071800@allsaintsinfantsnormanton.co.uk
SUMMARY:Upper Foundation Stage Christmas party
DESCRIPTION:The Upper Foundation Stage children can come dressed in their Christmas party clothes for the day.
URL:https://allsaintsinfantsnormanton.co.uk/event/upper-foundation-stage-christmas-party/
CATEGORIES:EYFS
END:VEVENT
BEGIN:VEVENT
DTSTART;TZID=Europe/London:20231219T130000
DTEND;TZID=Europe/London:20231219T150000
DTSTAMP:20260424T154320
CREATED:20230908T155313Z
LAST-MODIFIED:20230908T155313Z
UID:11607-1702990800-1702998000@allsaintsinfantsnormanton.co.uk
SUMMARY:Year 1 Christmas party
DESCRIPTION:The Year 1 children can come dressed in their Christmas party clothes.
URL:https://allsaintsinfantsnormanton.co.uk/event/year-1-christmas-party/
CATEGORIES:Year 1
END:VEVENT
BEGIN:VEVENT
DTSTART;TZID=Europe/London:20231219T080000
DTEND;TZID=Europe/London:20231219T170000
DTSTAMP:20260424T154320
CREATED:20230908T155218Z
LAST-MODIFIED:20230908T155218Z
UID:11604-1702972800-1703005200@allsaintsinfantsnormanton.co.uk
SUMMARY:Year 2 Nativity
DESCRIPTION:The Year 2 nativity will take place in church at 10am. Parents and family members welcome.
URL:https://allsaintsinfantsnormanton.co.uk/event/year-2-nativity/
CATEGORIES:Year 2
END:VEVENT
BEGIN:VEVENT
DTSTART;VALUE=DATE:20231218
DTEND;VALUE=DATE:20231219
DTSTAMP:20260424T154320
CREATED:20230908T155112Z
LAST-MODIFIED:20230908T155112Z
UID:11601-1702857600-1702943999@allsaintsinfantsnormanton.co.uk
SUMMARY:Nursery Christmas party
DESCRIPTION:The children can come dressed in their party clothes.
URL:https://allsaintsinfantsnormanton.co.uk/event/nursery-christmas-party/
CATEGORIES:Nursery
END:VEVENT
BEGIN:VEVENT
DTSTART;VALUE=DATE:20231215
DTEND;VALUE=DATE:20231216
DTSTAMP:20260424T154320
CREATED:20230908T155029Z
LAST-MODIFIED:20230908T155029Z
UID:11598-1702598400-1702684799@allsaintsinfantsnormanton.co.uk
SUMMARY:Christmas jumper and dinner day
DESCRIPTION:The children are invited to wear their Christmas jumper and accessories. The staff and children will be enjoying eating their Christmas dinner together.
URL:https://allsaintsinfantsnormanton.co.uk/event/christmas-jumper-and-dinner-day/
CATEGORIES:Whole School
END:VEVENT
BEGIN:VEVENT
DTSTART;TZID=Europe/London:20231214T100000
DTEND;TZID=Europe/London:20231214T110000
DTSTAMP:20260424T154320
CREATED:20230908T154914Z
LAST-MODIFIED:20230908T154914Z
UID:11595-1702548000-1702551600@allsaintsinfantsnormanton.co.uk
SUMMARY:Year 1 Nativity
DESCRIPTION:Year 1 Nativity in church at 10am. Parents and family members welcome.
URL:https://allsaintsinfantsnormanton.co.uk/event/year-1-nativity/
CATEGORIES:Year 1
END:VEVENT
BEGIN:VEVENT
DTSTART;TZID=Europe/London:20231115T151500
DTEND;TZID=Europe/London:20231115T161500
DTSTAMP:20260424T154320
CREATED:20230908T160853Z
LAST-MODIFIED:20230908T160853Z
UID:11634-1700061300-1700064900@allsaintsinfantsnormanton.co.uk
SUMMARY:Year 2 Spanish after school club 3.15pm- 4.15pm
DESCRIPTION:
URL:https://allsaintsinfantsnormanton.co.uk/event/year-2-spanish-after-school-club-3-15pm-4-15pm/
CATEGORIES:Year 2
END:VEVENT
BEGIN:VEVENT
DTSTART;TZID=Europe/London:20231212T100000
DTEND;TZID=Europe/London:20231212T110000
DTSTAMP:20260424T154320
CREATED:20230908T154816Z
LAST-MODIFIED:20230908T154816Z
UID:11593-1702375200-1702378800@allsaintsinfantsnormanton.co.uk
SUMMARY:Upper Foundation Stage Nativity
DESCRIPTION:Nativity for Upper Foundation Stage children at 10am in church.
URL:https://allsaintsinfantsnormanton.co.uk/event/upper-foundation-stage-nativity/
CATEGORIES:EYFS
END:VEVENT
BEGIN:VEVENT
DTSTART;VALUE=DATE:20231208
DTEND;VALUE=DATE:20231209
DTSTAMP:20260424T154320
CREATED:20230908T151735Z
LAST-MODIFIED:20230908T151735Z
UID:11590-1701993600-1702079999@allsaintsinfantsnormanton.co.uk
SUMMARY:Hygge parent and child event
DESCRIPTION:Parents and children are invited to join us for our wonderful Christmas hygge event.
URL:https://allsaintsinfantsnormanton.co.uk/event/hygge-parent-and-child-event/
CATEGORIES:Whole School
END:VEVENT
BEGIN:VEVENT
DTSTART;TZID=Europe/London:20231207T090000
DTEND;TZID=Europe/London:20231207T093000
DTSTAMP:20260424T154320
CREATED:20230908T151253Z
LAST-MODIFIED:20230908T151253Z
UID:11584-1701939600-1701941400@allsaintsinfantsnormanton.co.uk
SUMMARY:The Penguins' class worship
DESCRIPTION:The Penguins (Mrs Cowling’s class) leading class worship at 9am in the school hall. Parents and welcome to join us.
URL:https://allsaintsinfantsnormanton.co.uk/event/the-penguins-class-worship/
CATEGORIES:Year 1
END:VEVENT
BEGIN:VEVENT
DTSTART;VALUE=DATE:20231207
DTEND;VALUE=DATE:20231208
DTSTAMP:20260424T154320
CREATED:20230908T151640Z
LAST-MODIFIED:20231207T125624Z
UID:11587-1701907200-1701993599@allsaintsinfantsnormanton.co.uk
SUMMARY:Nursery nativity
DESCRIPTION:Morning nativity for morning nursery children at 10.15am in church\, doors will open at 10am. \nAfternoon nativity for afternoon nursery children at 2.15pm in church\, doors will open at 2pm. \nChildren should be dropped off at church at the usual nursery start times. \nParents and family members welcome.
URL:https://allsaintsinfantsnormanton.co.uk/event/nursery-nativity/
CATEGORIES:Nursery
END:VEVENT
BEGIN:VEVENT
DTSTART;TZID=Europe/London:20231115T151500
DTEND;TZID=Europe/London:20231115T161500
DTSTAMP:20260424T154320
CREATED:20230908T160853Z
LAST-MODIFIED:20230908T160853Z
UID:11634-1700061300-1700064900@allsaintsinfantsnormanton.co.uk
SUMMARY:Year 2 Spanish after school club 3.15pm- 4.15pm
DESCRIPTION:
URL:https://allsaintsinfantsnormanton.co.uk/event/year-2-spanish-after-school-club-3-15pm-4-15pm/
CATEGORIES:Year 2
END:VEVENT
BEGIN:VEVENT
DTSTART;TZID=Europe/London:20231107T151500
DTEND;TZID=Europe/London:20231107T161500
DTSTAMP:20260424T154320
CREATED:20230908T160658Z
LAST-MODIFIED:20230908T160658Z
UID:11631-1699370100-1699373700@allsaintsinfantsnormanton.co.uk
SUMMARY:Key Stage One sports after school club at 3.15pm- 4.15pm
DESCRIPTION:
URL:https://allsaintsinfantsnormanton.co.uk/event/key-stage-one-sports-after-school-club-at-3-15pm-4-15pm/
CATEGORIES:Key stage 1
END:VEVENT
BEGIN:VEVENT
DTSTART;TZID=Europe/London:20231205T090000
DTEND;TZID=Europe/London:20231205T093000
DTSTAMP:20260424T154320
CREATED:20230908T151118Z
LAST-MODIFIED:20230908T151118Z
UID:11581-1701766800-1701768600@allsaintsinfantsnormanton.co.uk
SUMMARY:The Bees' class worship
DESCRIPTION:The Bees’ class (Miss Freear’s class) will be leading worship in the school hall at 9am. Parents and family members welcome to join us.
URL:https://allsaintsinfantsnormanton.co.uk/event/the-bees-class-worship/
CATEGORIES:EYFS
END:VEVENT
BEGIN:VEVENT
DTSTART;VALUE=DATE:20231201
DTEND;VALUE=DATE:20231202
DTSTAMP:20260424T154320
CREATED:20230908T150443Z
LAST-MODIFIED:20230908T150443Z
UID:11579-1701388800-1701475199@allsaintsinfantsnormanton.co.uk
SUMMARY:Decorating the school Christmas tree
DESCRIPTION:As a school family we will be decorating the school Christmas tree.
URL:https://allsaintsinfantsnormanton.co.uk/event/decorating-the-school-christmas-tree/
END:VEVENT
BEGIN:VEVENT
DTSTART;TZID=Europe/London:20231109T151500
DTEND;TZID=Europe/London:20231109T160000
DTSTAMP:20260424T154320
CREATED:20230908T161042Z
LAST-MODIFIED:20230908T161042Z
UID:11637-1699542900-1699545600@allsaintsinfantsnormanton.co.uk
SUMMARY:Yoga after school club 3.15pm- 4pm
DESCRIPTION:
URL:https://allsaintsinfantsnormanton.co.uk/event/yoga-after-school-club-3-15pm-4pm/
CATEGORIES:Key stage 1
END:VEVENT
BEGIN:VEVENT
DTSTART;TZID=Europe/London:20231130T090000
DTEND;TZID=Europe/London:20231130T093000
DTSTAMP:20260424T154320
CREATED:20230908T135155Z
LAST-MODIFIED:20230908T145617Z
UID:11576-1701334800-1701336600@allsaintsinfantsnormanton.co.uk
SUMMARY:The Turtles' class worship
DESCRIPTION:The Turtles’ class (Mr Price’s class) will be leading worship in the school hall at 3.15pm. Parents and family members welcome.
URL:https://allsaintsinfantsnormanton.co.uk/event/the-turtles-class-worship/
CATEGORIES:EYFS
END:VEVENT
BEGIN:VEVENT
DTSTART;TZID=Europe/London:20231115T151500
DTEND;TZID=Europe/London:20231115T161500
DTSTAMP:20260424T154320
CREATED:20230908T160853Z
LAST-MODIFIED:20230908T160853Z
UID:11634-1700061300-1700064900@allsaintsinfantsnormanton.co.uk
SUMMARY:Year 2 Spanish after school club 3.15pm- 4.15pm
DESCRIPTION:
URL:https://allsaintsinfantsnormanton.co.uk/event/year-2-spanish-after-school-club-3-15pm-4-15pm/
CATEGORIES:Year 2
END:VEVENT
BEGIN:VEVENT
DTSTART;TZID=Europe/London:20231129T150000
DTEND;TZID=Europe/London:20231129T153000
DTSTAMP:20260424T154320
CREATED:20230908T135046Z
LAST-MODIFIED:20230908T135046Z
UID:11573-1701270000-1701271800@allsaintsinfantsnormanton.co.uk
SUMMARY:Upper Foundation Stage reading cafe
DESCRIPTION:Our Upper Foundation Stage children and their parents/ family member are invited to attend our reading cafe at 3.15pm in the school hall. This will give them the chance to read their school reading books whilst having a hot chocolate and a biscuit.
URL:https://allsaintsinfantsnormanton.co.uk/event/upper-foundation-stage-reading-cafe-2/
CATEGORIES:EYFS
END:VEVENT
BEGIN:VEVENT
DTSTART;TZID=Europe/London:20231107T151500
DTEND;TZID=Europe/London:20231107T161500
DTSTAMP:20260424T154320
CREATED:20230908T160658Z
LAST-MODIFIED:20230908T160658Z
UID:11631-1699370100-1699373700@allsaintsinfantsnormanton.co.uk
SUMMARY:Key Stage One sports after school club at 3.15pm- 4.15pm
DESCRIPTION:
URL:https://allsaintsinfantsnormanton.co.uk/event/key-stage-one-sports-after-school-club-at-3-15pm-4-15pm/
CATEGORIES:Key stage 1
END:VEVENT
BEGIN:VEVENT
DTSTART;TZID=Europe/London:20231128T150000
DTEND;TZID=Europe/London:20231128T153000
DTSTAMP:20260424T154320
CREATED:20230908T134841Z
LAST-MODIFIED:20230908T134841Z
UID:11571-1701183600-1701185400@allsaintsinfantsnormanton.co.uk
SUMMARY:Year 2 reading cafe
DESCRIPTION:Our Year 2 children and their parents/ family members are invited to our reading cafe at 3.15pm in the school hall. This will be a chance for the children to read their books with a special treat of hot chocolate and a biscuit.
URL:https://allsaintsinfantsnormanton.co.uk/event/year-2-reading-cafe-2/
CATEGORIES:Year 2
END:VEVENT
BEGIN:VEVENT
DTSTART;TZID=Europe/London:20231127T150000
DTEND;TZID=Europe/London:20231127T153000
DTSTAMP:20260424T154320
CREATED:20230908T134709Z
LAST-MODIFIED:20230908T134709Z
UID:11569-1701097200-1701099000@allsaintsinfantsnormanton.co.uk
SUMMARY:Year 1 reading cafe
DESCRIPTION:Our Year 1 children and a parent/ family member are invited to attend our reading cafe at 3.15pm in the school hall.
URL:https://allsaintsinfantsnormanton.co.uk/event/year-1-reading-cafe-2/
CATEGORIES:Year 1
END:VEVENT
BEGIN:VEVENT
DTSTART;TZID=Europe/London:20231109T151500
DTEND;TZID=Europe/London:20231109T160000
DTSTAMP:20260424T154320
CREATED:20230908T161042Z
LAST-MODIFIED:20230908T161042Z
UID:11637-1699542900-1699545600@allsaintsinfantsnormanton.co.uk
SUMMARY:Yoga after school club 3.15pm- 4pm
DESCRIPTION:
URL:https://allsaintsinfantsnormanton.co.uk/event/yoga-after-school-club-3-15pm-4pm/
CATEGORIES:Key stage 1
END:VEVENT
END:VCALENDAR