BEGIN:VCALENDAR
VERSION:2.0
PRODID:-//Normanton All Saints CE (A) Infant School - ECPv6.15.20//NONSGML v1.0//EN
CALSCALE:GREGORIAN
METHOD:PUBLISH
X-WR-CALNAME:Normanton All Saints CE (A) Infant School
X-ORIGINAL-URL:https://allsaintsinfantsnormanton.co.uk
X-WR-CALDESC:Events for Normanton All Saints CE (A) Infant School
REFRESH-INTERVAL;VALUE=DURATION:PT1H
X-Robots-Tag:noindex
X-PUBLISHED-TTL:PT1H
BEGIN:VTIMEZONE
TZID:Europe/London
BEGIN:DAYLIGHT
TZOFFSETFROM:+0000
TZOFFSETTO:+0100
TZNAME:BST
DTSTART:20230326T010000
END:DAYLIGHT
BEGIN:STANDARD
TZOFFSETFROM:+0100
TZOFFSETTO:+0000
TZNAME:GMT
DTSTART:20231029T010000
END:STANDARD
BEGIN:DAYLIGHT
TZOFFSETFROM:+0000
TZOFFSETTO:+0100
TZNAME:BST
DTSTART:20240331T010000
END:DAYLIGHT
BEGIN:STANDARD
TZOFFSETFROM:+0100
TZOFFSETTO:+0000
TZNAME:GMT
DTSTART:20241027T010000
END:STANDARD
BEGIN:DAYLIGHT
TZOFFSETFROM:+0000
TZOFFSETTO:+0100
TZNAME:BST
DTSTART:20250330T010000
END:DAYLIGHT
BEGIN:STANDARD
TZOFFSETFROM:+0100
TZOFFSETTO:+0000
TZNAME:GMT
DTSTART:20251026T010000
END:STANDARD
END:VTIMEZONE
BEGIN:VEVENT
DTSTART;TZID=Europe/London:20241112T090000
DTEND;TZID=Europe/London:20241112T093000
DTSTAMP:20260419T203149
CREATED:20240914T181734Z
LAST-MODIFIED:20240914T181734Z
UID:13093-1731402000-1731403800@allsaintsinfantsnormanton.co.uk
SUMMARY:Mrs Burton's class worship (Penguins)
DESCRIPTION:Mrs Burton’s class will be leading worship at 9am in the school hall. Parents and families welcome.
URL:https://allsaintsinfantsnormanton.co.uk/event/mrs-burtons-class-worship-penguins/
CATEGORIES:Year 1
END:VEVENT
BEGIN:VEVENT
DTSTART;TZID=Europe/London:20241111T151500
DTEND;TZID=Europe/London:20241111T160000
DTSTAMP:20260419T203149
CREATED:20240914T182000Z
LAST-MODIFIED:20240914T182000Z
UID:13096-1731338100-1731340800@allsaintsinfantsnormanton.co.uk
SUMMARY:Year 1 Reading Cafe
DESCRIPTION:Year 1 children and their parents are invited to attend our reading cafe at 3.15pm in the school hall.
URL:https://allsaintsinfantsnormanton.co.uk/event/year-1-reading-cafe-5/
CATEGORIES:Year 1
END:VEVENT
BEGIN:VEVENT
DTSTART;TZID=Europe/London:20241111T090000
DTEND;TZID=Europe/London:20241111T100000
DTSTAMP:20260419T203149
CREATED:20240914T181528Z
LAST-MODIFIED:20240914T181528Z
UID:13091-1731315600-1731319200@allsaintsinfantsnormanton.co.uk
SUMMARY:Mrs Lewis' class worship for Remembrance Day
DESCRIPTION:The Year 2 children in Mrs Lewis’ class (Leopards) will be leading our Remembrance Day worship for the whole school. Parents and family members are welcome to join us. 9am in the school hall. Year 2 children will be visiting the Cenotaph after the worship. Parents welcome.
URL:https://allsaintsinfantsnormanton.co.uk/event/mrs-lewis-class-worship-for-remembrance-day/
CATEGORIES:Year 2
END:VEVENT
BEGIN:VEVENT
DTSTART;TZID=Europe/London:20241106T151500
DTEND;TZID=Europe/London:20241106T154500
DTSTAMP:20260419T203149
CREATED:20240914T181003Z
LAST-MODIFIED:20240914T181003Z
UID:13089-1730906100-1730907900@allsaintsinfantsnormanton.co.uk
SUMMARY:School Council meeting
DESCRIPTION:Our School Council will be meeting after school at 3.15- 3.45pm.
URL:https://allsaintsinfantsnormanton.co.uk/event/school-council-meeting/
CATEGORIES:School Committee members
END:VEVENT
BEGIN:VEVENT
DTSTART;TZID=Europe/London:20241105T090000
DTEND;TZID=Europe/London:20241105T093000
DTSTAMP:20260419T203149
CREATED:20240914T180752Z
LAST-MODIFIED:20240914T180752Z
UID:13086-1730797200-1730799000@allsaintsinfantsnormanton.co.uk
SUMMARY:Miss Dutton's class worship
DESCRIPTION:The children in Miss Dutton’s class (Whales) will be leading worship in the school hall at 9am. Parents and family members welcome.
URL:https://allsaintsinfantsnormanton.co.uk/event/miss-duttons-class-worship/
CATEGORIES:Year 1
END:VEVENT
BEGIN:VEVENT
DTSTART;VALUE=DATE:20241025
DTEND;VALUE=DATE:20241026
DTSTAMP:20260419T203149
CREATED:20240914T180552Z
LAST-MODIFIED:20240914T180552Z
UID:13083-1729814400-1729900799@allsaintsinfantsnormanton.co.uk
SUMMARY:All Saints Day celebration and service
DESCRIPTION:We will be celebrating All Saints Day with a special celebration and service in All Saints Church. Our new Reception starters will all receive a bible as a welcome to our school from our Church.
URL:https://allsaintsinfantsnormanton.co.uk/event/all-saints-day-celebration-and-service/
CATEGORIES:Whole School
END:VEVENT
BEGIN:VEVENT
DTSTART;TZID=Europe/London:20241024T090000
DTEND;TZID=Europe/London:20241024T093000
DTSTAMP:20260419T203149
CREATED:20240914T180315Z
LAST-MODIFIED:20240914T180315Z
UID:13081-1729760400-1729762200@allsaintsinfantsnormanton.co.uk
SUMMARY:Mrs Wood-Stones (Giraffes) class worship
DESCRIPTION:The children in Mrs Wood-Stones class will be leading class worship at 9am in the school hall. Parents and families welcome.
URL:https://allsaintsinfantsnormanton.co.uk/event/mrs-wood-stones-giraffes-class-worship/
CATEGORIES:EYFS
END:VEVENT
BEGIN:VEVENT
DTSTART;TZID=Europe/London:20241023T153000
DTEND;TZID=Europe/London:20241023T163000
DTSTAMP:20260419T203149
CREATED:20240914T180029Z
LAST-MODIFIED:20240914T180029Z
UID:13079-1729697400-1729701000@allsaintsinfantsnormanton.co.uk
SUMMARY:Hedgehog Heroes
DESCRIPTION:Our ‘Hedgehog Heroes’ event will be led by Miss Ballance and all children are invited to attend the workshop alongside a parent or family member. This will be after school from 3.25pm- 4.45pm.
URL:https://allsaintsinfantsnormanton.co.uk/event/hedgehog-heroes/
CATEGORIES:Whole School
END:VEVENT
BEGIN:VEVENT
DTSTART;VALUE=DATE:20241023
DTEND;VALUE=DATE:20241024
DTSTAMP:20260419T203149
CREATED:20240914T175710Z
LAST-MODIFIED:20240914T175710Z
UID:13076-1729641600-1729727999@allsaintsinfantsnormanton.co.uk
SUMMARY:Year 2 Royal Marine visit
DESCRIPTION:Our Year 2 pupils will be having a visit from a Royal Marine linked to their History learning.
URL:https://allsaintsinfantsnormanton.co.uk/event/year-2-royal-marine-visit/
CATEGORIES:Year 2
END:VEVENT
BEGIN:VEVENT
DTSTART;TZID=Europe/London:20241022T090000
DTEND;TZID=Europe/London:20241022T103000
DTSTAMP:20260419T203149
CREATED:20240914T175521Z
LAST-MODIFIED:20240914T175521Z
UID:13074-1729587600-1729593000@allsaintsinfantsnormanton.co.uk
SUMMARY:Harvest Festival
DESCRIPTION:Harvest Festival in All Saints Church at 9am for all children. Children can bring a Harvest gift or basket. Happy Harvest!
URL:https://allsaintsinfantsnormanton.co.uk/event/harvest-festival/
CATEGORIES:Whole School
END:VEVENT
BEGIN:VEVENT
DTSTART;VALUE=DATE:20241017
DTEND;VALUE=DATE:20241018
DTSTAMP:20260419T203149
CREATED:20240914T142622Z
LAST-MODIFIED:20240914T142622Z
UID:13071-1729123200-1729209599@allsaintsinfantsnormanton.co.uk
SUMMARY:Year 1 pupil progress meetings for parents
DESCRIPTION:Year 1 parents are invited to attend a meeting with their child’s class teacher to find out how they are progressing.
URL:https://allsaintsinfantsnormanton.co.uk/event/year-1-pupil-progress-meetings-for-parents-2/
CATEGORIES:Parents & Carers,Year 1
END:VEVENT
BEGIN:VEVENT
DTSTART;VALUE=DATE:20241016
DTEND;VALUE=DATE:20241017
DTSTAMP:20260419T203149
CREATED:20240914T142439Z
LAST-MODIFIED:20240914T142439Z
UID:13068-1729036800-1729123199@allsaintsinfantsnormanton.co.uk
SUMMARY:Year 2 pupil progress meetings for parents
DESCRIPTION:Year 2 parents are invited to meet with their child’s class teacher to find out how they are progressing.
URL:https://allsaintsinfantsnormanton.co.uk/event/year-2-pupil-progress-meetings-for-parents-2/
CATEGORIES:Parents & Carers,Year 2
END:VEVENT
BEGIN:VEVENT
DTSTART;TZID=Europe/London:20240924T151500
DTEND;TZID=Europe/London:20240924T161500
DTSTAMP:20260419T203149
CREATED:20240917T144725Z
LAST-MODIFIED:20240917T144725Z
UID:13218-1727190900-1727194500@allsaintsinfantsnormanton.co.uk
SUMMARY:UFS sports club
DESCRIPTION:In school hall 3:15 – 4:15
URL:https://allsaintsinfantsnormanton.co.uk/event/ufs-sports-club/
CATEGORIES:EYFS
END:VEVENT
BEGIN:VEVENT
DTSTART;VALUE=DATE:20241014
DTEND;VALUE=DATE:20241015
DTSTAMP:20260419T203149
CREATED:20240914T142150Z
LAST-MODIFIED:20240914T142150Z
UID:13065-1728864000-1728950399@allsaintsinfantsnormanton.co.uk
SUMMARY:Upper Foundation Stage pupil progress meetings
DESCRIPTION:All parents are invited to meet with their child’s class teacher to find out how their child is progressing.
URL:https://allsaintsinfantsnormanton.co.uk/event/upper-foundation-stage-pupil-progress-meetings-2/
CATEGORIES:EYFS
END:VEVENT
BEGIN:VEVENT
DTSTART;TZID=Europe/London:20241010T090000
DTEND;TZID=Europe/London:20241010T093000
DTSTAMP:20260419T203149
CREATED:20240914T141755Z
LAST-MODIFIED:20240914T141755Z
UID:13063-1728550800-1728552600@allsaintsinfantsnormanton.co.uk
SUMMARY:Mrs Bond's (Otters class) class worship
DESCRIPTION:Mrs Bond’s Year 1 class will be leading worship linked to World Mental Health Day. Parents and families welcome. 9am in the school hall.
URL:https://allsaintsinfantsnormanton.co.uk/event/mrs-bonds-otters-class-class-worship/
CATEGORIES:Year 1
END:VEVENT
BEGIN:VEVENT
DTSTART;TZID=Europe/London:20241009T150000
DTEND;TZID=Europe/London:20241009T160000
DTSTAMP:20260419T203149
CREATED:20240914T141131Z
LAST-MODIFIED:20240914T141131Z
UID:13060-1728486000-1728489600@allsaintsinfantsnormanton.co.uk
SUMMARY:Year 1 Reading Cafe
DESCRIPTION:Year 1 children are their parents are invited to come along to our Reading Cafe in the school hall at 3.15pm. We will provide the hot chocolate and biscuits!
URL:https://allsaintsinfantsnormanton.co.uk/event/year-1-reading-cafe-4/
CATEGORIES:Year 1
END:VEVENT
BEGIN:VEVENT
DTSTART;TZID=Europe/London:20240924T151500
DTEND;TZID=Europe/London:20240924T161500
DTSTAMP:20260419T203149
CREATED:20240917T144725Z
LAST-MODIFIED:20240917T144725Z
UID:13218-1727190900-1727194500@allsaintsinfantsnormanton.co.uk
SUMMARY:UFS sports club
DESCRIPTION:In school hall 3:15 – 4:15
URL:https://allsaintsinfantsnormanton.co.uk/event/ufs-sports-club/
CATEGORIES:EYFS
END:VEVENT
BEGIN:VEVENT
DTSTART;TZID=Europe/London:20241008T150000
DTEND;TZID=Europe/London:20241008T160000
DTSTAMP:20260419T203149
CREATED:20240914T140940Z
LAST-MODIFIED:20240914T140940Z
UID:13057-1728399600-1728403200@allsaintsinfantsnormanton.co.uk
SUMMARY:Year 2 Reading Cafe
DESCRIPTION:Year 2 children and their parents are invited to come along to our reading cafe in the school hall at 3.15pm. We will provide the hot chocolate and biscuits!
URL:https://allsaintsinfantsnormanton.co.uk/event/year-2-reading-cafe-4/
CATEGORIES:Year 2
END:VEVENT
BEGIN:VEVENT
DTSTART;TZID=Europe/London:20241007T150000
DTEND;TZID=Europe/London:20241007T160000
DTSTAMP:20260419T203149
CREATED:20240914T140814Z
LAST-MODIFIED:20240914T140814Z
UID:13054-1728313200-1728316800@allsaintsinfantsnormanton.co.uk
SUMMARY:Upper Foundation Stage Reading Cafe
DESCRIPTION:Upper Foundation Stage children and their parents are invited to come along to our reading cafe after school. 3.15pm in the school hall. We will provide the hot chocolate and biscuits!
URL:https://allsaintsinfantsnormanton.co.uk/event/upper-foundation-stage-reading-cafe-4/
CATEGORIES:EYFS
END:VEVENT
BEGIN:VEVENT
DTSTART;VALUE=DATE:20241007
DTEND;VALUE=DATE:20241008
DTSTAMP:20260419T203149
CREATED:20240914T140650Z
LAST-MODIFIED:20240914T140650Z
UID:13051-1728259200-1728345599@allsaintsinfantsnormanton.co.uk
SUMMARY:Year 2 Evacuee Day
DESCRIPTION:All Year 2 children are invited to dress up as an evacuee from WW2.
URL:https://allsaintsinfantsnormanton.co.uk/event/year-2-evacuee-day/
CATEGORIES:Year 2
END:VEVENT
BEGIN:VEVENT
DTSTART;TZID=Europe/London:20241004T143000
DTEND;TZID=Europe/London:20241004T150000
DTSTAMP:20260419T203149
CREATED:20240914T140519Z
LAST-MODIFIED:20240914T140519Z
UID:13049-1728052200-1728054000@allsaintsinfantsnormanton.co.uk
SUMMARY:Physical development parent and child workshops
DESCRIPTION:Mr Price will be leading physical development workshops for parents and children in Upper Foundation Stage. 2.30pm in the school hall.
URL:https://allsaintsinfantsnormanton.co.uk/event/physical-development-parent-and-child-workshops/
CATEGORIES:EYFS
END:VEVENT
BEGIN:VEVENT
DTSTART;TZID=Europe/London:20241003T090000
DTEND;TZID=Europe/London:20241003T093000
DTSTAMP:20260419T203149
CREATED:20240914T140240Z
LAST-MODIFIED:20240914T140240Z
UID:13043-1727946000-1727947800@allsaintsinfantsnormanton.co.uk
SUMMARY:Miss Beal and Mrs Dixon's (Polar Bear class) class worship
DESCRIPTION:Miss Beal and Mrs Dixon’s Year 2 class will be leading worship linked to National Poetry Day. Parents and families welcome. 9am in the school hall.
URL:https://allsaintsinfantsnormanton.co.uk/event/miss-beal-and-mrs-dixons-polar-bear-class-class-worship/
CATEGORIES:Year 2
END:VEVENT
BEGIN:VEVENT
DTSTART;VALUE=DATE:20241003
DTEND;VALUE=DATE:20241004
DTSTAMP:20260419T203149
CREATED:20240914T140325Z
LAST-MODIFIED:20240914T140325Z
UID:13046-1727913600-1727999999@allsaintsinfantsnormanton.co.uk
SUMMARY:Flu vaccinations for children
DESCRIPTION:
URL:https://allsaintsinfantsnormanton.co.uk/event/flu-vaccinations-for-children/
END:VEVENT
BEGIN:VEVENT
DTSTART;TZID=Europe/London:20240924T151500
DTEND;TZID=Europe/London:20240924T161500
DTSTAMP:20260419T203149
CREATED:20240917T144725Z
LAST-MODIFIED:20240917T144725Z
UID:13218-1727190900-1727194500@allsaintsinfantsnormanton.co.uk
SUMMARY:UFS sports club
DESCRIPTION:In school hall 3:15 – 4:15
URL:https://allsaintsinfantsnormanton.co.uk/event/ufs-sports-club/
CATEGORIES:EYFS
END:VEVENT
BEGIN:VEVENT
DTSTART;TZID=Europe/London:20240930T170000
DTEND;TZID=Europe/London:20240930T190000
DTSTAMP:20260419T203149
CREATED:20240914T135905Z
LAST-MODIFIED:20240914T135905Z
UID:13041-1727715600-1727722800@allsaintsinfantsnormanton.co.uk
SUMMARY:Governing Body meeting
DESCRIPTION:
URL:https://allsaintsinfantsnormanton.co.uk/event/governing-body-meeting/
END:VEVENT
BEGIN:VEVENT
DTSTART;VALUE=DATE:20240930
DTEND;VALUE=DATE:20241001
DTSTAMP:20260419T203149
CREATED:20240914T135817Z
LAST-MODIFIED:20240914T135817Z
UID:13039-1727654400-1727740799@allsaintsinfantsnormanton.co.uk
SUMMARY:Photographs in main school
DESCRIPTION:Tempest Photographers will be in main school taking individual photographs.
URL:https://allsaintsinfantsnormanton.co.uk/event/photographs-in-main-school/
CATEGORIES:EYFS,Key stage 1
END:VEVENT
BEGIN:VEVENT
DTSTART;VALUE=DATE:20240930
DTEND;VALUE=DATE:20241001
DTSTAMP:20260419T203149
CREATED:20240914T081930Z
LAST-MODIFIED:20240914T081930Z
UID:13036-1727654400-1727740799@allsaintsinfantsnormanton.co.uk
SUMMARY:Creature Ark visit to Year 1
DESCRIPTION:Creature Ark will be bringing a range of wonderful animals for our Year 1 children to explore.
URL:https://allsaintsinfantsnormanton.co.uk/event/creature-ark-visit-to-year-1/
CATEGORIES:Year 1
END:VEVENT
BEGIN:VEVENT
DTSTART;TZID=Europe/London:20240927T090000
DTEND;TZID=Europe/London:20240927T103000
DTSTAMP:20260419T203149
CREATED:20240914T081705Z
LAST-MODIFIED:20240914T081705Z
UID:13031-1727427600-1727433000@allsaintsinfantsnormanton.co.uk
SUMMARY:MacMillan Coffee Morning
DESCRIPTION:We are inviting families to join our MacMillan Coffee Morning from 8.45am in the school hall. All money raised will support the wonderful work of MacMillan. We look forward to seeing you there!
URL:https://allsaintsinfantsnormanton.co.uk/event/macmillan-coffee-morning-2/
CATEGORIES:Parents & Carers,Whole School
END:VEVENT
BEGIN:VEVENT
DTSTART;VALUE=DATE:20240927
DTEND;VALUE=DATE:20240928
DTSTAMP:20260419T203149
CREATED:20240914T081817Z
LAST-MODIFIED:20240914T081817Z
UID:13033-1727395200-1727481599@allsaintsinfantsnormanton.co.uk
SUMMARY:National Teaching Assistant Day
DESCRIPTION:We will be saying thank you and celebrating the wonderful work of all our amazing teaching assistants.
URL:https://allsaintsinfantsnormanton.co.uk/event/national-teaching-assistant-day/
END:VEVENT
BEGIN:VEVENT
DTSTART;VALUE=DATE:20240925
DTEND;VALUE=DATE:20240926
DTSTAMP:20260419T203149
CREATED:20240914T081510Z
LAST-MODIFIED:20240914T081510Z
UID:13028-1727222400-1727308799@allsaintsinfantsnormanton.co.uk
SUMMARY:Nursery photographs
DESCRIPTION:Tempest Photographers are in nursery to take nursery photographs for morning and afternoon children.
URL:https://allsaintsinfantsnormanton.co.uk/event/nursery-photographs/
CATEGORIES:Nursery
END:VEVENT
END:VCALENDAR