BEGIN:VCALENDAR
VERSION:2.0
PRODID:-//Normanton All Saints CE (A) Infant School - ECPv6.15.20//NONSGML v1.0//EN
CALSCALE:GREGORIAN
METHOD:PUBLISH
X-WR-CALNAME:Normanton All Saints CE (A) Infant School
X-ORIGINAL-URL:https://allsaintsinfantsnormanton.co.uk
X-WR-CALDESC:Events for Normanton All Saints CE (A) Infant School
REFRESH-INTERVAL;VALUE=DURATION:PT1H
X-Robots-Tag:noindex
X-PUBLISHED-TTL:PT1H
BEGIN:VTIMEZONE
TZID:Europe/London
BEGIN:DAYLIGHT
TZOFFSETFROM:+0000
TZOFFSETTO:+0100
TZNAME:BST
DTSTART:20240331T010000
END:DAYLIGHT
BEGIN:STANDARD
TZOFFSETFROM:+0100
TZOFFSETTO:+0000
TZNAME:GMT
DTSTART:20241027T010000
END:STANDARD
BEGIN:DAYLIGHT
TZOFFSETFROM:+0000
TZOFFSETTO:+0100
TZNAME:BST
DTSTART:20250330T010000
END:DAYLIGHT
BEGIN:STANDARD
TZOFFSETFROM:+0100
TZOFFSETTO:+0000
TZNAME:GMT
DTSTART:20251026T010000
END:STANDARD
BEGIN:DAYLIGHT
TZOFFSETFROM:+0000
TZOFFSETTO:+0100
TZNAME:BST
DTSTART:20260329T010000
END:DAYLIGHT
BEGIN:STANDARD
TZOFFSETFROM:+0100
TZOFFSETTO:+0000
TZNAME:GMT
DTSTART:20261025T010000
END:STANDARD
END:VTIMEZONE
BEGIN:VEVENT
DTSTART;VALUE=DATE:20251205
DTEND;VALUE=DATE:20251206
DTSTAMP:20260420T011406
CREATED:20250904T140245Z
LAST-MODIFIED:20250904T140245Z
UID:14209-1764892800-1764979199@allsaintsinfantsnormanton.co.uk
SUMMARY:Hygge family event
DESCRIPTION:Families are invited to join in with our Hygge Christmas event. We hope you enjoy spending time with your child through the outdoors\, including toasting marshmallows around the fire pit.
URL:https://allsaintsinfantsnormanton.co.uk/event/hygge-family-event/
CATEGORIES:Parents & Carers,Whole School
END:VEVENT
BEGIN:VEVENT
DTSTART;VALUE=DATE:20251205
DTEND;VALUE=DATE:20251206
DTSTAMP:20260420T011406
CREATED:20250904T140102Z
LAST-MODIFIED:20250904T140102Z
UID:14206-1764892800-1764979199@allsaintsinfantsnormanton.co.uk
SUMMARY:Nursery Nativity
DESCRIPTION:10.30am for morning children \n2.30pm for afternoon children \nThis will take place in All Saints Church. Parents and families welcome to join us.
URL:https://allsaintsinfantsnormanton.co.uk/event/nursery-nativity-2/
CATEGORIES:Nursery,Parents & Carers
END:VEVENT
BEGIN:VEVENT
DTSTART;TZID=Europe/London:20251204T090000
DTEND;TZID=Europe/London:20251204T093000
DTSTAMP:20260420T011406
CREATED:20250904T135931Z
LAST-MODIFIED:20250904T135931Z
UID:14203-1764838800-1764840600@allsaintsinfantsnormanton.co.uk
SUMMARY:The Bees (Mrs Carroll) class worship
DESCRIPTION:9am in the school hall. Parents and families welcome. This will be linked to Christingle.
URL:https://allsaintsinfantsnormanton.co.uk/event/the-bees-mrs-carroll-class-worship/
CATEGORIES:EYFS,Parents & Carers
END:VEVENT
BEGIN:VEVENT
DTSTART;TZID=Europe/London:20250115T120000
DTEND;TZID=Europe/London:20250115T123000
DTSTAMP:20260420T011406
CREATED:20250108T223050Z
LAST-MODIFIED:20250108T223050Z
UID:13721-1736942400-1736944200@allsaintsinfantsnormanton.co.uk
SUMMARY:Lunchtime Choir Club
DESCRIPTION:
URL:https://allsaintsinfantsnormanton.co.uk/event/lunchtime-choir-club/
CATEGORIES:Choir
END:VEVENT
BEGIN:VEVENT
DTSTART;VALUE=DATE:20251203
DTEND;VALUE=DATE:20251204
DTSTAMP:20260420T011406
CREATED:20250904T135612Z
LAST-MODIFIED:20250904T135612Z
UID:14200-1764720000-1764806399@allsaintsinfantsnormanton.co.uk
SUMMARY:Year 1 Christmas Town Council party
DESCRIPTION:
URL:https://allsaintsinfantsnormanton.co.uk/event/year-1-christmas-town-council-party/
CATEGORIES:Year 1
END:VEVENT
BEGIN:VEVENT
DTSTART;VALUE=DATE:20251201
DTEND;VALUE=DATE:20251202
DTSTAMP:20260420T011406
CREATED:20250904T135511Z
LAST-MODIFIED:20250904T135511Z
UID:14197-1764547200-1764633599@allsaintsinfantsnormanton.co.uk
SUMMARY:Decorating the school Christmas tree
DESCRIPTION:We will be joining as a school family to decorate our school Christmas trees.
URL:https://allsaintsinfantsnormanton.co.uk/event/decorating-the-school-christmas-tree-3/
CATEGORIES:Whole School
END:VEVENT
BEGIN:VEVENT
DTSTART;TZID=Europe/London:20251128T090000
DTEND;TZID=Europe/London:20251128T093000
DTSTAMP:20260420T011406
CREATED:20250904T134926Z
LAST-MODIFIED:20250904T134926Z
UID:14194-1764320400-1764322200@allsaintsinfantsnormanton.co.uk
SUMMARY:Turtles (Mrs Anderson & Miss Ballance) class worship
DESCRIPTION:9am in the school hall. Parents/ families welcome to join us. The worship will be linked to Advent.
URL:https://allsaintsinfantsnormanton.co.uk/event/turtles-mrs-anderson-miss-ballance-class-worship/
CATEGORIES:EYFS
END:VEVENT
BEGIN:VEVENT
DTSTART;TZID=Europe/London:20250115T120000
DTEND;TZID=Europe/London:20250115T123000
DTSTAMP:20260420T011406
CREATED:20250108T223050Z
LAST-MODIFIED:20250108T223050Z
UID:13721-1736942400-1736944200@allsaintsinfantsnormanton.co.uk
SUMMARY:Lunchtime Choir Club
DESCRIPTION:
URL:https://allsaintsinfantsnormanton.co.uk/event/lunchtime-choir-club/
CATEGORIES:Choir
END:VEVENT
BEGIN:VEVENT
DTSTART;TZID=Europe/London:20250115T120000
DTEND;TZID=Europe/London:20250115T123000
DTSTAMP:20260420T011406
CREATED:20250108T223050Z
LAST-MODIFIED:20250108T223050Z
UID:13721-1736942400-1736944200@allsaintsinfantsnormanton.co.uk
SUMMARY:Lunchtime Choir Club
DESCRIPTION:
URL:https://allsaintsinfantsnormanton.co.uk/event/lunchtime-choir-club/
CATEGORIES:Choir
END:VEVENT
BEGIN:VEVENT
DTSTART;TZID=Europe/London:20251117T080000
DTEND;TZID=Europe/London:20251121T170000
DTSTAMP:20260420T011406
CREATED:20250904T134700Z
LAST-MODIFIED:20250904T134700Z
UID:14192-1763366400-1763744400@allsaintsinfantsnormanton.co.uk
SUMMARY:Art week
DESCRIPTION:
URL:https://allsaintsinfantsnormanton.co.uk/event/art-week/
CATEGORIES:Whole School
END:VEVENT
BEGIN:VEVENT
DTSTART;VALUE=DATE:20251114
DTEND;VALUE=DATE:20251115
DTSTAMP:20260420T011406
CREATED:20250904T134508Z
LAST-MODIFIED:20250904T134508Z
UID:14189-1763078400-1763164799@allsaintsinfantsnormanton.co.uk
SUMMARY:Class newsletters sent home
DESCRIPTION:
URL:https://allsaintsinfantsnormanton.co.uk/event/class-newsletters-sent-home-5/
CATEGORIES:Whole School
END:VEVENT
BEGIN:VEVENT
DTSTART;TZID=Europe/London:20251113T090000
DTEND;TZID=Europe/London:20251113T093000
DTSTAMP:20260420T011406
CREATED:20250904T115607Z
LAST-MODIFIED:20250904T115607Z
UID:14187-1763024400-1763026200@allsaintsinfantsnormanton.co.uk
SUMMARY:The Koalas (Mrs Bond) class worship
DESCRIPTION:9am in the school hall. Parents and families welcome to join us.
URL:https://allsaintsinfantsnormanton.co.uk/event/the-koalas-mrs-bond-class-worship/
CATEGORIES:Parents & Carers,Year 1
END:VEVENT
BEGIN:VEVENT
DTSTART;TZID=Europe/London:20250115T120000
DTEND;TZID=Europe/London:20250115T123000
DTSTAMP:20260420T011406
CREATED:20250108T223050Z
LAST-MODIFIED:20250108T223050Z
UID:13721-1736942400-1736944200@allsaintsinfantsnormanton.co.uk
SUMMARY:Lunchtime Choir Club
DESCRIPTION:
URL:https://allsaintsinfantsnormanton.co.uk/event/lunchtime-choir-club/
CATEGORIES:Choir
END:VEVENT
BEGIN:VEVENT
DTSTART;TZID=Europe/London:20251112T084500
DTEND;TZID=Europe/London:20251112T091500
DTSTAMP:20260420T011406
CREATED:20250904T114945Z
LAST-MODIFIED:20250904T114945Z
UID:14181-1762937100-1762938900@allsaintsinfantsnormanton.co.uk
SUMMARY:Year 1 Phonics Drop in Session
DESCRIPTION:Year 1 parents are invited to come along to our phonics session to watch how this is delivered in Year 1. This will be at 8.45am in the Year 1 classrooms.
URL:https://allsaintsinfantsnormanton.co.uk/event/year-1-phonics-drop-in-session/
CATEGORIES:Parents & Carers,Year 1
END:VEVENT
BEGIN:VEVENT
DTSTART;VALUE=DATE:20251112
DTEND;VALUE=DATE:20251113
DTSTAMP:20260420T011406
CREATED:20250904T115134Z
LAST-MODIFIED:20250904T115134Z
UID:14184-1762905600-1762991999@allsaintsinfantsnormanton.co.uk
SUMMARY:School nursing visiting school for flu vaccinations
DESCRIPTION:
URL:https://allsaintsinfantsnormanton.co.uk/event/school-nursing-visiting-school-for-flu-vaccinations/
CATEGORIES:Whole School
END:VEVENT
BEGIN:VEVENT
DTSTART;TZID=Europe/London:20251111T090000
DTEND;TZID=Europe/London:20251111T093000
DTSTAMP:20260420T011406
CREATED:20250904T114641Z
LAST-MODIFIED:20250904T114641Z
UID:14178-1762851600-1762853400@allsaintsinfantsnormanton.co.uk
SUMMARY:The Polar Bears (Mrs Dixon) class worship
DESCRIPTION:9am in the school hall. Parents and family members welcome. This worship will be to mark Remembrance Day.
URL:https://allsaintsinfantsnormanton.co.uk/event/the-polar-bears-mrs-dixon-class-worship/
CATEGORIES:Parents & Carers,Year 2
END:VEVENT
BEGIN:VEVENT
DTSTART;VALUE=DATE:20251106
DTEND;VALUE=DATE:20251107
DTSTAMP:20260420T011406
CREATED:20250904T113944Z
LAST-MODIFIED:20250904T113944Z
UID:14175-1762387200-1762473599@allsaintsinfantsnormanton.co.uk
SUMMARY:Diwali workshops
DESCRIPTION:Artventurers will be visiting school to lead our Diwali workshops for our children in Upper Foundation Stage.
URL:https://allsaintsinfantsnormanton.co.uk/event/diwali-workshops/
CATEGORIES:EYFS
END:VEVENT
BEGIN:VEVENT
DTSTART;TZID=Europe/London:20250115T120000
DTEND;TZID=Europe/London:20250115T123000
DTSTAMP:20260420T011406
CREATED:20250108T223050Z
LAST-MODIFIED:20250108T223050Z
UID:13721-1736942400-1736944200@allsaintsinfantsnormanton.co.uk
SUMMARY:Lunchtime Choir Club
DESCRIPTION:
URL:https://allsaintsinfantsnormanton.co.uk/event/lunchtime-choir-club/
CATEGORIES:Choir
END:VEVENT
BEGIN:VEVENT
DTSTART;TZID=Europe/London:20251104T090000
DTEND;TZID=Europe/London:20251104T093000
DTSTAMP:20260420T011406
CREATED:20250904T113737Z
LAST-MODIFIED:20250904T113737Z
UID:14168-1762246800-1762248600@allsaintsinfantsnormanton.co.uk
SUMMARY:The Flamingos (Miss Dutton) class worship
DESCRIPTION:9am in the school hall. Parents and families welcome to join us.
URL:https://allsaintsinfantsnormanton.co.uk/event/the-flamingos-miss-dutton-class-worship/
CATEGORIES:Parents & Carers,Year 1
END:VEVENT
BEGIN:VEVENT
DTSTART;VALUE=DATE:20251104
DTEND;VALUE=DATE:20251105
DTSTAMP:20260420T011406
CREATED:20250904T113833Z
LAST-MODIFIED:20250904T113833Z
UID:14171-1762214400-1762300799@allsaintsinfantsnormanton.co.uk
SUMMARY:Diwali workshop
DESCRIPTION:Artventurers will be visiting school to lead our Diwali workshops with our children in Upper Foundation Stage.
URL:https://allsaintsinfantsnormanton.co.uk/event/diwali-workshop/
CATEGORIES:EYFS
END:VEVENT
BEGIN:VEVENT
DTSTART;VALUE=DATE:20251103
DTEND;VALUE=DATE:20251104
DTSTAMP:20260420T011406
CREATED:20250904T113641Z
LAST-MODIFIED:20250904T113641Z
UID:14165-1762128000-1762214399@allsaintsinfantsnormanton.co.uk
SUMMARY:All Saints Day Service
DESCRIPTION:We will be joining as a school family to celebrate All Saints Day. Our new children will receive their bible from school and church as a welcome to our school.
URL:https://allsaintsinfantsnormanton.co.uk/event/all-saints-day-service/
CATEGORIES:Whole School
END:VEVENT
BEGIN:VEVENT
DTSTART;TZID=Europe/London:20250115T120000
DTEND;TZID=Europe/London:20250115T123000
DTSTAMP:20260420T011406
CREATED:20250108T223050Z
LAST-MODIFIED:20250108T223050Z
UID:13721-1736942400-1736944200@allsaintsinfantsnormanton.co.uk
SUMMARY:Lunchtime Choir Club
DESCRIPTION:
URL:https://allsaintsinfantsnormanton.co.uk/event/lunchtime-choir-club/
CATEGORIES:Choir
END:VEVENT
BEGIN:VEVENT
DTSTART;VALUE=DATE:20251024
DTEND;VALUE=DATE:20251025
DTSTAMP:20260420T011406
CREATED:20250904T113526Z
LAST-MODIFIED:20250904T113526Z
UID:14163-1761264000-1761350399@allsaintsinfantsnormanton.co.uk
SUMMARY:Upper Foundation Stage walk
DESCRIPTION:
URL:https://allsaintsinfantsnormanton.co.uk/event/upper-foundation-stage-walk/
CATEGORIES:EYFS
END:VEVENT
BEGIN:VEVENT
DTSTART;TZID=Europe/London:20251023T090000
DTEND;TZID=Europe/London:20251023T093000
DTSTAMP:20260420T011406
CREATED:20250904T113428Z
LAST-MODIFIED:20250904T113428Z
UID:14160-1761210000-1761211800@allsaintsinfantsnormanton.co.uk
SUMMARY:Pandas (Miss McDermott) class worship
DESCRIPTION:9am in the school hall. Parents and families welcome to join us.
URL:https://allsaintsinfantsnormanton.co.uk/event/pandas-miss-mcdermott-class-worship/
CATEGORIES:Parents & Carers,Year 2
END:VEVENT
BEGIN:VEVENT
DTSTART;TZID=Europe/London:20250115T120000
DTEND;TZID=Europe/London:20250115T123000
DTSTAMP:20260420T011406
CREATED:20250108T223050Z
LAST-MODIFIED:20250108T223050Z
UID:13721-1736942400-1736944200@allsaintsinfantsnormanton.co.uk
SUMMARY:Lunchtime Choir Club
DESCRIPTION:
URL:https://allsaintsinfantsnormanton.co.uk/event/lunchtime-choir-club/
CATEGORIES:Choir
END:VEVENT
BEGIN:VEVENT
DTSTART;VALUE=DATE:20251022
DTEND;VALUE=DATE:20251023
DTSTAMP:20260420T011406
CREATED:20250904T113303Z
LAST-MODIFIED:20250904T113303Z
UID:14157-1761091200-1761177599@allsaintsinfantsnormanton.co.uk
SUMMARY:School Choir will be singing in Church
DESCRIPTION:
URL:https://allsaintsinfantsnormanton.co.uk/event/school-choir-will-be-singing-in-church/
CATEGORIES:Choir
END:VEVENT
BEGIN:VEVENT
DTSTART;VALUE=DATE:20251022
DTEND;VALUE=DATE:20251023
DTSTAMP:20260420T011406
CREATED:20250904T113216Z
LAST-MODIFIED:20250904T113216Z
UID:14154-1761091200-1761177599@allsaintsinfantsnormanton.co.uk
SUMMARY:Pupil progress meetings for Year 1 parents
DESCRIPTION:All Year 1 parents can make an appointment to discuss with their child’s progress with their class teacher. Booking arrangements will be sent nearer the time.
URL:https://allsaintsinfantsnormanton.co.uk/event/pupil-progress-meetings-for-year-1-parents/
CATEGORIES:Parents & Carers,Year 1
END:VEVENT
BEGIN:VEVENT
DTSTART;TZID=Europe/London:20251021T090000
DTEND;TZID=Europe/London:20251021T093000
DTSTAMP:20260420T011406
CREATED:20250904T112611Z
LAST-MODIFIED:20250904T112627Z
UID:14146-1761037200-1761039000@allsaintsinfantsnormanton.co.uk
SUMMARY:The Giraffes' (Mrs Burton) class worship
DESCRIPTION:9am in the school hall. Parents and families welcome to join us.
URL:https://allsaintsinfantsnormanton.co.uk/event/the-giraffes-mrs-burton-class-worship/
CATEGORIES:EYFS
END:VEVENT
BEGIN:VEVENT
DTSTART;VALUE=DATE:20251021
DTEND;VALUE=DATE:20251022
DTSTAMP:20260420T011406
CREATED:20250904T112852Z
LAST-MODIFIED:20250904T112852Z
UID:14150-1761004800-1761091199@allsaintsinfantsnormanton.co.uk
SUMMARY:Pupil progress meetings for Year 2 parents
DESCRIPTION:All Year 2 parents can make an appointment to come and see their child’s class teacher to take about the progress they are making.
URL:https://allsaintsinfantsnormanton.co.uk/event/pupil-progress-meetings-for-year-2-parents/
CATEGORIES:Year 2
END:VEVENT
BEGIN:VEVENT
DTSTART;TZID=Europe/London:20251017T120000
DTEND;TZID=Europe/London:20251017T123000
DTSTAMP:20260420T011406
CREATED:20250904T112455Z
LAST-MODIFIED:20250904T112455Z
UID:14143-1760702400-1760704200@allsaintsinfantsnormanton.co.uk
SUMMARY:Reading Ambassador meeting
DESCRIPTION:This will take place at lunchtime.
URL:https://allsaintsinfantsnormanton.co.uk/event/reading-ambassador-meeting/
CATEGORIES:Year 2
END:VEVENT
END:VCALENDAR