BEGIN:VCALENDAR
VERSION:2.0
PRODID:-//Normanton All Saints CE (A) Infant School - ECPv6.15.20//NONSGML v1.0//EN
CALSCALE:GREGORIAN
METHOD:PUBLISH
X-WR-CALNAME:Normanton All Saints CE (A) Infant School
X-ORIGINAL-URL:https://allsaintsinfantsnormanton.co.uk
X-WR-CALDESC:Events for Normanton All Saints CE (A) Infant School
REFRESH-INTERVAL;VALUE=DURATION:PT1H
X-Robots-Tag:noindex
X-PUBLISHED-TTL:PT1H
BEGIN:VTIMEZONE
TZID:Europe/London
BEGIN:DAYLIGHT
TZOFFSETFROM:+0000
TZOFFSETTO:+0100
TZNAME:BST
DTSTART:20230326T010000
END:DAYLIGHT
BEGIN:STANDARD
TZOFFSETFROM:+0100
TZOFFSETTO:+0000
TZNAME:GMT
DTSTART:20231029T010000
END:STANDARD
BEGIN:DAYLIGHT
TZOFFSETFROM:+0000
TZOFFSETTO:+0100
TZNAME:BST
DTSTART:20240331T010000
END:DAYLIGHT
BEGIN:STANDARD
TZOFFSETFROM:+0100
TZOFFSETTO:+0000
TZNAME:GMT
DTSTART:20241027T010000
END:STANDARD
BEGIN:DAYLIGHT
TZOFFSETFROM:+0000
TZOFFSETTO:+0100
TZNAME:BST
DTSTART:20250330T010000
END:DAYLIGHT
BEGIN:STANDARD
TZOFFSETFROM:+0100
TZOFFSETTO:+0000
TZNAME:GMT
DTSTART:20251026T010000
END:STANDARD
END:VTIMEZONE
BEGIN:VEVENT
DTSTART;TZID=Europe/London:20240904T080000
DTEND;TZID=Europe/London:20240904T170000
DTSTAMP:20260420T024918
CREATED:20240709T102428Z
LAST-MODIFIED:20240709T102428Z
UID:12868-1725436800-1725469200@allsaintsinfantsnormanton.co.uk
SUMMARY:School reopens for all children
DESCRIPTION:Y1 and Y2 children school opens 8:35am – 3:15pm \nUpper Foundation Stage children to attend from 9am – 11:30am
URL:https://allsaintsinfantsnormanton.co.uk/event/school-reopens-for-all-children-2/
CATEGORIES:Whole School
END:VEVENT
BEGIN:VEVENT
DTSTART;VALUE=DATE:20240903
DTEND;VALUE=DATE:20240904
DTSTAMP:20260420T024918
CREATED:20240709T101312Z
LAST-MODIFIED:20240709T101312Z
UID:12860-1725321600-1725407999@allsaintsinfantsnormanton.co.uk
SUMMARY:School closed
DESCRIPTION:
URL:https://allsaintsinfantsnormanton.co.uk/event/school-closed-2/
CATEGORIES:Whole School
END:VEVENT
BEGIN:VEVENT
DTSTART;VALUE=DATE:20240902
DTEND;VALUE=DATE:20240903
DTSTAMP:20260420T024918
CREATED:20240709T101247Z
LAST-MODIFIED:20240709T101247Z
UID:12858-1725235200-1725321599@allsaintsinfantsnormanton.co.uk
SUMMARY:School closed
DESCRIPTION:
URL:https://allsaintsinfantsnormanton.co.uk/event/school-closed/
CATEGORIES:Whole School
END:VEVENT
BEGIN:VEVENT
DTSTART;TZID=Europe/London:20240611T151500
DTEND;TZID=Europe/London:20240611T161500
DTSTAMP:20260420T024918
CREATED:20240607T121521Z
LAST-MODIFIED:20240725T201300Z
UID:12790-1718118900-1718122500@allsaintsinfantsnormanton.co.uk
SUMMARY:Summer 2 Multi-Sports club 3:15 to 4:15
DESCRIPTION:
URL:https://allsaintsinfantsnormanton.co.uk/event/summer-2-multi-sports-club/
LOCATION:Main school
CATEGORIES:Year 1,Year 2
END:VEVENT
BEGIN:VEVENT
DTSTART;TZID=Europe/London:20240719T091500
DTEND;TZID=Europe/London:20240719T100000
DTSTAMP:20260420T024918
CREATED:20240418T102906Z
LAST-MODIFIED:20240418T102906Z
UID:12658-1721380500-1721383200@allsaintsinfantsnormanton.co.uk
SUMMARY:Year 2 Leavers Service 9:15 in Church
DESCRIPTION:
URL:https://allsaintsinfantsnormanton.co.uk/event/year-2-leavers-service-915-in-church/
CATEGORIES:Year 2
END:VEVENT
BEGIN:VEVENT
DTSTART;VALUE=DATE:20240719
DTEND;VALUE=DATE:20240720
DTSTAMP:20260420T024918
CREATED:20240418T102959Z
LAST-MODIFIED:20240418T102959Z
UID:12660-1721347200-1721433599@allsaintsinfantsnormanton.co.uk
SUMMARY:School closes at 2pm for Summer Holidays
DESCRIPTION:
URL:https://allsaintsinfantsnormanton.co.uk/event/school-closes-at-2pm-for-summer-holidays/
CATEGORIES:Whole School
END:VEVENT
BEGIN:VEVENT
DTSTART;TZID=Europe/London:20240611T151500
DTEND;TZID=Europe/London:20240611T161500
DTSTAMP:20260420T024918
CREATED:20240607T121521Z
LAST-MODIFIED:20240725T201300Z
UID:12790-1718118900-1718122500@allsaintsinfantsnormanton.co.uk
SUMMARY:Summer 2 Multi-Sports club 3:15 to 4:15
DESCRIPTION:
URL:https://allsaintsinfantsnormanton.co.uk/event/summer-2-multi-sports-club/
LOCATION:Main school
CATEGORIES:Year 1,Year 2
END:VEVENT
BEGIN:VEVENT
DTSTART;TZID=Europe/London:20240711T174500
DTEND;TZID=Europe/London:20240711T190000
DTSTAMP:20260420T024918
CREATED:20240418T102215Z
LAST-MODIFIED:20240418T102215Z
UID:12653-1720719900-1720724400@allsaintsinfantsnormanton.co.uk
SUMMARY:Year 2 End of Year Show - Church
DESCRIPTION:Doors open 5:45pm \nShow starts 6pm
URL:https://allsaintsinfantsnormanton.co.uk/event/year-2-end-of-year-show-church/
CATEGORIES:Year 2
END:VEVENT
BEGIN:VEVENT
DTSTART;VALUE=DATE:20240710
DTEND;VALUE=DATE:20240711
DTSTAMP:20260420T024918
CREATED:20240418T102047Z
LAST-MODIFIED:20240418T102047Z
UID:12651-1720569600-1720655999@allsaintsinfantsnormanton.co.uk
SUMMARY:Nursery closed all day - transition day
DESCRIPTION:
URL:https://allsaintsinfantsnormanton.co.uk/event/nursery-closed-all-day-transition-day/
CATEGORIES:Nursery
END:VEVENT
BEGIN:VEVENT
DTSTART;VALUE=DATE:20240710
DTEND;VALUE=DATE:20240711
DTSTAMP:20260420T024918
CREATED:20240418T101925Z
LAST-MODIFIED:20240418T101925Z
UID:12648-1720569600-1720655999@allsaintsinfantsnormanton.co.uk
SUMMARY:Transition day for pupils moving to next year group
DESCRIPTION:
URL:https://allsaintsinfantsnormanton.co.uk/event/transition-day-for-pupils-moving-to-next-year-group/
CATEGORIES:Nursery,Whole School
END:VEVENT
BEGIN:VEVENT
DTSTART;TZID=Europe/London:20240611T151500
DTEND;TZID=Europe/London:20240611T161500
DTSTAMP:20260420T024918
CREATED:20240607T121521Z
LAST-MODIFIED:20240725T201300Z
UID:12790-1718118900-1718122500@allsaintsinfantsnormanton.co.uk
SUMMARY:Summer 2 Multi-Sports club 3:15 to 4:15
DESCRIPTION:
URL:https://allsaintsinfantsnormanton.co.uk/event/summer-2-multi-sports-club/
LOCATION:Main school
CATEGORIES:Year 1,Year 2
END:VEVENT
BEGIN:VEVENT
DTSTART;TZID=Europe/London:20240611T151500
DTEND;TZID=Europe/London:20240611T160000
DTSTAMP:20260420T024918
CREATED:20240418T093123Z
LAST-MODIFIED:20240604T142303Z
UID:12627-1718118900-1718121600@allsaintsinfantsnormanton.co.uk
SUMMARY:Board Game Club - 3:15 to 4:00
DESCRIPTION:
URL:https://allsaintsinfantsnormanton.co.uk/event/board-game-club-315-to-415/
CATEGORIES:EYFS,Key stage 1
END:VEVENT
BEGIN:VEVENT
DTSTART;TZID=Europe/London:20240703T090000
DTEND;TZID=Europe/London:20240703T093000
DTSTAMP:20260420T024918
CREATED:20240418T101754Z
LAST-MODIFIED:20240418T101754Z
UID:12646-1719997200-1719999000@allsaintsinfantsnormanton.co.uk
SUMMARY:Tigers Class Collective Worship 9am
DESCRIPTION:
URL:https://allsaintsinfantsnormanton.co.uk/event/tigers-class-collective-worship-9am/
END:VEVENT
BEGIN:VEVENT
DTSTART;TZID=Europe/London:20240611T151500
DTEND;TZID=Europe/London:20240611T161500
DTSTAMP:20260420T024918
CREATED:20240607T121521Z
LAST-MODIFIED:20240725T201300Z
UID:12790-1718118900-1718122500@allsaintsinfantsnormanton.co.uk
SUMMARY:Summer 2 Multi-Sports club 3:15 to 4:15
DESCRIPTION:
URL:https://allsaintsinfantsnormanton.co.uk/event/summer-2-multi-sports-club/
LOCATION:Main school
CATEGORIES:Year 1,Year 2
END:VEVENT
BEGIN:VEVENT
DTSTART;TZID=Europe/London:20240611T151500
DTEND;TZID=Europe/London:20240611T160000
DTSTAMP:20260420T024918
CREATED:20240418T093123Z
LAST-MODIFIED:20240604T142303Z
UID:12627-1718118900-1718121600@allsaintsinfantsnormanton.co.uk
SUMMARY:Board Game Club - 3:15 to 4:00
DESCRIPTION:
URL:https://allsaintsinfantsnormanton.co.uk/event/board-game-club-315-to-415/
CATEGORIES:EYFS,Key stage 1
END:VEVENT
BEGIN:VEVENT
DTSTART;TZID=Europe/London:20240627T150000
DTEND;TZID=Europe/London:20240627T153000
DTSTAMP:20260420T024918
CREATED:20240418T101101Z
LAST-MODIFIED:20240418T101101Z
UID:12644-1719500400-1719502200@allsaintsinfantsnormanton.co.uk
SUMMARY:Year 2 Writing Presentation for Parents 3pm
DESCRIPTION:
URL:https://allsaintsinfantsnormanton.co.uk/event/year-2-writing-presentation-for-parents-3pm/
CATEGORIES:Year 2
END:VEVENT
BEGIN:VEVENT
DTSTART;TZID=Europe/London:20240626T090000
DTEND;TZID=Europe/London:20240626T093000
DTSTAMP:20260420T024918
CREATED:20240418T100933Z
LAST-MODIFIED:20240418T100933Z
UID:12641-1719392400-1719394200@allsaintsinfantsnormanton.co.uk
SUMMARY:Leopards Class Collective Worship 9am
DESCRIPTION:
URL:https://allsaintsinfantsnormanton.co.uk/event/leopards-class-collective-worship-9am/
END:VEVENT
BEGIN:VEVENT
DTSTART;TZID=Europe/London:20240611T151500
DTEND;TZID=Europe/London:20240611T161500
DTSTAMP:20260420T024918
CREATED:20240607T121521Z
LAST-MODIFIED:20240725T201300Z
UID:12790-1718118900-1718122500@allsaintsinfantsnormanton.co.uk
SUMMARY:Summer 2 Multi-Sports club 3:15 to 4:15
DESCRIPTION:
URL:https://allsaintsinfantsnormanton.co.uk/event/summer-2-multi-sports-club/
LOCATION:Main school
CATEGORIES:Year 1,Year 2
END:VEVENT
BEGIN:VEVENT
DTSTART;TZID=Europe/London:20240611T151500
DTEND;TZID=Europe/London:20240611T160000
DTSTAMP:20260420T024918
CREATED:20240418T093123Z
LAST-MODIFIED:20240604T142303Z
UID:12627-1718118900-1718121600@allsaintsinfantsnormanton.co.uk
SUMMARY:Board Game Club - 3:15 to 4:00
DESCRIPTION:
URL:https://allsaintsinfantsnormanton.co.uk/event/board-game-club-315-to-415/
CATEGORIES:EYFS,Key stage 1
END:VEVENT
BEGIN:VEVENT
DTSTART;TZID=Europe/London:20240625T090000
DTEND;TZID=Europe/London:20240625T093000
DTSTAMP:20260420T024918
CREATED:20240418T100843Z
LAST-MODIFIED:20240418T100843Z
UID:12639-1719306000-1719307800@allsaintsinfantsnormanton.co.uk
SUMMARY:Giraffes Class Collective Worship 9am
DESCRIPTION:
URL:https://allsaintsinfantsnormanton.co.uk/event/giraffes-class-collective-worship-9am/
END:VEVENT
BEGIN:VEVENT
DTSTART;TZID=Europe/London:20240619T090000
DTEND;TZID=Europe/London:20240619T093000
DTSTAMP:20260420T024918
CREATED:20240418T100654Z
LAST-MODIFIED:20240418T100654Z
UID:12637-1718787600-1718789400@allsaintsinfantsnormanton.co.uk
SUMMARY:Penguins Class Collective Worship 9am
DESCRIPTION:
URL:https://allsaintsinfantsnormanton.co.uk/event/penguins-class-collective-worship-9am/
END:VEVENT
BEGIN:VEVENT
DTSTART;TZID=Europe/London:20240611T151500
DTEND;TZID=Europe/London:20240611T161500
DTSTAMP:20260420T024918
CREATED:20240607T121521Z
LAST-MODIFIED:20240725T201300Z
UID:12790-1718118900-1718122500@allsaintsinfantsnormanton.co.uk
SUMMARY:Summer 2 Multi-Sports club 3:15 to 4:15
DESCRIPTION:
URL:https://allsaintsinfantsnormanton.co.uk/event/summer-2-multi-sports-club/
LOCATION:Main school
CATEGORIES:Year 1,Year 2
END:VEVENT
BEGIN:VEVENT
DTSTART;TZID=Europe/London:20240611T151500
DTEND;TZID=Europe/London:20240611T160000
DTSTAMP:20260420T024918
CREATED:20240418T093123Z
LAST-MODIFIED:20240604T142303Z
UID:12627-1718118900-1718121600@allsaintsinfantsnormanton.co.uk
SUMMARY:Board Game Club - 3:15 to 4:00
DESCRIPTION:
URL:https://allsaintsinfantsnormanton.co.uk/event/board-game-club-315-to-415/
CATEGORIES:EYFS,Key stage 1
END:VEVENT
BEGIN:VEVENT
DTSTART;TZID=Europe/London:20240611T151500
DTEND;TZID=Europe/London:20240611T161500
DTSTAMP:20260420T024918
CREATED:20240607T121521Z
LAST-MODIFIED:20240725T201300Z
UID:12790-1718118900-1718122500@allsaintsinfantsnormanton.co.uk
SUMMARY:Summer 2 Multi-Sports club 3:15 to 4:15
DESCRIPTION:
URL:https://allsaintsinfantsnormanton.co.uk/event/summer-2-multi-sports-club/
LOCATION:Main school
CATEGORIES:Year 1,Year 2
END:VEVENT
BEGIN:VEVENT
DTSTART;TZID=Europe/London:20240611T151500
DTEND;TZID=Europe/London:20240611T160000
DTSTAMP:20260420T024918
CREATED:20240418T093123Z
LAST-MODIFIED:20240604T142303Z
UID:12627-1718118900-1718121600@allsaintsinfantsnormanton.co.uk
SUMMARY:Board Game Club - 3:15 to 4:00
DESCRIPTION:
URL:https://allsaintsinfantsnormanton.co.uk/event/board-game-club-315-to-415/
CATEGORIES:EYFS,Key stage 1
END:VEVENT
BEGIN:VEVENT
DTSTART;VALUE=DATE:20240607
DTEND;VALUE=DATE:20240608
DTSTAMP:20260420T024918
CREATED:20240418T095038Z
LAST-MODIFIED:20240418T095038Z
UID:12630-1717718400-1717804799@allsaintsinfantsnormanton.co.uk
SUMMARY:Year 1 Seaside trip
DESCRIPTION:
URL:https://allsaintsinfantsnormanton.co.uk/event/year-1-seaside-trip/
CATEGORIES:Year 1
END:VEVENT
BEGIN:VEVENT
DTSTART;TZID=Europe/London:20240604T140000
DTEND;TZID=Europe/London:20240604T150000
DTSTAMP:20260420T024918
CREATED:20240522T092545Z
LAST-MODIFIED:20240522T092545Z
UID:12770-1717509600-1717513200@allsaintsinfantsnormanton.co.uk
SUMMARY:Sleep information session for parents and carers
DESCRIPTION:This session will take place in main school. \nPlease advise school reception if you would like to attend the session.
URL:https://allsaintsinfantsnormanton.co.uk/event/sleep-information-session-for-parents-and-carers/
LOCATION:Main school
CATEGORIES:Parents & Carers
END:VEVENT
BEGIN:VEVENT
DTSTART;VALUE=DATE:20240603
DTEND;VALUE=DATE:20240604
DTSTAMP:20260420T024918
CREATED:20240418T092822Z
LAST-MODIFIED:20240418T092822Z
UID:12625-1717372800-1717459199@allsaintsinfantsnormanton.co.uk
SUMMARY:School opens at 8:35
DESCRIPTION:
URL:https://allsaintsinfantsnormanton.co.uk/event/school-opens-at-835/
CATEGORIES:Whole School
END:VEVENT
BEGIN:VEVENT
DTSTART;VALUE=DATE:20240524
DTEND;VALUE=DATE:20240525
DTSTAMP:20260420T024918
CREATED:20240417T153704Z
LAST-MODIFIED:20240417T153814Z
UID:12621-1716508800-1716595199@allsaintsinfantsnormanton.co.uk
SUMMARY:School closes 3:15pm for half term
DESCRIPTION:
URL:https://allsaintsinfantsnormanton.co.uk/event/year-2-reading-cafe-after-school/
END:VEVENT
BEGIN:VEVENT
DTSTART;TZID=Europe/London:20240417T151500
DTEND;TZID=Europe/London:20240417T161500
DTSTAMP:20260420T024918
CREATED:20240417T153400Z
LAST-MODIFIED:20240418T093455Z
UID:12613-1713366900-1713370500@allsaintsinfantsnormanton.co.uk
SUMMARY:Hepp DT club 3:15pm - 4:15pm
DESCRIPTION:
URL:https://allsaintsinfantsnormanton.co.uk/event/hepp-dt-club-315pm-415pm/
END:VEVENT
END:VCALENDAR